{"text_format":"1","workbook":"xlsx","n_sheets":20,"sheets":["Nastavení","Seznam účastníků","NŽH","NŽD","MŽH","MŽD","SŽH","SŽD","MDH","MDD","SDH","MA","MB","ŽB","ŽC","D+D","Krycí list","Výsledková listina","Pohár","Zdroj"],"not_rendered":{"charts":0,"images":73,"macros":1,"external_links":0,"defined_names":23,"comments":1,"pivot_tables":0},"unopened":[],"bounds":{"document_bytes":16777216,"sheet_cells":100000,"rows_first":2000,"rows_last":500,"rows_between":2000,"halvings":0,"cell_chars":16384,"cell_head_chars":4096},"cells_cut":0,"cells_raw":0,"read":"whole","date_system":"1900"}

{"sheet":"Nastavení","index":0,"n_rows":33,"n_cols":32,"rows_kept":33,"cut":false,"hidden":false,"merged":[]}
[]
[]
[]
[]
[]
[]
[]
[]
[]
[]
[]
[null,"Nepřesouvat a neměnit!!!!"]
[null,null,null,null,null,null,null,null,null,null,null,null,null,null,null,null,null,{"$f":"B14","v":"V"},{"$f":"B15","v":"S"},{"$f":"B16","v":"Oa"},{"$f":"B17","v":"Om"},{"$f":"B18","v":"LL"},{"$f":"B19","v":"U"},{"$f":"B20","v":"M"},{"$f":"B21","v":"P"},{"$f":"B22","v":"TT"},{"$f":"B23","v":"D"},{"$f":"B24","v":"KPČ"},"MKPČ","Body","Trať"]
[null,"V","odhad vzdálenosti",null,null,"PM","postup z mistrovství",null,null,"NŽH","Nejmladší žáci",null,"<10 let",{"$f":"CONCATENATE(J14,\"-\",K14,\"(\",M14,\")\")","v":"NŽH-Nejmladší žáci(<10 let)"},null,null,null,"Ne","Ne","Ne","Ano","Ano","Ano","Ano","ANO","Ano","Ano","Ano","Ne","Ano","M","Modrá trať"]
[null,"S","stavba stanu",null,null,"PP","postup z kraje",null,null,"NŽD","Nejmladší žákyně",null,"<10 let","NŽD-Nejmladší žákyně(<10 let)",null,null,null,"Ne","Ne","Ne","Ano","Ano","Ano","Ano","ANO","Ano","Ano","Ano","Ne","Ano","M","Modrá trať"]
[null,"Oa","azimuty",null,null,"TM","součet trestných minut",null,null,"MŽH","Mladší žáci",null,"11-12 let","MŽH-Mladší žáci(11-12 let)",null,null,null,66,"Ne","Ano","Ano","Ano","Ano","Ano","ANO","Ano","Ano","Ano","Ne","Ano","M","Bílá trať"]
[null,"Om","orientace mapy",null,null,null,null,null,null,"MŽD","Mladší žákyně",null,"11-12 let","MŽD-Mladší žákyně(11-12 let)",null,null,null,66,"Ne","Ano","Ano","Ano","Ano","Ano","ANO","Ano","Ano","Ano","Ne","Ano","M","Bílá trať"]
[null,"LL","lanová lávka",null,null,"mistrovské závody ČR",null,null,null,"SŽH","Starší žáci",null,"13-14 let","SŽH-Starší žáci(13-14 let)",null,null,null,66,"Ne","Ano","Ano","Ano","Ano","Ano","ANO","Ano","Ano","Ano","Ne","Ano","M","Bílá trať"]
[null,"U","uzly",null,null,"závod I. Stupně \"Český pohár\"",null,null,null,"SŽD","Starší žákyně",null,"13-14 let","SŽD-Starší žákyně(13-14 let)",null,null,null,66,"Ne","Ano","Ano","Ano","Ano","Ano","ANO","Ano","Ano","Ano","Ne","Ano","M","Bílá trať"]
[null,"M","míček",null,null,"závod II. stupně \"Mistrovství kraje\"",null,null,null,"MDH","Mladší dorostenci",null,"15-16 let","MDH-Mladší dorostenci(15-16 let)",null,null,null,197,"Ne","Ano","Ano","Ano","Ano","Ano","ANO","Ano","Ano","Ano","Ne","Ano","B","Červená trať"]
[null,"P","plížení",null,null,"závod III. stupně \"Krajský pohár\"",null,null,null,"MDD","Mladší dorostenky",null,"15-16 let","MDD-Mladší dorostenky(15-16 let)",null,null,null,197,"Ne","Ano","Ano","Ano","Ano","Ano","ANO","Ano","Ano","Ano","Ne","Ano","B","Červená trať"]
[null,"TT","turistické a topologické značky",null,null,"oddílový přebor / smíšené dvojice",null,null,null,"SDH","Starší dorostenci",null,"17-18 let","SDH-Starší dorostenci(17-18 let)",null,null,null,197,"Ne","Ano","Ano","Ano","Ano","Ano","ANO","Ano","Ano","Ano","Ne","Ano","B","Červená trať"]
[null,"D","dřeviny",null,null,null,null,null,null,"SDD","Starší dorostenky",null,"17-18 let","SDD-Starší dorostenky(17-18 let)",null,null,null,197,"Ne","Ano","Ano","Ano","Ano","Ano","ANO","Ano","Ano","Ano","Ne","Ano","B","Červená trať"]
[null,"KPČ","kulturně poznávací činnost",null,null,null,null,null,null,"MA","Muži A",null,"19-35 let","MA-Muži A(19-35 let)",null,null,null,197,"Ne","Ano","Ano","Ano","Ano","Ano","ANO","Ano","Ano","Ano","Ne","Ano","C","Červená trať"]
[null,"MKPČ","mezinárodní kulturně poznávací činnost",null,null,null,null,null,null,"ŽA","Ženy A",null,"19-35 let","ŽA-Ženy A(19-35 let)",null,null,null,197,"Ne","Ano","Ano","Ano","Ano","Ano","ANO","Ano","Ano","Ano","Ne","Ano","C","Červená trať"]
[null,null,null,null,null,null,null,null,null,"MB","Muži B",null,">36 let","MB-Muži B(>36 let)",null,null,null,197,"Ne","Ano","Ano","Ano","Ano","Ano","ANO","Ano","Ano","Ano","Ne","Ano","C","Červená trať"]
[null,null,null,null,null,null,null,null,null,"ŽB","Ženy B",null,">36 let","ŽB-Ženy B(>36 let)",null,null,null,197,"Ne","Ano","Ano","Ano","Ano","Ano","ANO","Ano","Ano","Ano","Ne","Ano","C","Červená trať"]
[null,null,"verze V24 ke dni 06. 03. 2025",null,null,null,null,null,null,"MC","Muži C",null,">50 let",{"$f":"CONCATENATE(J28,\"-\",K28,\"(\",M28,\")\")","v":"MC-Muži C(>50 let)"},null,null,null,197,"Ne","Ano","Ano","Ano","Ano","Ano","ANO","Ano","Ano","Ano","Ne","Ano","C","Červená trať"]
[null,null,"verze V25 ke dni 18. 05. 2025",null,null,null,null,null,null,"ŽC","Ženy C",null,">50 let","ŽC-Ženy C(>50 let)",null,null,null,197,"Ne","Ano","Ano","Ano","Ano","Ano","ANO","Ano","Ano","Ano","Ne","Ano","C","Červená trať"]
[null,null,"verze V26 ke dni 11. 06. 2025",null,null,null,null,null,null,"D+D","Dítě s doprovodem",null,null,"D+D-Dítě s doprovodem",null,null,null,"Ne","Ne","Ne","Ano","Ano","Ano","Ano","ANO","Ano","Ano","Ano","Ne","Ne",null,"nepočítají se body"]
[null,null,null,null,null,null,null,null,null,"DVOJ","Dvojice",null,null,"DVOJ-Dvojice",null,null,null,"Ne","Ne","Ne","Ano","Ano","Ano","Ano","ANO","Ano","Ano","Ano","Ne","Ne",null,"nepočítají se body"]
[null,null,null,null,null,null,null,null,null,"Z","Začátečníci -modrá trať",null,null,"Z-Mimo soutěž-modrá trať",null,null,null,"Ne","Ne","Ne","Ano","Ano","Ano","Ano","ANO","Ano","Ano","Ano","Ne","Ne",null,"nepočítají se body"]
[null,null,null,null,null,null,null,null,null,"MS-B","Mimo soutěž-bílá trať",null,null,"MS-B-Mimo soutěž-bílá trať",null,null,null,"Ne","Ne","Ne","Ano","Ano","Ano","Ano","ANO","Ano","Ano","Ano","Ne","Ne",null,"nepočítají se body"]

{"sheet":"Seznam účastníků","index":1,"n_rows":100,"n_cols":11,"rows_kept":100,"cut":false,"hidden":false,"merged":[[0,1,0,5],[1,1,1,5],[2,1,2,5],[3,1,3,3]]}
["Závod:","Mistrovství Olomouckého kraje 2026"]
["Datum:","11. 4. 2026"]
["Místo:","Velký Újezd"]
["Typ závodu:","závod II. stupně \"Mistrovství kraje\""]
["Body:","MK"]
[]
["Startovní\nčíslo","Kat.","Přijmení","Jméno","Ročník","Oddíl","Přijmení","Jméno","Ročník","Oddíl","Startovní čas"]
[101,"ŽC","Vilhelmová ","Eva",1948,"MSK Orlová",null,null,null,null,"0:01:00"]
[102,"D+D","Vlková","Amálie",2016,"Tk Brontíci DDM Litovel","Kusá","Kateřina",2016,"Tk Brontíci DDM Litovel","0:02:00"]
[103,"ŽC","Brlková","Ivana",1975,"KČT Velký Újezd",null,null,null,null,"0:03:00"]
[104,"MŽD","Mlčochová","Juiie",2014,"TOM ŽK Palkovice",null,null,null,null,"0:04:00"]
[105,"ŽB","Vilhelmová ","Pavlína",1980,"Město Libavá",null,null,null,null,"0:05:00"]
[106,"MŽD","Kubalová","Anežka",2014,"TOM ŽK Palkovice",null,null,null,null,"0:06:00"]
[107,"MA","Pokorný","Lukáš",2003,"TOM Tuři Olomouc",null,null,null,null,"0:07:00"]
[108,"MŽH","Horváth","Michal",2015,"TOM Svišti Bohumín",null,null,null,null,"0:08:00"]
[109,"MA","Vošáhlík","Michal",2006,"MSK Orlová",null,null,null,null,"0:09:00"]
[110,"MŽH","Vlk ","Jáchym",2014,"Tk Brontíci DDM Litovel",null,null,null,null,"0:10:00"]
[111,"MA","Ondika","Patrick",1999,"Práčata Orlová",null,null,null,null,"0:11:00"]
[112,"MŽH","Kusý","Vojtěch",2014,"Tk Brontíci DDM Litovel",null,null,null,null,"0:12:00"]
[113,"MB","Paluš","Lukáš",1980,"TOM Horolezčata Brno",null,null,null,null,"0:13:00"]
[114,"NŽD","Palušová","Darina",2016,"TOM Horolezčata Brno",null,null,null,null,"0:14:00"]
[115,"MB","Chýlek","Ladislav",1977,"TOM ŽK Palkovice",null,null,null,null,"0:15:00"]
[116,"NŽD","Dobešová","Aneta",2016,"TOM ŽK Palkovice",null,null,null,null,"0:16:00"]
[117,"MB","Figura","Pavel",1984,"TOM Svišti Bohumín",null,null,null,null,"0:17:00"]
[118,"NŽD","Zowadová","Vendula",2016,"ZŠ Dětmarovice",null,null,null,null,"0:18:00"]
[119,"MDD","Cídlová","Jana",2010,"TOM Horolezčata Brno",null,null,null,null,"0:19:00"]
[120,"NŽH","Pacák ","David",2016,"Město Libavá",null,null,null,null,"0:20:00"]
[121,"MDD","Čepánová","Lada",2010,"TOM ŽK Palkovice",null,null,null,null,"0:21:00"]
[122,"NŽH","Kijonka","Oliver",2016,"ZŠ Dětmarovice",null,null,null,null,"0:22:00"]
[123,"MDD","Štrbíková","Kateřina",2011,"TOM Tuři Olomouc",null,null,null,null,"0:23:00"]
[124,"NŽH","Puk","Radek",2017,"TOM Svišti Bohumín",null,null,null,null,"0:24:00"]
[125,"MDH","Žiga","Sebastián",2011,"TOM Svišti Bohumín",null,null,null,null,"0:25:00"]
[126,"NŽH","Spratek","Matyáš",2017,"ZŠ Dětmarovice",null,null,null,null,"0:26:00"]
[127,"MDH","Grus","Dalibor",2010,"Tk Brontíci DDM Litovel",null,null,null,null,"0:27:00"]
[128,"NŽH","Puk","Marek",2017,"TOM Svišti Bohumín",null,null,null,null,"0:28:00"]
[129,"SDH","Sobotka","Vojtěch",2008,"TOM Tuři Olomouc",null,null,null,null,"0:29:00"]
[130,"SŽD","Špundová ","Zuzana",2012,"Tk Brontíci DDM Litovel",null,null,null,null,"0:30:00"]
[131,"SŽD","Zapletalová","Adéla",2012,"Tk Brontíci DDM Litovel",null,null,null,null,"0:31:00"]
[132,"ŽC","Fryštacká","Anna",1969,"KČT Velký Újezd",null,null,null,null,"0:33:00"]
[133,"SŽD","Šindelková","Šarlota",2012,"TOM Tuři Olomouc",null,null,null,null,"0:35:10"]
[134,"SŽH","Valenta","Ondřej",2012,"Tk Brontíci DDM Litovel",null,null,null,null,"0:37:00"]
[135,"SŽH","Paluš","Dominik",2012,"TOM Horolezčata Brno",null,null,null,null,"0:39:00"]
[136,"SŽH","Bílek","Daniel",2012,"TOM ŽK Palkovice",null,null,null,null,"0:41:00"]
[137,"SŽH","Navařík","Pavel",2013,"Tk Brontíci DDM Litovel",null,null,null,null,"0:43:00"]
[138,"SŽH","Jano","Julius",2012,"TOM Svišti Bohumín",null,null,null,null,"0:45:00"]
[139,"SŽH","Svoboda","Štěpán",2013,"Tk Brontíci DDM Litovel",null,null,null,null,"0:47:00"]
[]
[]
[]
[]
[]
[]
[]
[]
[]
[]
[]
[]
[]
[]
[]
[]
[]
[]
[]
[]
[]
[]
[]
[]
[]
[]
[]
[]
[]
[]
[]
[]
[]
[]
[]
[]
[]
[]
[]
[]
[null,null,null,null,null,null,null,null,null,null,"0:32:00"]
[null,null,null,null,null,null,null,null,null,null,"0:34:00"]
[null,null,null,null,null,null,null,null,null,null,"0:36:00"]
[null,null,null,null,null,null,null,null,null,null,"0:38:00"]
[null,null,null,null,null,null,null,null,null,null,"0:40:00"]
[null,null,null,null,null,null,null,null,null,null,"0:42:00"]
[null,null,null,null,null,null,null,null,null,null,"0:44:00"]
[null,null,null,null,null,null,null,null,null,null,"0:46:00"]
[null,null,null,null,null,null,null,null,null,null,"0:48:00"]
[null,null,null,null,null,null,null,null,null,null,"0:50:00"]
[null,null,null,null,null,null,null,null,null,null,"0:52:00"]
[null,null,null,null,null,null,null,null,null,null,"0:54:00"]
[null,null,null,null,null,null,null,null,null,null,"0:56:00"]
[null,null,null,null,null,null,null,null,null,null,"0:02:00"]

{"sheet":"NŽH","index":2,"n_rows":11,"n_cols":42,"rows_kept":11,"cut":false,"hidden":false,"merged":[[0,1,0,41],[3,1,3,41],[4,11,4,23],[4,27,4,33],[4,40,4,41]]}
[null,{"$f":"CONCATENATE('Seznam účastníků'!B1,\", \",'Seznam účastníků'!B2:C2,\" - \",'Seznam účastníků'!B3)","v":"Mistrovství Olomouckého kraje 2026, 11. 4. 2026 - Velký Újezd"}]
[]
[]
[null,"Nejmladší žáci (NŽH)"]
[null,null,null,null,null,null,null,null,null,null,null,"Trestné minuty",null,null,null,null,null,null,null,null,null,null,null,null,"Start","Cíl","V","Zdržení v sekundách",null,null,null,null,null,null,"Zdržení","Čas na trati","Výsledný čas","Body","VT","Postup","Diskvalifikace"]
[null,"Start. číslo","Pořadí","Přijmení","Jméno","Ročník","Oddíl","Přijmení","Jméno","Ročník","Oddíl",{"$f":"Nastavení!R13","v":"V"},{"$f":"Nastavení!S13","v":"S"},{"$f":"Nastavení!T13","v":"Oa"},{"$f":"Nastavení!U13","v":"Om"},{"$f":"Nastavení!V13","v":"LL"},{"$f":"Nastavení!W13","v":"U"},{"$f":"Nastavení!X13","v":"M"},{"$f":"Nastavení!Y13","v":"P"},{"$f":"Nastavení!Z13","v":"TT"},{"$f":"Nastavení!AA13","v":"D"},{"$f":"Nastavení!B24","v":"KPČ"},{"$f":"Nastavení!AE13","v":"Trať"},"TM",null,null,"[m]",{"$f":"L6","v":"V"},{"$f":"M6","v":"S"},{"$f":"O6","v":"Om"},{"$f":"P6","v":"LL"},{"$f":"Q6","v":"U"},{"$f":"R6","v":"M"},{"$f":"S6","v":"P"},null,null,null,null,null,null,null,"Důvod"]
[null,122,1,"Kijonka","Oliver",2016,"ZŠ Dětmarovice",null,null,null,null,"-","-","-","0","ok","0","1","0","2","1","1","","5","0:22:00","0:49:57","","-","-","0","0","0","0","00:17","0:00:17","0:27:57","0:32:40",100,"II.",null,"Ne",""]
[null,128,2,"Puk","Marek",2017,"TOM Svišti Bohumín",null,null,null,null,"-","-","-","0","ok","0","1","0","4","1","0","","6","0:28:00","0:55:35","","-","-","0","0","0","0","00:40","0:00:40","0:27:35","0:32:55",99.2,"II.",null,"Ne",""]
[null,126,3,"Spratek","Matyáš",2017,"ZŠ Dětmarovice",null,null,null,null,"-","-","-","0","ok","0","1","0","5","1","1","","8","0:26:00","0:57:16","","-","-","0","0","0","00:06","00:28","0:00:34","0:31:16","0:38:42",81.5,"III.",null,"Ne",""]
[null,124,4,"Puk","Radek",2017,"TOM Svišti Bohumín",null,null,null,null,"-","-","-","0","ok","2","1","0","5","1","1","","10","0:24:00","0:56:06","","-","-","0","0","0","0","0","0:00:00","0:32:06","0:42:06",71.099999999999994,null,null,"Ne",""]
[null,120,5,"Pacák ","David",2016,"Město Libavá",null,null,null,null,"-","-","-","0","ok","2","2","2","12","4","2","","24","0:20:00","0:48:48","","-","-","0","0","0","0","0","0:00:00","0:28:48","0:52:48",38.4,null,null,"Ne",""]

{"sheet":"NŽD","index":3,"n_rows":9,"n_cols":42,"rows_kept":9,"cut":false,"hidden":false,"merged":[[0,1,0,41],[3,1,3,41],[4,11,4,23],[4,27,4,33],[4,40,4,41]]}
[null,{"$f":"CONCATENATE('Seznam účastníků'!B1,\", \",'Seznam účastníků'!B2:C2,\" - \",'Seznam účastníků'!B3)","v":"Mistrovství Olomouckého kraje 2026, 11. 4. 2026 - Velký Újezd"}]
[]
[]
[null,"Nejmladší žákyně (NŽD)"]
[null,null,null,null,null,null,null,null,null,null,null,"Trestné minuty",null,null,null,null,null,null,null,null,null,null,null,null,"Start","Cíl","V","Zdržení v sekundách",null,null,null,null,null,null,"Zdržení","Čas na trati","Výsledný čas","Body","VT","Postup","Diskvalifikace"]
[null,"Start. číslo","Pořadí","Přijmení","Jméno","Ročník","Oddíl","Přijmení","Jméno","Ročník","Oddíl",{"$f":"Nastavení!R13","v":"V"},{"$f":"Nastavení!S13","v":"S"},{"$f":"Nastavení!T13","v":"Oa"},{"$f":"Nastavení!U13","v":"Om"},{"$f":"Nastavení!V13","v":"LL"},{"$f":"Nastavení!W13","v":"U"},{"$f":"Nastavení!X13","v":"M"},{"$f":"Nastavení!Y13","v":"P"},{"$f":"Nastavení!Z13","v":"TT"},{"$f":"Nastavení!AA13","v":"D"},{"$f":"Nastavení!B24","v":"KPČ"},{"$f":"Nastavení!AE13","v":"Trať"},"TM",null,null,"[m]",{"$f":"L6","v":"V"},{"$f":"M6","v":"S"},{"$f":"O6","v":"Om"},{"$f":"P6","v":"LL"},{"$f":"Q6","v":"U"},{"$f":"R6","v":"M"},{"$f":"S6","v":"P"},null,null,null,null,null,null,null,"Důvod"]
[null,114,1,"Palušová","Darina",2016,"TOM Horolezčata Brno",null,null,null,null,"-","-","-","0","ok","0","0","2","0","3","0","","5","0:14:00","0:39:00","","-","-","0","0","0","0","0","0:00:00","0:25:00","0:30:00",100,"II.",null,"Ne",""]
[null,116,2,"Dobešová","Aneta",2016,"TOM ŽK Palkovice",null,null,null,null,"-","-","-","0","ok","0","1","0","3","3","2","","9","0:16:00","0:52:00","","-","-","0","0","0","0","0","0:00:00","0:36:00","0:45:00",50,null,null,"Ne",""]
[null,118,3,"Zowadová","Vendula",2016,"ZŠ Dětmarovice",null,null,null,null,"-","-","-","0","ok","0","2","2","11","1","7","","23","0:18:00","0:45:39","","-","-","0","0","0","0","0","0:00:00","0:27:39","0:50:39",31.2,null,null,"Ne",""]

{"sheet":"MŽH","index":4,"n_rows":9,"n_cols":42,"rows_kept":9,"cut":false,"hidden":false,"merged":[[0,1,0,41],[3,1,3,41],[4,11,4,23],[4,27,4,33],[4,40,4,41]]}
[null,{"$f":"CONCATENATE('Seznam účastníků'!B1,\", \",'Seznam účastníků'!B2:C2,\" - \",'Seznam účastníků'!B3)","v":"Mistrovství Olomouckého kraje 2026, 11. 4. 2026 - Velký Újezd"}]
[]
[]
[null,"Mladší žáci (MŽH)"]
[null,null,null,null,null,null,null,null,null,null,null,"Trestné minuty",null,null,null,null,null,null,null,null,null,null,null,null,"Start","Cíl","V","Zdržení v sekundách",null,null,null,null,null,null,"Zdržení","Čas na trati","Výsledný čas","Body","VT","Postup","Diskvalifikace"]
[null,"Start. číslo","Pořadí","Přijmení","Jméno","Ročník","Oddíl","Přijmení","Jméno","Ročník","Oddíl",{"$f":"Nastavení!R13","v":"V"},{"$f":"Nastavení!S13","v":"S"},{"$f":"Nastavení!T13","v":"Oa"},{"$f":"Nastavení!U13","v":"Om"},{"$f":"Nastavení!V13","v":"LL"},{"$f":"Nastavení!W13","v":"U"},{"$f":"Nastavení!X13","v":"M"},{"$f":"Nastavení!Y13","v":"P"},{"$f":"Nastavení!Z13","v":"TT"},{"$f":"Nastavení!AA13","v":"D"},{"$f":"Nastavení!B24","v":"KPČ"},{"$f":"Nastavení!AE13","v":"Trať"},"TM",null,null,"[m]",{"$f":"L6","v":"V"},{"$f":"M6","v":"S"},{"$f":"O6","v":"Om"},{"$f":"P6","v":"LL"},{"$f":"Q6","v":"U"},{"$f":"R6","v":"M"},{"$f":"S6","v":"P"},null,null,null,null,null,null,null,"Důvod"]
[null,110,1,"Vlk ","Jáchym",2014,"Tk Brontíci DDM Litovel",null,null,null,null,"1","-","ok","0","ok","2","3","2","8","3","4","","23","0:10:00","0:54:18","50","0","-","0","0","0","0","00:16","0:00:16","0:44:18","1:07:02",100,"II.",null,"Ne",""]
[null,112,2,"Kusý","Vojtěch",2014,"Tk Brontíci DDM Litovel",null,null,null,null,"0","-","10","0","ok","0","2","2","8","6","7","","35","0:12:00","0:47:40","75","0","-","0","0","0","00:15","0","0:00:15","0:35:40","1:10:25",95,"II.",null,"Ne",""]
[null,108,3,"Horváth","Michal",2015,"TOM Svišti Bohumín",null,null,null,null,"1","-","10","0","ok","2","0","1","13","6","7","","40","0:08:00","0:47:35","80","0","-","0","0","0","0","00:39","0:00:39","0:39:35","1:18:56",82.2,"III.",null,"Ne",""]

{"sheet":"MŽD","index":5,"n_rows":8,"n_cols":42,"rows_kept":8,"cut":false,"hidden":false,"merged":[[0,1,0,41],[3,1,3,41],[4,11,4,23],[4,27,4,33],[4,40,4,41]]}
[null,{"$f":"CONCATENATE('Seznam účastníků'!B1,\", \",'Seznam účastníků'!B2:C2,\" - \",'Seznam účastníků'!B3)","v":"Mistrovství Olomouckého kraje 2026, 11. 4. 2026 - Velký Újezd"}]
[]
[]
[null,"Mladší žákyně (MŽD)"]
[null,null,null,null,null,null,null,null,null,null,null,"Trestné minuty",null,null,null,null,null,null,null,null,null,null,null,null,"Start","Cíl","V","Zdržení v sekundách",null,null,null,null,null,null,"Zdržení","Čas na trati","Výsledný čas","Body","VT","Postup","Diskvalifikace"]
[null,"Start. číslo","Pořadí","Přijmení","Jméno","Ročník","Oddíl","Přijmení","Jméno","Ročník","Oddíl",{"$f":"Nastavení!R13","v":"V"},{"$f":"Nastavení!S13","v":"S"},{"$f":"Nastavení!T13","v":"Oa"},{"$f":"Nastavení!U13","v":"Om"},{"$f":"Nastavení!V13","v":"LL"},{"$f":"Nastavení!W13","v":"U"},{"$f":"Nastavení!X13","v":"M"},{"$f":"Nastavení!Y13","v":"P"},{"$f":"Nastavení!Z13","v":"TT"},{"$f":"Nastavení!AA13","v":"D"},{"$f":"Nastavení!B24","v":"KPČ"},{"$f":"Nastavení!AE13","v":"Trať"},"TM",null,null,"[m]",{"$f":"L6","v":"V"},{"$f":"M6","v":"S"},{"$f":"O6","v":"Om"},{"$f":"P6","v":"LL"},{"$f":"Q6","v":"U"},{"$f":"R6","v":"M"},{"$f":"S6","v":"P"},null,null,null,null,null,null,null,"Důvod"]
[null,104,1,"Mlčochová","Juiie",2014,"TOM ŽK Palkovice",null,null,null,null,"2","-","ok","0","ok","0","1","2","1","2","2","","10","0:04:00","0:29:57","100","0","-","0","0","0","0","01:12","0:01:12","0:25:57","0:34:45",100,null,null,"Ne",""]
[null,106,2,"Kubalová","Anežka",2014,"TOM ŽK Palkovice",null,null,null,null,"2","-","ok","0","ok","0","3","0","0","1","1","","7","0:06:00","0:39:12","35","0","-","0","0","0","0","00:38","0:00:38","0:33:12","0:39:34",86.1,null,null,"Ne",""]

{"sheet":"SŽH","index":6,"n_rows":12,"n_cols":42,"rows_kept":12,"cut":false,"hidden":false,"merged":[[0,1,0,41],[3,1,3,41],[4,11,4,23],[4,27,4,33],[4,40,4,41]]}
[null,{"$f":"CONCATENATE('Seznam účastníků'!B1,\", \",'Seznam účastníků'!B2:C2,\" - \",'Seznam účastníků'!B3)","v":"Mistrovství Olomouckého kraje 2026, 11. 4. 2026 - Velký Újezd"}]
[]
[]
[null,"Starší žáci (SŽH)"]
[null,null,null,null,null,null,null,null,null,null,null,"Trestné minuty",null,null,null,null,null,null,null,null,null,null,null,null,"Start","Cíl","V","Zdržení v sekundách",null,null,null,null,null,null,"Zdržení","Čas na trati","Výsledný čas","Body","VT","Postup","Diskvalifikace"]
[null,"Start. číslo","Pořadí","Přijmení","Jméno","Ročník","Oddíl","Přijmení","Jméno","Ročník","Oddíl",{"$f":"Nastavení!R13","v":"V"},{"$f":"Nastavení!S13","v":"S"},{"$f":"Nastavení!T13","v":"Oa"},{"$f":"Nastavení!U13","v":"Om"},{"$f":"Nastavení!V13","v":"LL"},{"$f":"Nastavení!W13","v":"U"},{"$f":"Nastavení!X13","v":"M"},{"$f":"Nastavení!Y13","v":"P"},{"$f":"Nastavení!Z13","v":"TT"},{"$f":"Nastavení!AA13","v":"D"},{"$f":"Nastavení!B24","v":"KPČ"},{"$f":"Nastavení!AE13","v":"Trať"},"TM",null,null,"[m]",{"$f":"L6","v":"V"},{"$f":"M6","v":"S"},{"$f":"O6","v":"Om"},{"$f":"P6","v":"LL"},{"$f":"Q6","v":"U"},{"$f":"R6","v":"M"},{"$f":"S6","v":"P"},null,null,null,null,null,null,null,"Důvod"]
[null,135,1,"Paluš","Dominik",2012,"TOM Horolezčata Brno",null,null,null,null,"1","-","ok","0","ok","0","1","0","2","3","1","","8","0:39:00","1:03:51","50","0","-","0","0","0","0","0","0:00:00","0:24:51","0:32:51",100,"II.",null,"Ne",""]
[null,134,2,"Valenta","Ondřej",2012,"Tk Brontíci DDM Litovel",null,null,null,null,"1","-","ok","0","ok","0","1","0","1","3","1","","7","0:37:00","1:06:07","80","0","-","0","0","0","0","0","0:00:00","0:29:07","0:36:07",90.1,"II.",null,"Ne",""]
[null,138,3,"Jano","Julius",2012,"TOM Svišti Bohumín",null,null,null,null,"2","-","ok","0","ok","0","3","1","1","1","8","","16","0:45:00","1:08:02","46","0","-","0","0","0","0","0","0:00:00","0:23:02","0:39:02",81.2,"III.",null,"Ne",""]
[null,137,4,"Navařík","Pavel",2013,"Tk Brontíci DDM Litovel",null,null,null,null,"2","-","ok","0","ok","0","2","1","3","6","9","","23","0:43:00","1:11:04","11","0","-","0","0","0","0","0","0:00:00","0:28:04","0:51:04",44.5,null,null,"Ne",""]
[null,136,5,"Bílek","Daniel",2012,"TOM ŽK Palkovice",null,null,null,null,"1","-","ok","0","ok","2","3","2","4","2","6","","20","0:41:00","1:16:10","50","0","-","0","0","0","0","0","0:00:00","0:35:10","0:55:10",32.1,null,null,"Ne",""]
[null,139,6,"Svoboda","Štěpán",2013,"Tk Brontíci DDM Litovel",null,null,null,null,"2","-","10","0","ok","0","1","1","6","6","9","","35","0:47:00","1:19:27","150","0","-","0","0","0","0","0","0:00:00","0:32:27","1:07:27",0,null,null,"Ne",""]

{"sheet":"SŽD","index":7,"n_rows":9,"n_cols":42,"rows_kept":9,"cut":false,"hidden":false,"merged":[[0,1,0,41],[3,1,3,41],[4,11,4,23],[4,27,4,33],[4,40,4,41]]}
[null,{"$f":"CONCATENATE('Seznam účastníků'!B1,\", \",'Seznam účastníků'!B2:C2,\" - \",'Seznam účastníků'!B3)","v":"Mistrovství Olomouckého kraje 2026, 11. 4. 2026 - Velký Újezd"}]
[]
[]
[null,"Starší žákyně (SŽD)"]
[null,null,null,null,null,null,null,null,null,null,null,"Trestné minuty",null,null,null,null,null,null,null,null,null,null,null,null,"Start","Cíl","V","Zdržení v sekundách",null,null,null,null,null,null,"Zdržení","Čas na trati","Výsledný čas","Body","VT","Postup","Diskvalifikace"]
[null,"Start. číslo","Pořadí","Přijmení","Jméno","Ročník","Oddíl","Přijmení","Jméno","Ročník","Oddíl",{"$f":"Nastavení!R13","v":"V"},{"$f":"Nastavení!S13","v":"S"},{"$f":"Nastavení!T13","v":"Oa"},{"$f":"Nastavení!U13","v":"Om"},{"$f":"Nastavení!V13","v":"LL"},{"$f":"Nastavení!W13","v":"U"},{"$f":"Nastavení!X13","v":"M"},{"$f":"Nastavení!Y13","v":"P"},{"$f":"Nastavení!Z13","v":"TT"},{"$f":"Nastavení!AA13","v":"D"},{"$f":"Nastavení!B24","v":"KPČ"},{"$f":"Nastavení!AE13","v":"Trať"},"TM",null,null,"[m]",{"$f":"L6","v":"V"},{"$f":"M6","v":"S"},{"$f":"O6","v":"Om"},{"$f":"P6","v":"LL"},{"$f":"Q6","v":"U"},{"$f":"R6","v":"M"},{"$f":"S6","v":"P"},null,null,null,null,null,null,null,"Důvod"]
[null,133,1,"Šindelková","Šarlota",2012,"TOM Tuři Olomouc",null,null,null,null,"2","-","ok","0","ok","0","1","0","3","4","1","","11","0:35:10","0:58:23","35","0","-","0","0","0","0","0","0:00:00","0:23:13","0:34:13",100,"II.",null,"Ne",""]
[null,131,2,"Zapletalová","Adéla",2012,"Tk Brontíci DDM Litovel",null,null,null,null,"2","-","10","0","ok","0","3","0","7","4","4","","30","0:31:00","1:07:07","25","0","-","0","0","0","0","01:28","0:01:28","0:36:07","1:04:39",11.1,null,null,"Ne",""]
[null,130,3,"Špundová ","Zuzana",2012,"Tk Brontíci DDM Litovel",null,null,null,null,"2","-","ok","0","ok","0","3","2","11","5","8","","31","0:30:00","1:07:10","20","0","-","0","0","0","0","00:38","0:00:38","0:37:10","1:07:32",2.6,null,null,"Ne",""]

{"sheet":"MDH","index":8,"n_rows":8,"n_cols":42,"rows_kept":8,"cut":false,"hidden":false,"merged":[[0,1,0,41],[3,1,3,41],[4,11,4,23],[4,27,4,33],[4,40,4,41]]}
[null,{"$f":"CONCATENATE('Seznam účastníků'!B1,\", \",'Seznam účastníků'!B2:C2,\" - \",'Seznam účastníků'!B3)","v":"Mistrovství Olomouckého kraje 2026, 11. 4. 2026 - Velký Újezd"}]
[]
[]
[null,"Mladší dorostenci (MDH)"]
[null,null,null,null,null,null,null,null,null,null,null,"Trestné minuty",null,null,null,null,null,null,null,null,null,null,null,null,"Start","Cíl","V","Zdržení v sekundách",null,null,null,null,null,null,"Zdržení","Čas na trati","Výsledný čas","Body","VT","Postup","Diskvalifikace"]
[null,"Start. číslo","Pořadí","Přijmení","Jméno","Ročník","Oddíl","Přijmení","Jméno","Ročník","Oddíl",{"$f":"Nastavení!R13","v":"V"},{"$f":"Nastavení!S13","v":"S"},{"$f":"Nastavení!T13","v":"Oa"},{"$f":"Nastavení!U13","v":"Om"},{"$f":"Nastavení!V13","v":"LL"},{"$f":"Nastavení!W13","v":"U"},{"$f":"Nastavení!X13","v":"M"},{"$f":"Nastavení!Y13","v":"P"},{"$f":"Nastavení!Z13","v":"TT"},{"$f":"Nastavení!AA13","v":"D"},{"$f":"Nastavení!B24","v":"KPČ"},{"$f":"Nastavení!AE13","v":"Trať"},"TM",null,null,"[m]",{"$f":"L6","v":"V"},{"$f":"M6","v":"S"},{"$f":"O6","v":"Om"},{"$f":"P6","v":"LL"},{"$f":"Q6","v":"U"},{"$f":"R6","v":"M"},{"$f":"S6","v":"P"},null,null,null,null,null,null,null,"Důvod"]
[null,125,1,"Žiga","Sebastián",2011,"TOM Svišti Bohumín",null,null,null,null,"2","-","ok","0","ok","2","3","0","7","3","6","","23","0:25:00","1:15:39","100","0","-","0","0","0","0","00:51","0:00:51","0:50:39","1:12:48",100,null,null,"Ne",""]
[null,127,2,"Grus","Dalibor",2010,"Tk Brontíci DDM Litovel",null,null,null,null,"2","-","ok","0","ok","2","3","2","12","4","7","","32","0:27:00","1:28:35","36","0","-","0","0","0","0","00:11","0:00:11","1:01:35","1:33:24",71.7,null,null,"Ne",""]

{"sheet":"MDD","index":9,"n_rows":9,"n_cols":42,"rows_kept":9,"cut":false,"hidden":false,"merged":[[0,1,0,41],[3,1,3,41],[4,11,4,23],[4,27,4,33],[4,40,4,41]]}
[null,{"$f":"CONCATENATE('Seznam účastníků'!B1,\", \",'Seznam účastníků'!B2:C2,\" - \",'Seznam účastníků'!B3)","v":"Mistrovství Olomouckého kraje 2026, 11. 4. 2026 - Velký Újezd"}]
[]
[]
[null,"Mladší dorostenky (MDD)"]
[null,null,null,null,null,null,null,null,null,null,null,"Trestné minuty",null,null,null,null,null,null,null,null,null,null,null,null,"Start","Cíl","V","Zdržení v sekundách",null,null,null,null,null,null,"Zdržení","Čas na trati","Výsledný čas","Body","VT","Postup","Diskvalifikace"]
[null,"Start. číslo","Pořadí","Přijmení","Jméno","Ročník","Oddíl","Přijmení","Jméno","Ročník","Oddíl",{"$f":"Nastavení!R13","v":"V"},{"$f":"Nastavení!S13","v":"S"},{"$f":"Nastavení!T13","v":"Oa"},{"$f":"Nastavení!U13","v":"Om"},{"$f":"Nastavení!V13","v":"LL"},{"$f":"Nastavení!W13","v":"U"},{"$f":"Nastavení!X13","v":"M"},{"$f":"Nastavení!Y13","v":"P"},{"$f":"Nastavení!Z13","v":"TT"},{"$f":"Nastavení!AA13","v":"D"},{"$f":"Nastavení!B24","v":"KPČ"},{"$f":"Nastavení!AE13","v":"Trať"},"TM",null,null,"[m]",{"$f":"L6","v":"V"},{"$f":"M6","v":"S"},{"$f":"O6","v":"Om"},{"$f":"P6","v":"LL"},{"$f":"Q6","v":"U"},{"$f":"R6","v":"M"},{"$f":"S6","v":"P"},null,null,null,null,null,null,null,"Důvod"]
[null,119,1,"Cídlová","Jana",2010,"TOM Horolezčata Brno",null,null,null,null,"2","-","ok","0","ok","0","2","1","0","1","0","","6","0:19:00","0:53:26","120","0","-","0","0","0","0","0","0:00:00","0:34:26","0:40:26",100,"II.",null,"Ne",""]
[null,121,2,"Čepánová","Lada",2010,"TOM ŽK Palkovice",null,null,null,null,"1","-","ok","0","ok","0","3","1","0","4","0","","9","0:21:00","0:59:22","150","0","-","0","0","0","0","0","0:00:00","0:38:22","0:47:22",82.9,"III.",null,"Ne",""]
[null,123,3,"Štrbíková","Kateřina",2011,"TOM Tuři Olomouc",null,null,null,null,"2","-","ok","0","ok","0","3","0","2","4","0","","11","0:23:00","1:10:49","285","0","-","0","00:25","0","0","0","0:00:25","0:47:49","0:58:24",55.6,null,null,"Ne",""]

{"sheet":"SDH","index":10,"n_rows":7,"n_cols":42,"rows_kept":7,"cut":false,"hidden":false,"merged":[[0,1,0,41],[3,1,3,41],[4,11,4,23],[4,27,4,33],[4,40,4,41]]}
[null,{"$f":"CONCATENATE('Seznam účastníků'!B1,\", \",'Seznam účastníků'!B2:C2,\" - \",'Seznam účastníků'!B3)","v":"Mistrovství Olomouckého kraje 2026, 11. 4. 2026 - Velký Újezd"}]
[]
[]
[null,"Starší dorostenci (SDH)"]
[null,null,null,null,null,null,null,null,null,null,null,"Trestné minuty",null,null,null,null,null,null,null,null,null,null,null,null,"Start","Cíl","V","Zdržení v sekundách",null,null,null,null,null,null,"Zdržení","Čas na trati","Výsledný čas","Body","VT","Postup","Diskvalifikace"]
[null,"Start. číslo","Pořadí","Přijmení","Jméno","Ročník","Oddíl","Přijmení","Jméno","Ročník","Oddíl",{"$f":"Nastavení!R13","v":"V"},{"$f":"Nastavení!S13","v":"S"},{"$f":"Nastavení!T13","v":"Oa"},{"$f":"Nastavení!U13","v":"Om"},{"$f":"Nastavení!V13","v":"LL"},{"$f":"Nastavení!W13","v":"U"},{"$f":"Nastavení!X13","v":"M"},{"$f":"Nastavení!Y13","v":"P"},{"$f":"Nastavení!Z13","v":"TT"},{"$f":"Nastavení!AA13","v":"D"},{"$f":"Nastavení!B24","v":"KPČ"},{"$f":"Nastavení!AE13","v":"Trať"},"TM",null,null,"[m]",{"$f":"L6","v":"V"},{"$f":"M6","v":"S"},{"$f":"O6","v":"Om"},{"$f":"P6","v":"LL"},{"$f":"Q6","v":"U"},{"$f":"R6","v":"M"},{"$f":"S6","v":"P"},null,null,null,null,null,null,null,"Důvod"]
[null,129,1,"Sobotka","Vojtěch",2008,"TOM Tuři Olomouc",null,null,null,null,"2","-","ok","0","ok","0","3","0","1","3","0","","9","0:29:00","1:04:41","45","0","-","0","0","0","0","01:09","0:01:09","0:35:41","0:43:32",100,null,null,"Ne",""]

{"sheet":"MA","index":11,"n_rows":9,"n_cols":42,"rows_kept":9,"cut":false,"hidden":false,"merged":[[0,1,0,41],[3,1,3,41],[4,11,4,23],[4,27,4,33],[4,40,4,41]]}
[null,{"$f":"CONCATENATE('Seznam účastníků'!B1,\", \",'Seznam účastníků'!B2:C2,\" - \",'Seznam účastníků'!B3)","v":"Mistrovství Olomouckého kraje 2026, 11. 4. 2026 - Velký Újezd"}]
[]
[]
[null,"Muži A (MA)"]
[null,null,null,null,null,null,null,null,null,null,null,"Trestné minuty",null,null,null,null,null,null,null,null,null,null,null,null,"Start","Cíl","V","Zdržení v sekundách",null,null,null,null,null,null,"Zdržení","Čas na trati","Výsledný čas","Body","VT","Postup","Diskvalifikace"]
[null,"Start. číslo","Pořadí","Přijmení","Jméno","Ročník","Oddíl","Přijmení","Jméno","Ročník","Oddíl",{"$f":"Nastavení!R13","v":"V"},{"$f":"Nastavení!S13","v":"S"},{"$f":"Nastavení!T13","v":"Oa"},{"$f":"Nastavení!U13","v":"Om"},{"$f":"Nastavení!V13","v":"LL"},{"$f":"Nastavení!W13","v":"U"},{"$f":"Nastavení!X13","v":"M"},{"$f":"Nastavení!Y13","v":"P"},{"$f":"Nastavení!Z13","v":"TT"},{"$f":"Nastavení!AA13","v":"D"},{"$f":"Nastavení!B24","v":"KPČ"},{"$f":"Nastavení!AE13","v":"Trať"},"TM",null,null,"[m]",{"$f":"L6","v":"V"},{"$f":"M6","v":"S"},{"$f":"O6","v":"Om"},{"$f":"P6","v":"LL"},{"$f":"Q6","v":"U"},{"$f":"R6","v":"M"},{"$f":"S6","v":"P"},null,null,null,null,null,null,null,"Důvod"]
[null,111,1,"Ondika","Patrick",1999,"Práčata Orlová",null,null,null,null,"0","-","ok","0","ok","0","1","0","0","3","1","","5","0:11:00","0:41:13","160","0","-","0","0","0","0","0","0:00:00","0:30:13","0:35:13",100,"II.",null,"Ne",""]
[null,109,2,"Vošáhlík","Michal",2006,"MSK Orlová",null,null,null,null,"0","-","ok","0","ok","0","2","0","1","1","0","","4","0:09:00","0:43:26","179","0","-","0","0","0","0","01:10","0:01:10","0:34:26","0:37:16",94.2,"II.",null,"Ne",""]
[null,107,3,"Pokorný","Lukáš",2003,"TOM Tuři Olomouc",null,null,null,null,"0","-","ok","0","ok","0","1","-","0","3","2","","6","0:07:00","0:50:12","230","0","-","0","0","0","0","-","0:00:47","0:43:12","0:48:25",62.5,null,null,"Ne",""]

{"sheet":"MB","index":12,"n_rows":9,"n_cols":42,"rows_kept":9,"cut":false,"hidden":false,"merged":[[0,1,0,41],[3,1,3,41],[4,11,4,23],[4,27,4,33],[4,40,4,41]]}
[null,{"$f":"CONCATENATE('Seznam účastníků'!B1,\", \",'Seznam účastníků'!B2:C2,\" - \",'Seznam účastníků'!B3)","v":"Mistrovství Olomouckého kraje 2026, 11. 4. 2026 - Velký Újezd"}]
[]
[]
[null,"Muži B (MB)"]
[null,null,null,null,null,null,null,null,null,null,null,"Trestné minuty",null,null,null,null,null,null,null,null,null,null,null,null,"Start","Cíl","V","Zdržení v sekundách",null,null,null,null,null,null,"Zdržení","Čas na trati","Výsledný čas","Body","VT","Postup","Diskvalifikace"]
[null,"Start. číslo","Pořadí","Přijmení","Jméno","Ročník","Oddíl","Přijmení","Jméno","Ročník","Oddíl",{"$f":"Nastavení!R13","v":"V"},{"$f":"Nastavení!S13","v":"S"},{"$f":"Nastavení!T13","v":"Oa"},{"$f":"Nastavení!U13","v":"Om"},{"$f":"Nastavení!V13","v":"LL"},{"$f":"Nastavení!W13","v":"U"},{"$f":"Nastavení!X13","v":"M"},{"$f":"Nastavení!Y13","v":"P"},{"$f":"Nastavení!Z13","v":"TT"},{"$f":"Nastavení!AA13","v":"D"},{"$f":"Nastavení!B24","v":"KPČ"},{"$f":"Nastavení!AE13","v":"Trať"},"TM",null,null,"[m]",{"$f":"L6","v":"V"},{"$f":"M6","v":"S"},{"$f":"O6","v":"Om"},{"$f":"P6","v":"LL"},{"$f":"Q6","v":"U"},{"$f":"R6","v":"M"},{"$f":"S6","v":"P"},null,null,null,null,null,null,null,"Důvod"]
[null,115,1,"Chýlek","Ladislav",1977,"TOM ŽK Palkovice",null,null,null,null,"2","-","ok","0","ok","0","0","0","1","3","0","","6","0:15:00","0:41:38","88","0","-","0","0","0","0","00:12","0:00:12","0:26:38","0:32:26",100,"II.",null,"Ne",""]
[null,113,2,"Paluš","Lukáš",1980,"TOM Horolezčata Brno",null,null,null,null,"2","-","ok","0","ok","0","3","1","0","0","0","","6","0:13:00","0:41:17","105","0","-","0","0","0","0","0","0:00:00","0:28:17","0:34:17",94.3,"II.",null,"Ne",""]
[null,117,3,"Figura","Pavel",1984,"TOM Svišti Bohumín",null,null,null,null,"2","-","ok","0","ok","0","3","0","2","1","0","","8","0:17:00","0:48:38","400","0","-","0","0","0","0","00:30","0:00:30","0:31:38","0:39:08",79.3,null,null,"Ne",""]

{"sheet":"ŽB","index":13,"n_rows":7,"n_cols":42,"rows_kept":7,"cut":false,"hidden":false,"merged":[[0,1,0,41],[3,1,3,41],[4,11,4,23],[4,27,4,33],[4,40,4,41]]}
[null,{"$f":"CONCATENATE('Seznam účastníků'!B1,\", \",'Seznam účastníků'!B2:C2,\" - \",'Seznam účastníků'!B3)","v":"Mistrovství Olomouckého kraje 2026, 11. 4. 2026 - Velký Újezd"}]
[]
[]
[null,"Ženy B (ŽB)"]
[null,null,null,null,null,null,null,null,null,null,null,"Trestné minuty",null,null,null,null,null,null,null,null,null,null,null,null,"Start","Cíl","V","Zdržení v sekundách",null,null,null,null,null,null,"Zdržení","Čas na trati","Výsledný čas","Body","VT","Postup","Diskvalifikace"]
[null,"Start. číslo","Pořadí","Přijmení","Jméno","Ročník","Oddíl","Přijmení","Jméno","Ročník","Oddíl",{"$f":"Nastavení!R13","v":"V"},{"$f":"Nastavení!S13","v":"S"},{"$f":"Nastavení!T13","v":"Oa"},{"$f":"Nastavení!U13","v":"Om"},{"$f":"Nastavení!V13","v":"LL"},{"$f":"Nastavení!W13","v":"U"},{"$f":"Nastavení!X13","v":"M"},{"$f":"Nastavení!Y13","v":"P"},{"$f":"Nastavení!Z13","v":"TT"},{"$f":"Nastavení!AA13","v":"D"},{"$f":"Nastavení!B24","v":"KPČ"},{"$f":"Nastavení!AE13","v":"Trať"},"TM",null,null,"[m]",{"$f":"L6","v":"V"},{"$f":"M6","v":"S"},{"$f":"O6","v":"Om"},{"$f":"P6","v":"LL"},{"$f":"Q6","v":"U"},{"$f":"R6","v":"M"},{"$f":"S6","v":"P"},null,null,null,null,null,null,null,"Důvod"]
[null,105,1,"Vilhelmová ","Pavlína",1980,"Město Libavá",null,null,null,null,"0","-","ok","0","ok","0","3","0","5","2","1","","11","0:05:00","0:57:51","210","0","-","0","0","0","0","00:29","0:00:29","0:52:51","1:03:22",100,null,null,"Ne",""]

{"sheet":"ŽC","index":14,"n_rows":9,"n_cols":42,"rows_kept":9,"cut":false,"hidden":false,"merged":[[0,1,0,41],[3,1,3,41],[4,11,4,23],[4,27,4,33],[4,40,4,41]]}
[null,{"$f":"CONCATENATE('Seznam účastníků'!B1,\", \",'Seznam účastníků'!B2:C2,\" - \",'Seznam účastníků'!B3)","v":"Mistrovství Olomouckého kraje 2026, 11. 4. 2026 - Velký Újezd"}]
[]
[]
[null,"Ženy C (ŽC)"]
[null,null,null,null,null,null,null,null,null,null,null,"Trestné minuty",null,null,null,null,null,null,null,null,null,null,null,null,"Start","Cíl","V","Zdržení v sekundách",null,null,null,null,null,null,"Zdržení","Čas na trati","Výsledný čas","Body","VT","Postup","Diskvalifikace"]
[null,"Start. číslo","Pořadí","Přijmení","Jméno","Ročník","Oddíl","Přijmení","Jméno","Ročník","Oddíl",{"$f":"Nastavení!R13","v":"V"},{"$f":"Nastavení!S13","v":"S"},{"$f":"Nastavení!T13","v":"Oa"},{"$f":"Nastavení!U13","v":"Om"},{"$f":"Nastavení!V13","v":"LL"},{"$f":"Nastavení!W13","v":"U"},{"$f":"Nastavení!X13","v":"M"},{"$f":"Nastavení!Y13","v":"P"},{"$f":"Nastavení!Z13","v":"TT"},{"$f":"Nastavení!AA13","v":"D"},{"$f":"Nastavení!B24","v":"KPČ"},{"$f":"Nastavení!AE13","v":"Trať"},"TM",null,null,"[m]",{"$f":"L6","v":"V"},{"$f":"M6","v":"S"},{"$f":"O6","v":"Om"},{"$f":"P6","v":"LL"},{"$f":"Q6","v":"U"},{"$f":"R6","v":"M"},{"$f":"S6","v":"P"},null,null,null,null,null,null,null,"Důvod"]
[null,132,1,"Fryštacká","Anna",1969,"KČT Velký Újezd",null,null,null,null,"2","-","ok","0","ok","0","3","0","0","1","0","","6","0:33:00","1:06:00","125","0","-","0","0","0","0","0","0:00:00","0:33:00","0:39:00",100,"II.",null,"Ne",""]
[null,103,2,"Brlková","Ivana",1975,"KČT Velký Újezd",null,null,null,null,"0","-","ok","0","ok","0","3","-","0","2","0","","5","0:03:00","0:47:57","158","0","-","0","0","0","0","-","0:00:00","0:44:57","0:49:57",71.900000000000006,null,null,"Ne",""]
[null,101,3,"Vilhelmová ","Eva",1948,"MSK Orlová",null,null,null,null,"2","-","ok","0","ok","0","3","2","0","1","0","","8","0:01:00","1:01:21","125","0","-","0","0","0","0","0","0:00:00","1:00:21","1:08:21",24.7,null,null,"Ne",""]

{"sheet":"D+D","index":15,"n_rows":7,"n_cols":42,"rows_kept":7,"cut":false,"hidden":false,"merged":[[0,1,0,41],[3,1,3,41],[4,11,4,23],[4,27,4,33],[4,40,4,41]]}
[null,{"$f":"CONCATENATE('Seznam účastníků'!B1,\", \",'Seznam účastníků'!B2:C2,\" - \",'Seznam účastníků'!B3)","v":"Mistrovství Olomouckého kraje 2026, 11. 4. 2026 - Velký Újezd"}]
[]
[]
[null,"Dítě s doprovodem (D+D)"]
[null,null,null,null,null,null,null,null,null,null,null,"Trestné minuty",null,null,null,null,null,null,null,null,null,null,null,null,"Start","Cíl","V","Zdržení v sekundách",null,null,null,null,null,null,"Zdržení","Čas na trati","Výsledný čas","Body","VT","Postup","Diskvalifikace"]
[null,"Start. číslo","Pořadí","Přijmení","Jméno","Ročník","Oddíl","Přijmení","Jméno","Ročník","Oddíl",{"$f":"Nastavení!R13","v":"V"},{"$f":"Nastavení!S13","v":"S"},{"$f":"Nastavení!T13","v":"Oa"},{"$f":"Nastavení!U13","v":"Om"},{"$f":"Nastavení!V13","v":"LL"},{"$f":"Nastavení!W13","v":"U"},{"$f":"Nastavení!X13","v":"M"},{"$f":"Nastavení!Y13","v":"P"},{"$f":"Nastavení!Z13","v":"TT"},{"$f":"Nastavení!AA13","v":"D"},{"$f":"Nastavení!B24","v":"KPČ"},{"$f":"Nastavení!AE13","v":"Trať"},"TM",null,null,"[m]",{"$f":"L6","v":"V"},{"$f":"M6","v":"S"},{"$f":"O6","v":"Om"},{"$f":"P6","v":"LL"},{"$f":"Q6","v":"U"},{"$f":"R6","v":"M"},{"$f":"S6","v":"P"},null,null,null,null,null,null,null,"Důvod"]
[null,102,1,"Vlková","Amálie",2016,"Tk Brontíci DDM Litovel","Kusá","Kateřina",2016,"Tk Brontíci DDM Litovel","-","-","-","0","ok","0","3","1","6","2","0","","12","0:02:00","0:40:10","","-","-","0","0","0","00:21","00:56","0:01:17","0:38:10","0:48:53",null,null,null,"Ne",""]

{"sheet":"Krycí list","index":16,"n_rows":20,"n_cols":14,"rows_kept":20,"cut":false,"hidden":false,"merged":[[4,1,4,26]]}
[]
[]
[]
[]
[null,{"$f":"CONCATENATE('Seznam účastníků'!B1:F1)","v":"Mistrovství Olomouckého kraje 2026"}]
[]
[]
[null,"Pořadatel: KČT Velký Újezd",null,null,null,null,null,null,null,null,null,null,null,"KONTAKTY NA VEDOUCÍ ODDÍLŮ:"]
[null,null,null,null,null,null,null,null,null,null,null,null,null,"TOM Svišti Bohumín - Hana Mocňáková, h.mocnakova@seznam.cz, T: 732 364 776"]
[null,"Datum konání: 11. 4. 2026",null,null,null,null,null,null,null,null,null,null,null,"MSK Orlová - Eva Vilhelmová, eva.vilhelmova@seznam.cz, T: 777 919 833"]
[null,null,null,null,null,null,null,null,null,null,null,null,null,"Tk  Brontíci DDM Litovel - Kateřina Kusá, katerina.sedlaro@centrum.cz, T: 732 817 226"]
[null,"Místo konání:  Velký Újezd",null,null,null,null,null,null,null,null,null,null,null,"Práčata Orlová - Patrick Ondika, patrick.ondika@gmail.com, T: 737 461 505"]
[null,null,null,null,null,null,null,null,null,null,null,null,null,"ZŠ Dětmarovice - Pavel Figura, pajafigu@seznam.cz, T: 733 726 660"]
[null,"Ředitel závodu: Mgr. Miroslav Fryštacký",null,null,null,null,null,null,null,null,null,null,null,"KČT Velký Újezd - Miroslav Dobisík, dobisik.miroslav@seznam.cz, T: 736 102 163"]
[null,null,null,null,null,null,null,null,null,null,null,null,null,"TOM Tuři Olomouc - Soňa Rokytová, sefova@email.cz, T: 732 202 287"]
[null,"Hlavní rozhodčí:  Mgr. Hana Mocňáková",null,null,null,null,null,null,null,null,null,null,null,"TOM Horolezčata Brno - Hana Cídlová, cidlova@centrum.cz, T: 728 277 219"]
[null,null,null,null,null,null,null,null,null,null,null,null,null,"Město Libavá - Pavlína Vilhelmová"]
[null,"Stavitel trati:  Miroslav Dobisík",null,null,null,null,null,null,null,null,null,null,null,"TOM Žlutý kvítek Palkovice - Ladislav Chýlek, thuda@volny.cz, T: 774 080 870"]
[]
[null,"Počtářská komise:  Ing. Hana Nejedlíková"]

{"sheet":"Výsledková listina","index":17,"n_rows":99,"n_cols":28,"rows_kept":99,"cut":false,"hidden":false,"merged":[[84,6,84,18],[77,6,77,18],[70,6,70,18],[89,6,89,18],[96,6,96,18],[4,1,4,27],[6,6,6,18],[15,6,15,18],[22,6,22,18],[29,6,29,18],[35,6,35,18],[45,6,45,18],[52,6,52,18],[58,6,58,18],[65,6,65,18]]}
[]
[null,null,null,null,null,null,null,null,null,null,null,null,null,null,null,null,null,null,null,null,null,null,"Poslední načtení výsledkové listiny provedeno:","11.04.2026 12:56:37"]
[]
[]
[null,{"$f":"CONCATENATE(\"Výsledková listina pro \",'Seznam účastníků'!B1:F1,\" konaného dne \",'Seznam účastníků'!B2:F2,\" - \",'Seznam účastníků'!B3:F3)","v":"Výsledková listina pro Mistrovství Olomouckého kraje 2026 konaného dne 11. 4. 2026 - Velký Újezd"}]
[null,null,null,null,null,null,null,null,null,null,null,"Nejmladší žáci (NŽH)"]
[null,"Pořadí","Start.","Závodníci","Ročník","Oddíl","Trestné minuty",null,null,null,null,null,null,null,null,null,null,null,null,"","Start","Cíl","Zdržení","Čas","Výsledný","Body","VT","Postup"]
[null,null,"číslo",null,null,null,"V","S","Oa","Om","LL","U","M","P","TT","D","KPČ","MKPČ","TM","",null,null,null,"na trati","čas"]
[null,1,122,"Kijonka Oliver",2016,"ZŠ Dětmarovice","-","-","-",0,"ok",0,1,0,2,1,1,null,5,null,"00:22:00","00:49:57","00:00:17","00:27:57","00:32:40",100,"II."]
[null,2,128,"Puk Marek",2017,"TOM Svišti Bohumín","-","-","-",0,"ok",0,1,0,4,1,0,null,6,null,"00:28:00","00:55:35","00:00:40","00:27:35","00:32:55",99.2,"II."]
[null,3,126,"Spratek Matyáš",2017,"ZŠ Dětmarovice","-","-","-",0,"ok",0,1,0,5,1,1,null,8,null,"00:26:00","00:57:16","00:00:34","00:31:16","00:38:42",81.5,"III."]
[null,4,124,"Puk Radek",2017,"TOM Svišti Bohumín","-","-","-",0,"ok",2,1,0,5,1,1,null,10,null,"00:24:00","00:56:06","00:00:00","00:32:06","00:42:06",71.099999999999994]
[null,5,120,"Pacák  David",2016,"Město Libavá","-","-","-",0,"ok",2,2,2,12,4,2,null,24,null,"00:20:00","00:48:48","00:00:00","00:28:48","00:52:48",38.4]
[]
[null,null,null,null,null,null,null,null,null,null,null,"Nejmladší žákyně (NŽD)"]
[null,"Pořadí","Start.","Závodníci","Ročník","Oddíl","Trestné minuty",null,null,null,null,null,null,null,null,null,null,null,null,"","Start","Cíl","Zdržení","Čas","Výsledný","Body","VT","Postup"]
[null,null,"číslo",null,null,null,"V","S","Oa","Om","LL","U","M","P","TT","D","KPČ","MKPČ","TM","",null,null,null,"na trati","čas"]
[null,1,114,"Palušová Darina",2016,"TOM Horolezčata Brno","-","-","-",0,"ok",0,0,2,0,3,0,null,5,null,"00:14:00","00:39:00","00:00:00","00:25:00","00:30:00",100,"II."]
[null,2,116,"Dobešová Aneta",2016,"TOM ŽK Palkovice","-","-","-",0,"ok",0,1,0,3,3,2,null,9,null,"00:16:00","00:52:00","00:00:00","00:36:00","00:45:00",50]
[null,3,118,"Zowadová Vendula",2016,"ZŠ Dětmarovice","-","-","-",0,"ok",0,2,2,11,1,7,null,23,null,"00:18:00","00:45:39","00:00:00","00:27:39","00:50:39",31.2]
[]
[null,null,null,null,null,null,null,null,null,null,null,"Mladší žáci (MŽH)"]
[null,"Pořadí","Start.","Závodníci","Ročník","Oddíl","Trestné minuty",null,null,null,null,null,null,null,null,null,null,null,null,"V [m]","Start","Cíl","Zdržení","Čas","Výsledný","Body","VT","Postup"]
[null,null,"číslo",null,null,null,"V","S","Oa","Om","LL","U","M","P","TT","D","KPČ","MKPČ","TM","(66)",null,null,null,"na trati","čas"]
[null,1,110,"Vlk  Jáchym",2014,"Tk Brontíci DDM Litovel",1,"-","ok",0,"ok",2,3,2,8,3,4,null,23,50,"00:10:00","00:54:18","00:00:16","00:44:18","01:07:02",100,"II."]
[null,2,112,"Kusý Vojtěch",2014,"Tk Brontíci DDM Litovel",0,"-",10,0,"ok",0,2,2,8,6,7,null,35,75,"00:12:00","00:47:40","00:00:15","00:35:40","01:10:25",95,"II."]
[null,3,108,"Horváth Michal",2015,"TOM Svišti Bohumín",1,"-",10,0,"ok",2,0,1,13,6,7,null,40,80,"00:08:00","00:47:35","00:00:39","00:39:35","01:18:56",82.2,"III."]
[]
[null,null,null,null,null,null,null,null,null,null,null,"Mladší žákyně (MŽD)"]
[null,"Pořadí","Start.","Závodníci","Ročník","Oddíl","Trestné minuty",null,null,null,null,null,null,null,null,null,null,null,null,"V [m]","Start","Cíl","Zdržení","Čas","Výsledný","Body","VT","Postup"]
[null,null,"číslo",null,null,null,"V","S","Oa","Om","LL","U","M","P","TT","D","KPČ","MKPČ","TM","(66)",null,null,null,"na trati","čas"]
[null,1,104,"Mlčochová Juiie",2014,"TOM ŽK Palkovice",2,"-","ok",0,"ok",0,1,2,1,2,2,null,10,100,"00:04:00","00:29:57","00:01:12","00:25:57","00:34:45",100]
[null,2,106,"Kubalová Anežka",2014,"TOM ŽK Palkovice",2,"-","ok",0,"ok",0,3,0,0,1,1,null,7,35,"00:06:00","00:39:12","00:00:38","00:33:12","00:39:34",86.1]
[]
[null,null,null,null,null,null,null,null,null,null,null,"Starší žáci (SŽH)"]
[null,"Pořadí","Start.","Závodníci","Ročník","Oddíl","Trestné minuty",null,null,null,null,null,null,null,null,null,null,null,null,"V [m]","Start","Cíl","Zdržení","Čas","Výsledný","Body","VT","Postup"]
[null,null,"číslo",null,null,null,"V","S","Oa","Om","LL","U","M","P","TT","D","KPČ","MKPČ","TM","(66)",null,null,null,"na trati","čas"]
[null,1,135,"Paluš Dominik",2012,"TOM Horolezčata Brno",1,"-","ok",0,"ok",0,1,0,2,3,1,null,8,50,"00:39:00","01:03:51","00:00:00","00:24:51","00:32:51",100,"II."]
[null,2,134,"Valenta Ondřej",2012,"Tk Brontíci DDM Litovel",1,"-","ok",0,"ok",0,1,0,1,3,1,null,7,80,"00:37:00","01:06:07","00:00:00","00:29:07","00:36:07",90.1,"II."]
[null,3,138,"Jano Julius",2012,"TOM Svišti Bohumín",2,"-","ok",0,"ok",0,3,1,1,1,8,null,16,46,"00:45:00","01:08:02","00:00:00","00:23:02","00:39:02",81.2,"III."]
[null,4,137,"Navařík Pavel",2013,"Tk Brontíci DDM Litovel",2,"-","ok",0,"ok",0,2,1,3,6,9,null,23,11,"00:43:00","01:11:04","00:00:00","00:28:04","00:51:04",44.5]
[null,5,136,"Bílek Daniel",2012,"TOM ŽK Palkovice",1,"-","ok",0,"ok",2,3,2,4,2,6,null,20,50,"00:41:00","01:16:10","00:00:00","00:35:10","00:55:10",32.1]
[null,6,139,"Svoboda Štěpán",2013,"Tk Brontíci DDM Litovel",2,"-",10,0,"ok",0,1,1,6,6,9,null,35,150,"00:47:00","01:19:27","00:00:00","00:32:27","01:07:27",0]
[]
[null,null,null,null,null,null,null,null,null,null,null,"Starší žákyně (SŽD)"]
[null,"Pořadí","Start.","Závodníci","Ročník","Oddíl","Trestné minuty",null,null,null,null,null,null,null,null,null,null,null,null,"V [m]","Start","Cíl","Zdržení","Čas","Výsledný","Body","VT","Postup"]
[null,null,"číslo",null,null,null,"V","S","Oa","Om","LL","U","M","P","TT","D","KPČ","MKPČ","TM","(66)",null,null,null,"na trati","čas"]
[null,1,133,"Šindelková Šarlota",2012,"TOM Tuři Olomouc",2,"-","ok",0,"ok",0,1,0,3,4,1,null,11,35,"00:35:10","00:58:23","00:00:00","00:23:13","00:34:13",100,"II."]
[null,2,131,"Zapletalová Adéla",2012,"Tk Brontíci DDM Litovel",2,"-",10,0,"ok",0,3,0,7,4,4,null,30,25,"00:31:00","01:07:07","00:01:28","00:36:07","01:04:39",11.1]
[null,3,130,"Špundová  Zuzana",2012,"Tk Brontíci DDM Litovel",2,"-","ok",0,"ok",0,3,2,11,5,8,null,31,20,"00:30:00","01:07:10","00:00:38","00:37:10","01:07:32",2.6]
[]
[null,null,null,null,null,null,null,null,null,null,null,"Mladší dorostenci (MDH)"]
[null,"Pořadí","Start.","Závodníci","Ročník","Oddíl","Trestné minuty",null,null,null,null,null,null,null,null,null,null,null,null,"V [m]","Start","Cíl","Zdržení","Čas","Výsledný","Body","VT","Postup"]
[null,null,"číslo",null,null,null,"V","S","Oa","Om","LL","U","M","P","TT","D","KPČ","MKPČ","TM","(197)",null,null,null,"na trati","čas"]
[null,1,125,"Žiga Sebastián",2011,"TOM Svišti Bohumín",2,"-","ok",0,"ok",2,3,0,7,3,6,null,23,100,"00:25:00","01:15:39","00:00:51","00:50:39","01:12:48",100]
[null,2,127,"Grus Dalibor",2010,"Tk Brontíci DDM Litovel",2,"-","ok",0,"ok",2,3,2,12,4,7,null,32,36,"00:27:00","01:28:35","00:00:11","01:01:35","01:33:24",71.7]
[]
[null,null,null,null,null,null,null,null,null,null,null,"Mladší dorostenky (MDD)"]
[null,"Pořadí","Start.","Závodníci","Ročník","Oddíl","Trestné minuty",null,null,null,null,null,null,null,null,null,null,null,null,"V [m]","Start","Cíl","Zdržení","Čas","Výsledný","Body","VT","Postup"]
[null,null,"číslo",null,null,null,"V","S","Oa","Om","LL","U","M","P","TT","D","KPČ","MKPČ","TM","(197)",null,null,null,"na trati","čas"]
[null,1,119,"Cídlová Jana",2010,"TOM Horolezčata Brno",2,"-","ok",0,"ok",0,2,1,0,1,0,null,6,120,"00:19:00","00:53:26","00:00:00","00:34:26","00:40:26",100,"II."]
[null,2,121,"Čepánová Lada",2010,"TOM ŽK Palkovice",1,"-","ok",0,"ok",0,3,1,0,4,0,null,9,150,"00:21:00","00:59:22","00:00:00","00:38:22","00:47:22",82.9,"III."]
[null,3,123,"Štrbíková Kateřina",2011,"TOM Tuři Olomouc",2,"-","ok",0,"ok",0,3,0,2,4,0,null,11,285,"00:23:00","01:10:49","00:00:25","00:47:49","00:58:24",55.6]
[]
[null,null,null,null,null,null,null,null,null,null,null,"Starší dorostenci (SDH)"]
[null,"Pořadí","Start.","Závodníci","Ročník","Oddíl","Trestné minuty",null,null,null,null,null,null,null,null,null,null,null,null,"V [m]","Start","Cíl","Zdržení","Čas","Výsledný","Body","VT","Postup"]
[null,null,"číslo",null,null,null,"V","S","Oa","Om","LL","U","M","P","TT","D","KPČ","MKPČ","TM","(197)",null,null,null,"na trati","čas"]
[null,1,129,"Sobotka Vojtěch",2008,"TOM Tuři Olomouc",2,"-","ok",0,"ok",0,3,0,1,3,0,null,9,45,"00:29:00","01:04:41","00:01:09","00:35:41","00:43:32",100]
[]
[null,null,null,null,null,null,null,null,null,null,null,"Muži A (MA)"]
[null,"Pořadí","Start.","Závodníci","Ročník","Oddíl","Trestné minuty",null,null,null,null,null,null,null,null,null,null,null,null,"V [m]","Start","Cíl","Zdržení","Čas","Výsledný","Body","VT","Postup"]
[null,null,"číslo",null,null,null,"V","S","Oa","Om","LL","U","M","P","TT","D","KPČ","MKPČ","TM","(197)",null,null,null,"na trati","čas"]
[null,1,111,"Ondika Patrick",1999,"Práčata Orlová",0,"-","ok",0,"ok",0,1,0,0,3,1,null,5,160,"00:11:00","00:41:13","00:00:00","00:30:13","00:35:13",100,"II."]
[null,2,109,"Vošáhlík Michal",2006,"MSK Orlová",0,"-","ok",0,"ok",0,2,0,1,1,0,null,4,179,"00:09:00","00:43:26","00:01:10","00:34:26","00:37:16",94.2,"II."]
[null,3,107,"Pokorný Lukáš",2003,"TOM Tuři Olomouc",0,"-","ok",0,"ok",0,1,"-",0,3,2,null,6,230,"00:07:00","00:50:12","00:00:47","00:43:12","00:48:25",62.5]
[]
[null,null,null,null,null,null,null,null,null,null,null,"Muži B (MB)"]
[null,"Pořadí","Start.","Závodníci","Ročník","Oddíl","Trestné minuty",null,null,null,null,null,null,null,null,null,null,null,null,"V [m]","Start","Cíl","Zdržení","Čas","Výsledný","Body","VT","Postup"]
[null,null,"číslo",null,null,null,"V","S","Oa","Om","LL","U","M","P","TT","D","KPČ","MKPČ","TM","(197)",null,null,null,"na trati","čas"]
[null,1,115,"Chýlek Ladislav",1977,"TOM ŽK Palkovice",2,"-","ok",0,"ok",0,0,0,1,3,0,null,6,88,"00:15:00","00:41:38","00:00:12","00:26:38","00:32:26",100,"II."]
[null,2,113,"Paluš Lukáš",1980,"TOM Horolezčata Brno",2,"-","ok",0,"ok",0,3,1,0,0,0,null,6,105,"00:13:00","00:41:17","00:00:00","00:28:17","00:34:17",94.3,"II."]
[null,3,117,"Figura Pavel",1984,"TOM Svišti Bohumín",2,"-","ok",0,"ok",0,3,0,2,1,0,null,8,400,"00:17:00","00:48:38","00:00:30","00:31:38","00:39:08",79.3]
[]
[null,null,null,null,null,null,null,null,null,null,null,"Ženy B (ŽB)"]
[null,"Pořadí","Start.","Závodníci","Ročník","Oddíl","Trestné minuty",null,null,null,null,null,null,null,null,null,null,null,null,"V [m]","Start","Cíl","Zdržení","Čas","Výsledný","Body","VT","Postup"]
[null,null,"číslo",null,null,null,"V","S","Oa","Om","LL","U","M","P","TT","D","KPČ","MKPČ","TM","(197)",null,null,null,"na trati","čas"]
[null,1,105,"Vilhelmová  Pavlína",1980,"Město Libavá",0,"-","ok",0,"ok",0,3,0,5,2,1,null,11,210,"00:05:00","00:57:51","00:00:29","00:52:51","01:03:22",100]
[]
[null,null,null,null,null,null,null,null,null,null,null,"Ženy C (ŽC)"]
[null,"Pořadí","Start.","Závodníci","Ročník","Oddíl","Trestné minuty",null,null,null,null,null,null,null,null,null,null,null,null,"V [m]","Start","Cíl","Zdržení","Čas","Výsledný","Body","VT","Postup"]
[null,null,"číslo",null,null,null,"V","S","Oa","Om","LL","U","M","P","TT","D","KPČ","MKPČ","TM","(197)",null,null,null,"na trati","čas"]
[null,1,132,"Fryštacká Anna",1969,"KČT Velký Újezd",2,"-","ok",0,"ok",0,3,0,0,1,0,null,6,125,"00:33:00","01:06:00","00:00:00","00:33:00","00:39:00",100,"II."]
[null,2,103,"Brlková Ivana",1975,"KČT Velký Újezd",0,"-","ok",0,"ok",0,3,"-",0,2,0,null,5,158,"00:03:00","00:47:57","00:00:00","00:44:57","00:49:57",71.900000000000006]
[null,3,101,"Vilhelmová  Eva",1948,"MSK Orlová",2,"-","ok",0,"ok",0,3,2,0,1,0,null,8,125,"00:01:00","01:01:21","00:00:00","01:00:21","01:08:21",24.7]
[]
[null,null,null,null,null,null,null,null,null,null,null,"Dítě s doprovodem (D+D)"]
[null,"Pořadí","Start.","Závodníci","Ročník","Oddíl","Trestné minuty",null,null,null,null,null,null,null,null,null,null,null,null,"","Start","Cíl","Zdržení","Čas","Výsledný","Body","VT","Postup"]
[null,null,"číslo",null,null,null,"V","S","Oa","Om","LL","U","M","P","TT","D","KPČ","MKPČ","TM","",null,null,null,"na trati","čas"]
[null,1,102,"Vlková Amálie\nKusá Kateřina","2016\n2016","Tk Brontíci DDM Litovel\nTk Brontíci DDM Litovel","-","-","-",0,"ok",0,3,1,6,2,0,null,12,null,"00:02:00","00:40:10","00:01:17","00:38:10","00:48:53"]

{"sheet":"Pohár","index":18,"n_rows":32,"n_cols":3,"rows_kept":32,"cut":false,"hidden":false,"merged":[]}
[]
[]
[null,"Poslední načtení poháru provedeno 11.04.2026 12:57:05"]
[]
[null,"Pohár žactvo"]
[null,"Oddíl","Body"]
[null,"Tk Brontíci DDM Litovel",340.70000000000005]
[null,"TOM Svišti Bohumín",333.70000000000005]
[null,"TOM ŽK Palkovice",268.2]
[null,"ZŠ Dětmarovice",212.7]
[null,"TOM Horolezčata Brno",200]
[null,"TOM Tuři Olomouc",100]
[null,"Město Libavá",38.4]
[]
[null,"Pohár dorost"]
[null,"Oddíl","Body"]
[null,"TOM Tuři Olomouc",155.6]
[null,"TOM Svišti Bohumín",100]
[null,"TOM Horolezčata Brno",100]
[null,"TOM ŽK Palkovice",82.9]
[null,"Tk Brontíci DDM Litovel",71.7]
[]
[null,"Pohár dospělí"]
[null,"Oddíl","Body"]
[null,"KČT Velký Újezd",171.9]
[null,"MSK Orlová",118.9]
[null,"Práčata Orlová",100]
[null,"TOM ŽK Palkovice",100]
[null,"Město Libavá",100]
[null,"TOM Horolezčata Brno",94.3]
[null,"TOM Svišti Bohumín",79.3]
[null,"TOM Tuři Olomouc",62.5]

{"sheet":"Zdroj","index":19,"n_rows":6,"n_cols":42,"rows_kept":6,"cut":false,"hidden":true,"merged":[[0,1,0,41],[3,1,3,41],[4,11,4,23],[4,27,4,33],[4,40,4,41]]}
[null,{"$f":"CONCATENATE('Seznam účastníků'!B1,\", \",'Seznam účastníků'!B2:C2,\" - \",'Seznam účastníků'!B3)","v":"Mistrovství Olomouckého kraje 2026, 11. 4. 2026 - Velký Újezd"}]
[]
[]
[null,"Nejmladší žáci (NŽH)"]
[null,null,null,null,null,null,null,null,null,null,null,"Trestné minuty",null,null,null,null,null,null,null,null,null,null,null,null,"Start","Cíl","V","Zdržení v sekundách",null,null,null,null,null,null,"Zdržení","Čas na trati","Výsledný čas","Body","VT","Postup","Diskvalifikace"]
[null,"Start. číslo","Pořadí","Přijmení","Jméno","Ročník","Oddíl","Přijmení","Jméno","Ročník","Oddíl",{"$f":"Nastavení!R13","v":"V"},{"$f":"Nastavení!S13","v":"S"},{"$f":"Nastavení!T13","v":"Oa"},{"$f":"Nastavení!U13","v":"Om"},{"$f":"Nastavení!V13","v":"LL"},{"$f":"Nastavení!W13","v":"U"},{"$f":"Nastavení!X13","v":"M"},{"$f":"Nastavení!Y13","v":"P"},{"$f":"Nastavení!Z13","v":"TT"},{"$f":"Nastavení!AA13","v":"D"},{"$f":"Nastavení!B24","v":"KPČ"},{"$f":"Nastavení!AE13","v":"Trať"},"TM",null,null,"[m]",{"$f":"L6","v":"V"},{"$f":"M6","v":"S"},{"$f":"O6","v":"Om"},{"$f":"P6","v":"LL"},{"$f":"Q6","v":"U"},{"$f":"R6","v":"M"},{"$f":"S6","v":"P"},null,null,null,null,null,null,null,"Důvod"]