{"text_format":"1","workbook":"xlsx","n_sheets":25,"sheets":["Nastavení","Seznam účastníků","NŽH","NŽD","MŽH","MŽD","SŽH","SŽD","MDH","MDD","SDD","MA","ŽA","MB","ŽB","MC","ŽC","D+D","DVOJ","MS-B","Krycí list","Výsledková listina","Pohár","Zdroj","List1"],"not_rendered":{"charts":0,"images":91,"macros":1,"external_links":0,"defined_names":27,"comments":1,"pivot_tables":0},"unopened":[],"bounds":{"document_bytes":16777216,"sheet_cells":100000,"rows_first":2000,"rows_last":500,"rows_between":2000,"halvings":0,"cell_chars":16384,"cell_head_chars":4096},"cells_cut":0,"cells_raw":0,"read":"whole","date_system":"1900"}

{"sheet":"Nastavení","index":0,"n_rows":33,"n_cols":32,"rows_kept":33,"cut":false,"hidden":false,"merged":[]}
[]
[]
[]
[]
[]
[]
[]
[]
[]
[]
[]
[null,"Nepřesouvat a neměnit!!!!"]
[null,null,null,null,null,null,null,null,null,null,null,null,null,null,null,null,null,{"$f":"B14","v":"V"},{"$f":"B15","v":"S"},{"$f":"B16","v":"Oa"},{"$f":"B17","v":"Om"},{"$f":"B18","v":"LL"},{"$f":"B19","v":"U"},{"$f":"B20","v":"M"},{"$f":"B21","v":"P"},{"$f":"B22","v":"TT"},{"$f":"B23","v":"D"},{"$f":"B24","v":"KPČ"},"MKPČ","Body","Trať"]
[null,"V","odhad vzdálenosti",null,null,"PM","postup z mistrovství",null,null,"NŽH","Nejmladší žáci",null,"<10 let",{"$f":"CONCATENATE(J14,\"-\",K14,\"(\",M14,\")\")","v":"NŽH-Nejmladší žáci(<10 let)"},null,null,null,"Ne","Ne","Ne","Ano","Ano","Ano","Ano","Ano","Ano","Ano","Ano","Ne","Ano","M","Modrá trať"]
[null,"S","stavba stanu",null,null,"PP","postup z kraje",null,null,"NŽD","Nejmladší žákyně",null,"<10 let","NŽD-Nejmladší žákyně(<10 let)",null,null,null,"Ne","Ne","Ne","Ano","Ano","Ano","Ano","Ano","Ano","Ano","Ano","Ne","Ano","M","Modrá trať"]
[null,"Oa","azimuty",null,null,"TM","součet trestných minut",null,null,"MŽH","Mladší žáci",null,"11-12 let","MŽH-Mladší žáci(11-12 let)",null,null,null,25.5,"Ne","Ano","Ano","Ano","Ano","Ano","Ano","Ano","Ano","Ano","Ne","Ano","M","Bílá trať"]
[null,"Om","orientace mapy",null,null,null,null,null,null,"MŽD","Mladší žákyně",null,"11-12 let","MŽD-Mladší žákyně(11-12 let)",null,null,null,25.5,"Ne","Ano","Ano","Ano","Ano","Ano","Ano","Ano","Ano","Ano","Ne","Ano","M","Bílá trať"]
[null,"LL","lanová lávka",null,null,"mistrovské závody ČR",null,null,null,"SŽH","Starší žáci",null,"13-14 let","SŽH-Starší žáci(13-14 let)",null,null,null,25.5,"Ne","Ano","Ano","Ano","Ano","Ano","Ano","Ano","Ano","Ano","Ne","Ano","M","Bílá trať"]
[null,"U","uzly",null,null,"závod I. Stupně \"Český pohár\"",null,null,null,"SŽD","Starší žákyně",null,"13-14 let","SŽD-Starší žákyně(13-14 let)",null,null,null,25.5,"Ne","Ano","Ano","Ano","Ano","Ano","Ano","Ano","Ano","Ano","Ne","Ano","M","Bílá trať"]
[null,"M","míček",null,null,"závod II. stupně \"Mistrovství kraje\"",null,null,null,"MDH","Mladší dorostenci",null,"15-16 let","MDH-Mladší dorostenci(15-16 let)",null,null,null,17,"Ne","Ano","Ano","Ano","Ano","Ano","Ano","Ano","Ano","Ano","Ne","Ano","B","Červená trať"]
[null,"P","plížení",null,null,"závod III. stupně \"Krajský pohár\"",null,null,null,"MDD","Mladší dorostenky",null,"15-16 let","MDD-Mladší dorostenky(15-16 let)",null,null,null,17,"Ne","Ano","Ano","Ano","Ano","Ano","Ano","Ano","Ano","Ano","Ne","Ano","B","Červená trať"]
[null,"TT","turistické a topologické značky",null,null,"oddílový přebor / smíšené dvojice",null,null,null,"SDH","Starší dorostenci",null,"17-18 let","SDH-Starší dorostenci(17-18 let)",null,null,null,17,"Ne","Ano","Ano","Ano","Ano","Ano","Ano","Ano","Ano","Ano","Ne","Ano","B","Červená trať"]
[null,"D","dřeviny",null,null,null,null,null,null,"SDD","Starší dorostenky",null,"17-18 let","SDD-Starší dorostenky(17-18 let)",null,null,null,17,"Ne","Ano","Ano","Ano","Ano","Ano","Ano","Ano","Ano","Ano","Ne","Ano","B","Červená trať"]
[null,"KPČ","kulturně poznávací činnost",null,null,null,null,null,null,"MA","Muži A",null,"19-35 let","MA-Muži A(19-35 let)",null,null,null,17,"Ne","Ano","Ano","Ano","Ano","Ano","Ano","Ano","Ano","Ano","Ne","Ano","C","Červená trať"]
[null,"MKPČ","mezinárodní kulturně poznávací činnost",null,null,null,null,null,null,"ŽA","Ženy A",null,"19-35 let","ŽA-Ženy A(19-35 let)",null,null,null,17,"Ne","Ano","Ano","Ano","Ano","Ano","Ano","Ano","Ano","Ano","Ne","Ano","C","Červená trať"]
[null,null,null,null,null,null,null,null,null,"MB","Muži B",null,">36 let","MB-Muži B(>36 let)",null,null,null,17,"Ne","Ano","Ano","Ano","Ano","Ano","Ano","Ano","Ano","Ano","Ne","Ano","C","Červená trať"]
[null,null,null,null,null,null,null,null,null,"ŽB","Ženy B",null,">36 let","ŽB-Ženy B(>36 let)",null,null,null,17,"Ne","Ano","Ano","Ano","Ano","Ano","Ano","Ano","Ano","Ano","Ne","Ano","C","Červená trať"]
[null,null,"verze V24 ke dni 06. 03. 2025",null,null,null,null,null,null,"MC","Muži C",null,">50 let",{"$f":"CONCATENATE(J28,\"-\",K28,\"(\",M28,\")\")","v":"MC-Muži C(>50 let)"},null,null,null,17,"Ne","Ano","Ano","Ano","Ano","Ano","Ano","Ano","Ano","Ano","Ne","Ano","C","Červená trať"]
[null,null,"verze V25 ke dni 18. 05. 2025",null,null,null,null,null,null,"ŽC","Ženy C",null,">50 let","ŽC-Ženy C(>50 let)",null,null,null,17,"Ne","Ano","Ano","Ano","Ano","Ano","Ano","Ano","Ano","Ano","Ne","Ano","C","Červená trať"]
[null,null,"verze V26 ke dni 11. 06. 2025",null,null,null,null,null,null,"D+D","Dítě s doprovodem",null,null,{"$f":"CONCATENATE(J30,\"-\",K30)","v":"D+D-Dítě s doprovodem"},null,null,null,"Ne","Ne","Ne","Ano","Ano","Ano","Ano","Ano","Ano","Ano","Ano","Ne","Ne",null,"nepočítají se body"]
[null,null,null,null,null,null,null,null,null,"DVOJ","Dvojice",null,null,{"$f":"CONCATENATE(J31,\"-\",K31)","v":"DVOJ-Dvojice"},null,null,null,"Ne","Ne","Ne","Ano","Ano","Ano","Ano","Ano","Ano","Ano","Ano","Ne","Ne",null,"nepočítají se body"]
[null,null,null,null,null,null,null,null,null,"MS-M","Mimo soutěž-modrá trať",null,null,{"$f":"CONCATENATE(J32,\"-\",K32)","v":"MS-M-Mimo soutěž-modrá trať"},null,null,null,"Ne","Ne","Ne","Ano","Ano","Ano","Ano","Ano","Ano","Ano","Ano","Ne","Ne",null,"nepočítají se body"]
[null,null,null,null,null,null,null,null,null,"MS-B","Mimo soutěž-bílá trať",null,null,{"$f":"CONCATENATE(J33,\"-\",K33)","v":"MS-B-Mimo soutěž-bílá trať"},null,null,null,"Ne","Ne","Ne","Ano","Ano","Ano","Ano","Ano","Ano","Ano","Ano","Ne","Ne",null,"nepočítají se body"]

{"sheet":"Seznam účastníků","index":1,"n_rows":40,"n_cols":11,"rows_kept":40,"cut":false,"hidden":false,"merged":[[0,1,0,5],[1,1,1,5],[2,1,2,5],[3,1,3,3]]}
["Závod:","Mistrovství Královéhradeckého kraje"]
["Datum:","18.4.2026"]
["Místo:","Hradec Králové"]
["Typ závodu:","závod II. stupně \"Mistrovství kraje\""]
["Body:","MK"]
[]
["Startovní\nčíslo","Kat.","Přijmení","Jméno","Ročník","Oddíl","Přijmení","Jméno","Ročník","Oddíl","Startovní čas"]
["1","MDH","Žaloudek","Radek",2011,"Plamínek","","","","","9:52:00"]
["2","MŽD","Kalousková","Nela",2015,"Stopaři",null,null,null,null,"9:54:00"]
["3","D+D","Podlipná","Tereza","2021","Nezmaři",null,null,null,null,"9:56:00"]
["4","SDD","Šepsová","Irena",2008,"Plamínek","","","","","9:58:00"]
["5","SŽH","Paulus","Vilém",2013,"Nezmaři",null,null,null,null,"10:00:00"]
["6","NŽD","Fúsková","Marie",2017,"Nezmaři","","","","","10:02:00"]
["7","MDD","Chamková","Tereza",2010,"Nezmaři","","","","","10:04:00"]
["8","D+D","Fúsková","Lucie",2018,"Nezmaři",null,null,null,null,"10:06:00"]
["9","SŽD","Vejražková","Zuzana",2012,"Stopaři","","","","","10:08:00"]
["10","ŽB","Podlipná","Alena",1985,"Nezmaři","","","","","10:10:00"]
["11","D+D","Matějková","Emily",2019,"Nezmaři","","","","","10:12:00"]
["12","NŽD","Hronová","Klára",2016,"Stopaři","","","","","10:14:00"]
["13","MDD","Růžičková","Viktorie",2011,"Nezmaři","","","","","10:16:00"]
["14","SDD","Andrašovská","Kateřina",2008,"Nezmaři","","","","","10:18:00"]
["15","D+D","Ursíková","Veronika",2020,"Nezmaři","","","","","10:20:00"]
["16","MŽD","Kalousková","Adéla",2015,"Stopaři","","","","","10:22:00"]
["17","MŽH","Růžička","Richard",2014,"Nezmaři","","","","","10:24:00"]
["18","SŽH","Knap","Matěj",2012,"Stopaři","","","","","10:26:00"]
["19","MŽH","Pexa","Kryštof",2015,"Stopaři","","","","","10:28:00"]
["20","SDH","Žaloudek","Petr",2009,"Plamínek","","","","","10:30:00"]
["21","NŽH","Martinek","Ludvík",2016,"Nezmaři","","","","","10:32:00"]
["22","MDH","Šeps","Erik",2010,"Plamínek","","","","","10:34:00"]
["23","NŽD","Vejražková","Dora",2016,"Stopaři","","","","","10:36:00"]
["24","MŽH","Vokoun","Patrik",2014,"Stopaři","","","","","10:38:00"]
["25","MDH","Andrašovský ","Vojtěch",2011,"Nezmaři","","","","","10:40:00"]
["26","D+D","Vejražka","Pavel",2021,"Stopaři",null,null,null,null,"10:42:00"]
["27","MC","Hrouda","Petr",1969,"TZ Kometa Brno, z.s.","","","","","10:44:00"]
["28","MŽD","Muchová","Eliška",2015,"Stopaři","","","","","10:46:00"]
["29","SŽH","Kalousek","Patrik",2013,"Stopaři","","","","","10:48:00"]
["30","MŽH","Vejražka","David",2014,"Stopaři",null,null,null,null,"10:50:00"]
[31,"MC","Fúsek","Tomáš",1966,"Stopaři",null,null,null,null,"10:52:00"]
[32,"MDH","Vokoun","Filip",2011,"Stopaři",null,null,null,null,"10:54:00"]
[33,"MB","Vejražka","Petr",1979,"Stopaři",null,null,null,null,"10:56:00"]

{"sheet":"NŽH","index":2,"n_rows":7,"n_cols":42,"rows_kept":7,"cut":false,"hidden":false,"merged":[[0,1,0,41],[3,1,3,41],[4,11,4,23],[4,27,4,33],[4,40,4,41]]}
[null,{"$f":"CONCATENATE('Seznam účastníků'!B1,\", \",'Seznam účastníků'!B2:C2,\" - \",'Seznam účastníků'!B3)","v":"Mistrovství Královéhradeckého kraje, 18.4.2026 - Hradec Králové"}]
[]
[]
[null,"Nejmladší žáci (NŽH)"]
[null,null,null,null,null,null,null,null,null,null,null,"Trestné minuty",null,null,null,null,null,null,null,null,null,null,null,null,"Start","Cíl","V","Zdržení v sekundách",null,null,null,null,null,null,"Zdržení","Čas na trati","Výsledný čas","Body","VT","Postup","Diskvalifikace"]
[null,"Start. číslo","Pořadí","Přijmení","Jméno","Ročník","Oddíl","Přijmení","Jméno","Ročník","Oddíl",{"$f":"Nastavení!R13","v":"V"},{"$f":"Nastavení!S13","v":"S"},{"$f":"Nastavení!T13","v":"Oa"},{"$f":"Nastavení!U13","v":"Om"},{"$f":"Nastavení!V13","v":"LL"},{"$f":"Nastavení!W13","v":"U"},{"$f":"Nastavení!X13","v":"M"},{"$f":"Nastavení!Y13","v":"P"},{"$f":"Nastavení!Z13","v":"TT"},{"$f":"Nastavení!AA13","v":"D"},{"$f":"Nastavení!B24","v":"KPČ"},{"$f":"Nastavení!AE13","v":"Trať"},"TM",null,null,"[m]",{"$f":"L6","v":"V"},{"$f":"M6","v":"S"},{"$f":"O6","v":"Om"},{"$f":"P6","v":"LL"},{"$f":"Q6","v":"U"},{"$f":"R6","v":"M"},{"$f":"S6","v":"P"},null,null,null,null,null,null,null,"Důvod"]
[null,"21",1,"Martinek","Ludvík",2016,"Nezmaři","","","","","-","-","-","0","ok","0","1","2","6","5","4","","18","1:32:00","1:55:31","","-","-","0","0","0","0","0","0:00:00","0:23:31","0:41:31",100,null,null,"Ne",""]

{"sheet":"NŽD","index":3,"n_rows":9,"n_cols":42,"rows_kept":9,"cut":false,"hidden":false,"merged":[[0,1,0,41],[3,1,3,41],[4,11,4,23],[4,27,4,33],[4,40,4,41]]}
[null,{"$f":"CONCATENATE('Seznam účastníků'!B1,\", \",'Seznam účastníků'!B2:C2,\" - \",'Seznam účastníků'!B3)","v":"Mistrovství Královéhradeckého kraje, 18.4.2026 - Hradec Králové"}]
[]
[]
[null,"Nejmladší žákyně (NŽD)"]
[null,null,null,null,null,null,null,null,null,null,null,"Trestné minuty",null,null,null,null,null,null,null,null,null,null,null,null,"Start","Cíl","V","Zdržení v sekundách",null,null,null,null,null,null,"Zdržení","Čas na trati","Výsledný čas","Body","VT","Postup","Diskvalifikace"]
[null,"Start. číslo","Pořadí","Přijmení","Jméno","Ročník","Oddíl","Přijmení","Jméno","Ročník","Oddíl",{"$f":"Nastavení!R13","v":"V"},{"$f":"Nastavení!S13","v":"S"},{"$f":"Nastavení!T13","v":"Oa"},{"$f":"Nastavení!U13","v":"Om"},{"$f":"Nastavení!V13","v":"LL"},{"$f":"Nastavení!W13","v":"U"},{"$f":"Nastavení!X13","v":"M"},{"$f":"Nastavení!Y13","v":"P"},{"$f":"Nastavení!Z13","v":"TT"},{"$f":"Nastavení!AA13","v":"D"},{"$f":"Nastavení!B24","v":"KPČ"},{"$f":"Nastavení!AE13","v":"Trať"},"TM",null,null,"[m]",{"$f":"L6","v":"V"},{"$f":"M6","v":"S"},{"$f":"O6","v":"Om"},{"$f":"P6","v":"LL"},{"$f":"Q6","v":"U"},{"$f":"R6","v":"M"},{"$f":"S6","v":"P"},null,null,null,null,null,null,null,"Důvod"]
[null,"23",1,"Vejražková","Dora",2016,"Stopaři","","","","","-","-","-","0","ok","0","0","0","0","1","0","","1","1:36:00","1:55:32","","-","-","0","0","0","0","0","0:00:00","0:19:32","0:20:32",100,"II.",null,"Ne",""]
[null,"6",2,"Fúsková","Marie",2017,"Nezmaři","","","","","-","-","-","0","ok","0","2","0","0","1","1","","4","1:02:00","1:28:17","","-","-","30","0","0","0","10","0:00:40","0:26:17","0:29:37",55.8,null,null,"Ne",""]
[null,"12",3,"Hronová","Klára",2016,"Stopaři","","","","","-","-","-","0","ok","2","1","1","6","1","0","","11","1:14:00","1:34:46","","-","-","0","0","0","0","0","0:00:00","0:20:46","0:31:46",45.3,null,null,"Ne",""]

{"sheet":"MŽH","index":4,"n_rows":10,"n_cols":42,"rows_kept":10,"cut":false,"hidden":false,"merged":[[0,1,0,41],[3,1,3,41],[4,11,4,23],[4,27,4,33],[4,40,4,41]]}
[null,{"$f":"CONCATENATE('Seznam účastníků'!B1,\", \",'Seznam účastníků'!B2:C2,\" - \",'Seznam účastníků'!B3)","v":"Mistrovství Královéhradeckého kraje, 18.4.2026 - Hradec Králové"}]
[]
[]
[null,"Mladší žáci (MŽH)"]
[null,null,null,null,null,null,null,null,null,null,null,"Trestné minuty",null,null,null,null,null,null,null,null,null,null,null,null,"Start","Cíl","V","Zdržení v sekundách",null,null,null,null,null,null,"Zdržení","Čas na trati","Výsledný čas","Body","VT","Postup","Diskvalifikace"]
[null,"Start. číslo","Pořadí","Přijmení","Jméno","Ročník","Oddíl","Přijmení","Jméno","Ročník","Oddíl",{"$f":"Nastavení!R13","v":"V"},{"$f":"Nastavení!S13","v":"S"},{"$f":"Nastavení!T13","v":"Oa"},{"$f":"Nastavení!U13","v":"Om"},{"$f":"Nastavení!V13","v":"LL"},{"$f":"Nastavení!W13","v":"U"},{"$f":"Nastavení!X13","v":"M"},{"$f":"Nastavení!Y13","v":"P"},{"$f":"Nastavení!Z13","v":"TT"},{"$f":"Nastavení!AA13","v":"D"},{"$f":"Nastavení!B24","v":"KPČ"},{"$f":"Nastavení!AE13","v":"Trať"},"TM",null,null,"[m]",{"$f":"L6","v":"V"},{"$f":"M6","v":"S"},{"$f":"O6","v":"Om"},{"$f":"P6","v":"LL"},{"$f":"Q6","v":"U"},{"$f":"R6","v":"M"},{"$f":"S6","v":"P"},null,null,null,null,null,null,null,"Důvod"]
[null,"30",1,"Vejražka","David",2014,"Stopaři",null,null,null,null,"0","-","ok","0","ok","0","1","0","1","0","1","","3","1:50:00","2:10:40","25","0","-","0","0","0","0","0:20","0:00:20","0:20:40","0:23:20",100,"II.",null,"Ne",""]
[null,"19",2,"Pexa","Kryštof",2015,"Stopaři","","","","","1","-","ok","0","ok","0","1","0","3","1","0","","6","1:28:00","1:47:57","20","0","-","0","0","0","0","0","0:00:00","0:19:57","0:25:57",88.8,"III.",null,"Ne",""]
[null,"17",3,"Růžička","Richard",2014,"Nezmaři","","","","","1","-","ok","0","ok","0","1","2","6","1","1","","12","1:24:00","1:47:35","20","0","-","0","0","0","0","2:00","0:02:00","0:23:35","0:33:35",56.1,null,null,"Ne",""]
[null,"24",4,"Vokoun","Patrik",2014,"Stopaři","","","","","0","-","ok","0","ok","0","0","2","6","2","5","","15","1:38:00","2:16:57","30","0","-","0","0","0","0","0","0:00:00","0:38:57","0:53:57",0,null,null,"Ne",""]

{"sheet":"MŽD","index":5,"n_rows":9,"n_cols":42,"rows_kept":9,"cut":false,"hidden":false,"merged":[[0,1,0,41],[3,1,3,41],[4,11,4,23],[4,27,4,33],[4,40,4,41]]}
[null,{"$f":"CONCATENATE('Seznam účastníků'!B1,\", \",'Seznam účastníků'!B2:C2,\" - \",'Seznam účastníků'!B3)","v":"Mistrovství Královéhradeckého kraje, 18.4.2026 - Hradec Králové"}]
[]
[]
[null,"Mladší žákyně (MŽD)"]
[null,null,null,null,null,null,null,null,null,null,null,"Trestné minuty",null,null,null,null,null,null,null,null,null,null,null,null,"Start","Cíl","V","Zdržení v sekundách",null,null,null,null,null,null,"Zdržení","Čas na trati","Výsledný čas","Body","VT","Postup","Diskvalifikace"]
[null,"Start. číslo","Pořadí","Přijmení","Jméno","Ročník","Oddíl","Přijmení","Jméno","Ročník","Oddíl",{"$f":"Nastavení!R13","v":"V"},{"$f":"Nastavení!S13","v":"S"},{"$f":"Nastavení!T13","v":"Oa"},{"$f":"Nastavení!U13","v":"Om"},{"$f":"Nastavení!V13","v":"LL"},{"$f":"Nastavení!W13","v":"U"},{"$f":"Nastavení!X13","v":"M"},{"$f":"Nastavení!Y13","v":"P"},{"$f":"Nastavení!Z13","v":"TT"},{"$f":"Nastavení!AA13","v":"D"},{"$f":"Nastavení!B24","v":"KPČ"},{"$f":"Nastavení!AE13","v":"Trať"},"TM",null,null,"[m]",{"$f":"L6","v":"V"},{"$f":"M6","v":"S"},{"$f":"O6","v":"Om"},{"$f":"P6","v":"LL"},{"$f":"Q6","v":"U"},{"$f":"R6","v":"M"},{"$f":"S6","v":"P"},null,null,null,null,null,null,null,"Důvod"]
[null,"16",1,"Kalousková","Adéla",2015,"Stopaři","","","","","1","-","ok","0","ok","0","2","0","0","1","0","","4","1:22:00","1:41:23","20","0","-","0","0","0","0","0","0:00:00","0:19:23","0:23:23",100,"III.",null,"Ne",""]
[null,"2",2,"Kalousková","Nela",2015,"Stopaři",null,null,null,null,"0","-","ok","0","ok","0","1","0","1","1","0","","3","0:54:00","1:15:40","27","0","-","0","0","0","0","0","0:00:00","0:21:40","0:24:40",94.5,"III.",null,"Ne",""]
[null,"28",3,"Muchová","Eliška",2015,"Stopaři","","","","","0","-","ok","0","ok","2","3","0","4","3","0","","12","1:46:00","2:08:46","23","0","-","0","0","0","0","0","0:00:00","0:22:46","0:34:46",51.3,null,null,"Ne",""]

{"sheet":"SŽH","index":6,"n_rows":9,"n_cols":42,"rows_kept":9,"cut":false,"hidden":false,"merged":[[0,1,0,41],[3,1,3,41],[4,11,4,23],[4,27,4,33],[4,40,4,41]]}
[null,{"$f":"CONCATENATE('Seznam účastníků'!B1,\", \",'Seznam účastníků'!B2:C2,\" - \",'Seznam účastníků'!B3)","v":"Mistrovství Královéhradeckého kraje, 18.4.2026 - Hradec Králové"}]
[]
[]
[null,"Starší žáci (SŽH)"]
[null,null,null,null,null,null,null,null,null,null,null,"Trestné minuty",null,null,null,null,null,null,null,null,null,null,null,null,"Start","Cíl","V","Zdržení v sekundách",null,null,null,null,null,null,"Zdržení","Čas na trati","Výsledný čas","Body","VT","Postup","Diskvalifikace"]
[null,"Start. číslo","Pořadí","Přijmení","Jméno","Ročník","Oddíl","Přijmení","Jméno","Ročník","Oddíl",{"$f":"Nastavení!R13","v":"V"},{"$f":"Nastavení!S13","v":"S"},{"$f":"Nastavení!T13","v":"Oa"},{"$f":"Nastavení!U13","v":"Om"},{"$f":"Nastavení!V13","v":"LL"},{"$f":"Nastavení!W13","v":"U"},{"$f":"Nastavení!X13","v":"M"},{"$f":"Nastavení!Y13","v":"P"},{"$f":"Nastavení!Z13","v":"TT"},{"$f":"Nastavení!AA13","v":"D"},{"$f":"Nastavení!B24","v":"KPČ"},{"$f":"Nastavení!AE13","v":"Trať"},"TM",null,null,"[m]",{"$f":"L6","v":"V"},{"$f":"M6","v":"S"},{"$f":"O6","v":"Om"},{"$f":"P6","v":"LL"},{"$f":"Q6","v":"U"},{"$f":"R6","v":"M"},{"$f":"S6","v":"P"},null,null,null,null,null,null,null,"Důvod"]
[null,"18",1,"Knap","Matěj",2012,"Stopaři","","","","","0","-","ok","0","ok","0","0","0","2","1","0","","3","1:26:00","1:44:26","30","0","-","0","0","0","0","2:10","0:02:10","0:18:26","0:19:16",100,"II.",null,"Ne",""]
[null,"29",2,"Kalousek","Patrik",2013,"Stopaři","","","","","0","-","ok","0","ok","0","0","0","0","2","0","","2","1:48:00","2:06:04","25","0","-","0","0","0","0","0","0:00:00","0:18:04","0:20:04",95.8,"II.",null,"Ne",""]
[null,"5",3,"Paulus","Vilém",2013,"Nezmaři",null,null,null,null,"2","-","ok","0","ok","0","3","2","1","1","0","","9","1:00:00","1:26:35","45","0","-","0","0","0","0","0","0:00:00","0:26:35","0:35:35",15.3,null,null,"Ne",""]

{"sheet":"SŽD","index":7,"n_rows":7,"n_cols":42,"rows_kept":7,"cut":false,"hidden":false,"merged":[[0,1,0,41],[3,1,3,41],[4,11,4,23],[4,27,4,33],[4,40,4,41]]}
[null,{"$f":"CONCATENATE('Seznam účastníků'!B1,\", \",'Seznam účastníků'!B2:C2,\" - \",'Seznam účastníků'!B3)","v":"Mistrovství Královéhradeckého kraje, 18.4.2026 - Hradec Králové"}]
[]
[]
[null,"Starší žákyně (SŽD)"]
[null,null,null,null,null,null,null,null,null,null,null,"Trestné minuty",null,null,null,null,null,null,null,null,null,null,null,null,"Start","Cíl","V","Zdržení v sekundách",null,null,null,null,null,null,"Zdržení","Čas na trati","Výsledný čas","Body","VT","Postup","Diskvalifikace"]
[null,"Start. číslo","Pořadí","Přijmení","Jméno","Ročník","Oddíl","Přijmení","Jméno","Ročník","Oddíl",{"$f":"Nastavení!R13","v":"V"},{"$f":"Nastavení!S13","v":"S"},{"$f":"Nastavení!T13","v":"Oa"},{"$f":"Nastavení!U13","v":"Om"},{"$f":"Nastavení!V13","v":"LL"},{"$f":"Nastavení!W13","v":"U"},{"$f":"Nastavení!X13","v":"M"},{"$f":"Nastavení!Y13","v":"P"},{"$f":"Nastavení!Z13","v":"TT"},{"$f":"Nastavení!AA13","v":"D"},{"$f":"Nastavení!B24","v":"KPČ"},{"$f":"Nastavení!AE13","v":"Trať"},"TM",null,null,"[m]",{"$f":"L6","v":"V"},{"$f":"M6","v":"S"},{"$f":"O6","v":"Om"},{"$f":"P6","v":"LL"},{"$f":"Q6","v":"U"},{"$f":"R6","v":"M"},{"$f":"S6","v":"P"},null,null,null,null,null,null,null,"Důvod"]
[null,"9",1,"Vejražková","Zuzana",2012,"Stopaři","","","","","0","-","ok","0","ok","0","1","0","1","1","0","","3","1:08:00","1:27:37","23","0","-","0","0","0","0","1:00","0:01:00","0:19:37","0:21:37",100,null,null,"Ne",""]

{"sheet":"MDH","index":8,"n_rows":10,"n_cols":42,"rows_kept":10,"cut":false,"hidden":false,"merged":[[0,1,0,41],[3,1,3,41],[4,11,4,23],[4,27,4,33],[4,40,4,41]]}
[null,{"$f":"CONCATENATE('Seznam účastníků'!B1,\", \",'Seznam účastníků'!B2:C2,\" - \",'Seznam účastníků'!B3)","v":"Mistrovství Královéhradeckého kraje, 18.4.2026 - Hradec Králové"}]
[]
[]
[null,"Mladší dorostenci (MDH)"]
[null,null,null,null,null,null,null,null,null,null,null,"Trestné minuty",null,null,null,null,null,null,null,null,null,null,null,null,"Start","Cíl","V","Zdržení v sekundách",null,null,null,null,null,null,"Zdržení","Čas na trati","Výsledný čas","Body","VT","Postup","Diskvalifikace"]
[null,"Start. číslo","Pořadí","Přijmení","Jméno","Ročník","Oddíl","Přijmení","Jméno","Ročník","Oddíl",{"$f":"Nastavení!R13","v":"V"},{"$f":"Nastavení!S13","v":"S"},{"$f":"Nastavení!T13","v":"Oa"},{"$f":"Nastavení!U13","v":"Om"},{"$f":"Nastavení!V13","v":"LL"},{"$f":"Nastavení!W13","v":"U"},{"$f":"Nastavení!X13","v":"M"},{"$f":"Nastavení!Y13","v":"P"},{"$f":"Nastavení!Z13","v":"TT"},{"$f":"Nastavení!AA13","v":"D"},{"$f":"Nastavení!B24","v":"KPČ"},{"$f":"Nastavení!AE13","v":"Trať"},"TM",null,null,"[m]",{"$f":"L6","v":"V"},{"$f":"M6","v":"S"},{"$f":"O6","v":"Om"},{"$f":"P6","v":"LL"},{"$f":"Q6","v":"U"},{"$f":"R6","v":"M"},{"$f":"S6","v":"P"},null,null,null,null,null,null,null,"Důvod"]
[null,32,1,"Vokoun","Filip",2011,"Stopaři",null,null,null,null,"0","-","ok","0","ok","0","2","1","7","4","0","","14","1:54:00","2:22:28","15","0","-","0","0","0","0","0","0:00:00","0:28:28","0:42:28",100,"II.",null,"Ne",""]
[null,"22",2,"Šeps","Erik",2010,"Plamínek","","","","","1","-","ok","0","ok","0","3","2","0","4","1","","11","1:34:00","2:08:19","13","0","-","0","0","0","0","0","0:00:00","0:34:19","0:45:19",93.3,"II.",null,"Ne",""]
[null,"25",3,"Andrašovský ","Vojtěch",2011,"Nezmaři","","","","","0","-","ok","0","ok","0","2","0","3","2","2","","9","1:40:00","2:25:44","20","0","-","0","0","0","0","0","0:00:00","0:45:44","0:54:44",71.099999999999994,null,null,"Ne",""]
[null,"1",4,"Žaloudek","Radek",2011,"Plamínek","","","","","2","-","ok","0","ok","0","3","2","1","4","0","","12","0:52:00","1:43:13","10","0","-","0","0","0","0","0","0:00:00","0:51:13","1:03:13",51.1,null,null,"Ne",""]

{"sheet":"MDD","index":9,"n_rows":8,"n_cols":42,"rows_kept":8,"cut":false,"hidden":false,"merged":[[0,1,0,41],[3,1,3,41],[4,11,4,23],[4,27,4,33],[4,40,4,41]]}
[null,{"$f":"CONCATENATE('Seznam účastníků'!B1,\", \",'Seznam účastníků'!B2:C2,\" - \",'Seznam účastníků'!B3)","v":"Mistrovství Královéhradeckého kraje, 18.4.2026 - Hradec Králové"}]
[]
[]
[null,"Mladší dorostenky (MDD)"]
[null,null,null,null,null,null,null,null,null,null,null,"Trestné minuty",null,null,null,null,null,null,null,null,null,null,null,null,"Start","Cíl","V","Zdržení v sekundách",null,null,null,null,null,null,"Zdržení","Čas na trati","Výsledný čas","Body","VT","Postup","Diskvalifikace"]
[null,"Start. číslo","Pořadí","Přijmení","Jméno","Ročník","Oddíl","Přijmení","Jméno","Ročník","Oddíl",{"$f":"Nastavení!R13","v":"V"},{"$f":"Nastavení!S13","v":"S"},{"$f":"Nastavení!T13","v":"Oa"},{"$f":"Nastavení!U13","v":"Om"},{"$f":"Nastavení!V13","v":"LL"},{"$f":"Nastavení!W13","v":"U"},{"$f":"Nastavení!X13","v":"M"},{"$f":"Nastavení!Y13","v":"P"},{"$f":"Nastavení!Z13","v":"TT"},{"$f":"Nastavení!AA13","v":"D"},{"$f":"Nastavení!B24","v":"KPČ"},{"$f":"Nastavení!AE13","v":"Trať"},"TM",null,null,"[m]",{"$f":"L6","v":"V"},{"$f":"M6","v":"S"},{"$f":"O6","v":"Om"},{"$f":"P6","v":"LL"},{"$f":"Q6","v":"U"},{"$f":"R6","v":"M"},{"$f":"S6","v":"P"},null,null,null,null,null,null,null,"Důvod"]
[null,"7",1,"Chamková","Tereza",2010,"Nezmaři","","","","","0","-","ok","0","ok","0","3","2","1","2","0","","8","1:04:00","1:45:24","15","0","-","0","0","0","0","0","0:00:00","0:41:24","0:49:24",100,null,null,"Ne",""]
[null,"13",2,"Růžičková","Viktorie",2011,"Nezmaři","","","","","2","-","ok","0","ok","0","3","2","2","4","0","","13","1:16:00","2:05:01","10","0","-","0:30","0","0","0","0","0:00:30","0:49:01","1:01:31",75.5,null,null,"Ne",""]

{"sheet":"SDD","index":10,"n_rows":8,"n_cols":42,"rows_kept":8,"cut":false,"hidden":false,"merged":[[0,1,0,41],[3,1,3,41],[4,11,4,23],[4,27,4,33],[4,40,4,41]]}
[null,{"$f":"CONCATENATE('Seznam účastníků'!B1,\", \",'Seznam účastníků'!B2:C2,\" - \",'Seznam účastníků'!B3)","v":"Mistrovství Královéhradeckého kraje, 18.4.2026 - Hradec Králové"}]
[]
[]
[null,"Starší dorostenky (SDD)"]
[null,null,null,null,null,null,null,null,null,null,null,"Trestné minuty",null,null,null,null,null,null,null,null,null,null,null,null,"Start","Cíl","V","Zdržení v sekundách",null,null,null,null,null,null,"Zdržení","Čas na trati","Výsledný čas","Body","VT","Postup","Diskvalifikace"]
[null,"Start. číslo","Pořadí","Přijmení","Jméno","Ročník","Oddíl","Přijmení","Jméno","Ročník","Oddíl",{"$f":"Nastavení!R13","v":"V"},{"$f":"Nastavení!S13","v":"S"},{"$f":"Nastavení!T13","v":"Oa"},{"$f":"Nastavení!U13","v":"Om"},{"$f":"Nastavení!V13","v":"LL"},{"$f":"Nastavení!W13","v":"U"},{"$f":"Nastavení!X13","v":"M"},{"$f":"Nastavení!Y13","v":"P"},{"$f":"Nastavení!Z13","v":"TT"},{"$f":"Nastavení!AA13","v":"D"},{"$f":"Nastavení!B24","v":"KPČ"},{"$f":"Nastavení!AE13","v":"Trať"},"TM",null,null,"[m]",{"$f":"L6","v":"V"},{"$f":"M6","v":"S"},{"$f":"O6","v":"Om"},{"$f":"P6","v":"LL"},{"$f":"Q6","v":"U"},{"$f":"R6","v":"M"},{"$f":"S6","v":"P"},null,null,null,null,null,null,null,"Důvod"]
[null,"4",1,"Šepsová","Irena",2008,"Plamínek","","","","","2","-","ok","0","ok","0","3","0","0","2","0","","7","0:58:00","1:32:12","11,5","0","-","0","0","0","0","0","0:00:00","0:34:12","0:41:12",100,null,null,"Ne",""]
[null,"14",2,"Andrašovská","Kateřina",2008,"Nezmaři","","","","","0","-","ok","0","ok","0","3","2","2","3","0","","10","1:18:00","2:03:50","16","0","-","0:30","0:30","0","0","0:40","0:01:40","0:45:50","0:54:10",68.5,null,null,"Ne",""]

{"sheet":"MA","index":11,"n_rows":6,"n_cols":42,"rows_kept":6,"cut":false,"hidden":false,"merged":[[0,1,0,41],[3,1,3,41],[4,11,4,23],[4,27,4,33],[4,40,4,41]]}
[null,{"$f":"CONCATENATE('Seznam účastníků'!B1,\", \",'Seznam účastníků'!B2:C2,\" - \",'Seznam účastníků'!B3)","v":"Mistrovství Královéhradeckého kraje, 18.4.2026 - Hradec Králové"}]
[]
[]
[null,"Muži A (MA)"]
[null,null,null,null,null,null,null,null,null,null,null,"Trestné minuty",null,null,null,null,null,null,null,null,null,null,null,null,"Start","Cíl","V","Zdržení v sekundách",null,null,null,null,null,null,"Zdržení","Čas na trati","Výsledný čas","Body","VT","Postup","Diskvalifikace"]
[null,"Start. číslo","Pořadí","Přijmení","Jméno","Ročník","Oddíl","Přijmení","Jméno","Ročník","Oddíl",{"$f":"Nastavení!R13","v":"V"},{"$f":"Nastavení!S13","v":"S"},{"$f":"Nastavení!T13","v":"Oa"},{"$f":"Nastavení!U13","v":"Om"},{"$f":"Nastavení!V13","v":"LL"},{"$f":"Nastavení!W13","v":"U"},{"$f":"Nastavení!X13","v":"M"},{"$f":"Nastavení!Y13","v":"P"},{"$f":"Nastavení!Z13","v":"TT"},{"$f":"Nastavení!AA13","v":"D"},{"$f":"Nastavení!B24","v":"KPČ"},{"$f":"Nastavení!AE13","v":"Trať"},"TM",null,null,"[m]",{"$f":"L6","v":"V"},{"$f":"M6","v":"S"},{"$f":"O6","v":"Om"},{"$f":"P6","v":"LL"},{"$f":"Q6","v":"U"},{"$f":"R6","v":"M"},{"$f":"S6","v":"P"},null,null,null,null,null,null,null,"Důvod"]

{"sheet":"ŽA","index":12,"n_rows":6,"n_cols":42,"rows_kept":6,"cut":false,"hidden":false,"merged":[[0,1,0,41],[3,1,3,41],[4,11,4,23],[4,27,4,33],[4,40,4,41]]}
[null,{"$f":"CONCATENATE('Seznam účastníků'!B1,\", \",'Seznam účastníků'!B2:C2,\" - \",'Seznam účastníků'!B3)","v":"Mistrovství Královéhradeckého kraje, 18.4.2026 - Hradec Králové"}]
[]
[]
[null,"Ženy A (ŽA)"]
[null,null,null,null,null,null,null,null,null,null,null,"Trestné minuty",null,null,null,null,null,null,null,null,null,null,null,null,"Start","Cíl","V","Zdržení v sekundách",null,null,null,null,null,null,"Zdržení","Čas na trati","Výsledný čas","Body","VT","Postup","Diskvalifikace"]
[null,"Start. číslo","Pořadí","Přijmení","Jméno","Ročník","Oddíl","Přijmení","Jméno","Ročník","Oddíl",{"$f":"Nastavení!R13","v":"V"},{"$f":"Nastavení!S13","v":"S"},{"$f":"Nastavení!T13","v":"Oa"},{"$f":"Nastavení!U13","v":"Om"},{"$f":"Nastavení!V13","v":"LL"},{"$f":"Nastavení!W13","v":"U"},{"$f":"Nastavení!X13","v":"M"},{"$f":"Nastavení!Y13","v":"P"},{"$f":"Nastavení!Z13","v":"TT"},{"$f":"Nastavení!AA13","v":"D"},{"$f":"Nastavení!B24","v":"KPČ"},{"$f":"Nastavení!AE13","v":"Trať"},"TM",null,null,"[m]",{"$f":"L6","v":"V"},{"$f":"M6","v":"S"},{"$f":"O6","v":"Om"},{"$f":"P6","v":"LL"},{"$f":"Q6","v":"U"},{"$f":"R6","v":"M"},{"$f":"S6","v":"P"},null,null,null,null,null,null,null,"Důvod"]

{"sheet":"MB","index":13,"n_rows":7,"n_cols":42,"rows_kept":7,"cut":false,"hidden":false,"merged":[[0,1,0,41],[3,1,3,41],[4,11,4,23],[4,27,4,33],[4,40,4,41]]}
[null,{"$f":"CONCATENATE('Seznam účastníků'!B1,\", \",'Seznam účastníků'!B2:C2,\" - \",'Seznam účastníků'!B3)","v":"Mistrovství Královéhradeckého kraje, 18.4.2026 - Hradec Králové"}]
[]
[]
[null,"Muži B (MB)"]
[null,null,null,null,null,null,null,null,null,null,null,"Trestné minuty",null,null,null,null,null,null,null,null,null,null,null,null,"Start","Cíl","V","Zdržení v sekundách",null,null,null,null,null,null,"Zdržení","Čas na trati","Výsledný čas","Body","VT","Postup","Diskvalifikace"]
[null,"Start. číslo","Pořadí","Přijmení","Jméno","Ročník","Oddíl","Přijmení","Jméno","Ročník","Oddíl",{"$f":"Nastavení!R13","v":"V"},{"$f":"Nastavení!S13","v":"S"},{"$f":"Nastavení!T13","v":"Oa"},{"$f":"Nastavení!U13","v":"Om"},{"$f":"Nastavení!V13","v":"LL"},{"$f":"Nastavení!W13","v":"U"},{"$f":"Nastavení!X13","v":"M"},{"$f":"Nastavení!Y13","v":"P"},{"$f":"Nastavení!Z13","v":"TT"},{"$f":"Nastavení!AA13","v":"D"},{"$f":"Nastavení!B24","v":"KPČ"},{"$f":"Nastavení!AE13","v":"Trať"},"TM",null,null,"[m]",{"$f":"L6","v":"V"},{"$f":"M6","v":"S"},{"$f":"O6","v":"Om"},{"$f":"P6","v":"LL"},{"$f":"Q6","v":"U"},{"$f":"R6","v":"M"},{"$f":"S6","v":"P"},null,null,null,null,null,null,null,"Důvod"]
[null,33,1,"Vejražka","Petr",1979,"Stopaři",null,null,null,null,"0","-","ok","0","ok","0","0","0","0","0","0","","0","1:56:00","2:17:39","20","0","-","0","0","0","0","0","0:00:00","0:21:39","0:21:39",100,null,null,"Ne",""]

{"sheet":"ŽB","index":14,"n_rows":7,"n_cols":42,"rows_kept":7,"cut":false,"hidden":false,"merged":[[0,1,0,41],[3,1,3,41],[4,11,4,23],[4,27,4,33],[4,40,4,41]]}
[null,{"$f":"CONCATENATE('Seznam účastníků'!B1,\", \",'Seznam účastníků'!B2:C2,\" - \",'Seznam účastníků'!B3)","v":"Mistrovství Královéhradeckého kraje, 18.4.2026 - Hradec Králové"}]
[]
[]
[null,"Ženy B (ŽB)"]
[null,null,null,null,null,null,null,null,null,null,null,"Trestné minuty",null,null,null,null,null,null,null,null,null,null,null,null,"Start","Cíl","V","Zdržení v sekundách",null,null,null,null,null,null,"Zdržení","Čas na trati","Výsledný čas","Body","VT","Postup","Diskvalifikace"]
[null,"Start. číslo","Pořadí","Přijmení","Jméno","Ročník","Oddíl","Přijmení","Jméno","Ročník","Oddíl",{"$f":"Nastavení!R13","v":"V"},{"$f":"Nastavení!S13","v":"S"},{"$f":"Nastavení!T13","v":"Oa"},{"$f":"Nastavení!U13","v":"Om"},{"$f":"Nastavení!V13","v":"LL"},{"$f":"Nastavení!W13","v":"U"},{"$f":"Nastavení!X13","v":"M"},{"$f":"Nastavení!Y13","v":"P"},{"$f":"Nastavení!Z13","v":"TT"},{"$f":"Nastavení!AA13","v":"D"},{"$f":"Nastavení!B24","v":"KPČ"},{"$f":"Nastavení!AE13","v":"Trať"},"TM",null,null,"[m]",{"$f":"L6","v":"V"},{"$f":"M6","v":"S"},{"$f":"O6","v":"Om"},{"$f":"P6","v":"LL"},{"$f":"Q6","v":"U"},{"$f":"R6","v":"M"},{"$f":"S6","v":"P"},null,null,null,null,null,null,null,"Důvod"]
[null,"10",1,"Podlipná","Alena",1985,"Nezmaři","","","","","0","-","ok","0","ok","0","1","0","0","0","0","","1","1:10:00","1:37:53","18","0","-","0","0","0","0","0","0:00:00","0:27:53","0:28:53",100,null,null,"Ne",""]

{"sheet":"MC","index":15,"n_rows":8,"n_cols":42,"rows_kept":8,"cut":false,"hidden":false,"merged":[[0,1,0,41],[3,1,3,41],[4,11,4,23],[4,27,4,33],[4,40,4,41]]}
[null,{"$f":"CONCATENATE('Seznam účastníků'!B1,\", \",'Seznam účastníků'!B2:C2,\" - \",'Seznam účastníků'!B3)","v":"Mistrovství Královéhradeckého kraje, 18.4.2026 - Hradec Králové"}]
[]
[]
[null,"Muži C (MC)"]
[null,null,null,null,null,null,null,null,null,null,null,"Trestné minuty",null,null,null,null,null,null,null,null,null,null,null,null,"Start","Cíl","V","Zdržení v sekundách",null,null,null,null,null,null,"Zdržení","Čas na trati","Výsledný čas","Body","VT","Postup","Diskvalifikace"]
[null,"Start. číslo","Pořadí","Přijmení","Jméno","Ročník","Oddíl","Přijmení","Jméno","Ročník","Oddíl",{"$f":"Nastavení!R13","v":"V"},{"$f":"Nastavení!S13","v":"S"},{"$f":"Nastavení!T13","v":"Oa"},{"$f":"Nastavení!U13","v":"Om"},{"$f":"Nastavení!V13","v":"LL"},{"$f":"Nastavení!W13","v":"U"},{"$f":"Nastavení!X13","v":"M"},{"$f":"Nastavení!Y13","v":"P"},{"$f":"Nastavení!Z13","v":"TT"},{"$f":"Nastavení!AA13","v":"D"},{"$f":"Nastavení!B24","v":"KPČ"},{"$f":"Nastavení!AE13","v":"Trať"},"TM",null,null,"[m]",{"$f":"L6","v":"V"},{"$f":"M6","v":"S"},{"$f":"O6","v":"Om"},{"$f":"P6","v":"LL"},{"$f":"Q6","v":"U"},{"$f":"R6","v":"M"},{"$f":"S6","v":"P"},null,null,null,null,null,null,null,"Důvod"]
[null,31,1,"Fúsek","Tomáš",1966,"Stopaři",null,null,null,null,"1","-","ok","0","ok","0","0","0","0","0","0","","1","1:52:00","2:14:25","12","0","-","0","0","0","0","0","0:00:00","0:22:25","0:23:25",100,null,null,"Ne",""]
[null,"27",2,"Hrouda","Petr",1969,"TZ Kometa Brno, z.s.","","","","","0","-","ok","0","ok","0","2","1","0","0","0","","3","1:44:00","2:07:43","20","0","-","0","0","0","0","0","0:00:00","0:23:43","0:26:43",85.9,null,null,"Ne",""]

{"sheet":"ŽC","index":16,"n_rows":6,"n_cols":42,"rows_kept":6,"cut":false,"hidden":false,"merged":[[0,1,0,41],[3,1,3,41],[4,11,4,23],[4,27,4,33],[4,40,4,41]]}
[null,{"$f":"CONCATENATE('Seznam účastníků'!B1,\", \",'Seznam účastníků'!B2:C2,\" - \",'Seznam účastníků'!B3)","v":"Mistrovství Královéhradeckého kraje, 18.4.2026 - Hradec Králové"}]
[]
[]
[null,"Ženy C (ŽC)"]
[null,null,null,null,null,null,null,null,null,null,null,"Trestné minuty",null,null,null,null,null,null,null,null,null,null,null,null,"Start","Cíl","V","Zdržení v sekundách",null,null,null,null,null,null,"Zdržení","Čas na trati","Výsledný čas","Body","VT","Postup","Diskvalifikace"]
[null,"Start. číslo","Pořadí","Přijmení","Jméno","Ročník","Oddíl","Přijmení","Jméno","Ročník","Oddíl",{"$f":"Nastavení!R13","v":"V"},{"$f":"Nastavení!S13","v":"S"},{"$f":"Nastavení!T13","v":"Oa"},{"$f":"Nastavení!U13","v":"Om"},{"$f":"Nastavení!V13","v":"LL"},{"$f":"Nastavení!W13","v":"U"},{"$f":"Nastavení!X13","v":"M"},{"$f":"Nastavení!Y13","v":"P"},{"$f":"Nastavení!Z13","v":"TT"},{"$f":"Nastavení!AA13","v":"D"},{"$f":"Nastavení!B24","v":"KPČ"},{"$f":"Nastavení!AE13","v":"Trať"},"TM",null,null,"[m]",{"$f":"L6","v":"V"},{"$f":"M6","v":"S"},{"$f":"O6","v":"Om"},{"$f":"P6","v":"LL"},{"$f":"Q6","v":"U"},{"$f":"R6","v":"M"},{"$f":"S6","v":"P"},null,null,null,null,null,null,null,"Důvod"]

{"sheet":"D+D","index":17,"n_rows":11,"n_cols":42,"rows_kept":11,"cut":false,"hidden":false,"merged":[[0,1,0,41],[3,1,3,41],[4,11,4,23],[4,27,4,33],[4,40,4,41]]}
[null,{"$f":"CONCATENATE('Seznam účastníků'!B1,\", \",'Seznam účastníků'!B2:C2,\" - \",'Seznam účastníků'!B3)","v":"Mistrovství Královéhradeckého kraje, 18.4.2026 - Hradec Králové"}]
[]
[]
[null,"Dítě s doprovodem (D+D)"]
[null,null,null,null,null,null,null,null,null,null,null,"Trestné minuty",null,null,null,null,null,null,null,null,null,null,null,null,"Start","Cíl","V","Zdržení v sekundách",null,null,null,null,null,null,"Zdržení","Čas na trati","Výsledný čas","Body","VT","Postup","Diskvalifikace"]
[null,"Start. číslo","Pořadí","Přijmení","Jméno","Ročník","Oddíl","Přijmení","Jméno","Ročník","Oddíl",{"$f":"Nastavení!R13","v":"V"},{"$f":"Nastavení!S13","v":"S"},{"$f":"Nastavení!T13","v":"Oa"},{"$f":"Nastavení!U13","v":"Om"},{"$f":"Nastavení!V13","v":"LL"},{"$f":"Nastavení!W13","v":"U"},{"$f":"Nastavení!X13","v":"M"},{"$f":"Nastavení!Y13","v":"P"},{"$f":"Nastavení!Z13","v":"TT"},{"$f":"Nastavení!AA13","v":"D"},{"$f":"Nastavení!B24","v":"KPČ"},{"$f":"Nastavení!AE13","v":"Trať"},"TM",null,null,"[m]",{"$f":"L6","v":"V"},{"$f":"M6","v":"S"},{"$f":"O6","v":"Om"},{"$f":"P6","v":"LL"},{"$f":"Q6","v":"U"},{"$f":"R6","v":"M"},{"$f":"S6","v":"P"},null,null,null,null,null,null,null,"Důvod"]
[null,"8",1,"Fúsková","Lucie",2018,"Nezmaři",null,null,null,null,"-","-","-","0","ok","0","1","1","1","1","0","","4","1:06:00","1:28:11","","-","-","0","0","0","0","0:10","0:00:10","0:22:11","0:26:01",null,null,null,"Ne",""]
[null,"3",2,"Podlipná","Tereza","2021","Nezmaři",null,null,null,null,"-","-","-","0","ok","0","3","0","0","0","0","","3","0:56:00","1:25:35","","-","-","0","0","0","0","0","0:00:00","0:29:35","0:32:35",null,null,null,"Ne",""]
[null,"11",3,"Matějková","Emily",2019,"Nezmaři","","","","","-","-","-","0","ok","0","3","0","2","1","0","","6","1:12:00","1:39:17","","-","-","0","0","0","0","0:30","0:00:30","0:27:17","0:32:47",null,null,null,"Ne",""]
[null,"15",4,"Ursíková","Veronika",2020,"Nezmaři","","","","","-","-","-","0","ok","0","3","0","0","1","0","","4","1:20:00","1:49:07","","-","-","0","0","0","0","0","0:00:00","0:29:07","0:33:07",null,null,null,"Ne",""]
[null,"26",5,"Vejražka","Pavel",2021,"Stopaři",null,null,null,null,"-","-","-","0","ok","0","3","0","2","1","0","","6","1:42:00","2:12:12","","-","-","0","0","0","0","0","0:00:00","0:30:12","0:36:12",null,null,null,"Ne",""]

{"sheet":"DVOJ","index":18,"n_rows":6,"n_cols":42,"rows_kept":6,"cut":false,"hidden":false,"merged":[[0,1,0,41],[3,1,3,41],[4,11,4,23],[4,27,4,33],[4,40,4,41]]}
[null,{"$f":"CONCATENATE('Seznam účastníků'!B1,\", \",'Seznam účastníků'!B2:C2,\" - \",'Seznam účastníků'!B3)","v":"Mistrovství Královéhradeckého kraje, 18.4.2026 - Hradec Králové"}]
[]
[]
[null,"Dvojice (DVOJ)"]
[null,null,null,null,null,null,null,null,null,null,null,"Trestné minuty",null,null,null,null,null,null,null,null,null,null,null,null,"Start","Cíl","V","Zdržení v sekundách",null,null,null,null,null,null,"Zdržení","Čas na trati","Výsledný čas","Body","VT","Postup","Diskvalifikace"]
[null,"Start. číslo","Pořadí","Přijmení","Jméno","Ročník","Oddíl","Přijmení","Jméno","Ročník","Oddíl",{"$f":"Nastavení!R13","v":"V"},{"$f":"Nastavení!S13","v":"S"},{"$f":"Nastavení!T13","v":"Oa"},{"$f":"Nastavení!U13","v":"Om"},{"$f":"Nastavení!V13","v":"LL"},{"$f":"Nastavení!W13","v":"U"},{"$f":"Nastavení!X13","v":"M"},{"$f":"Nastavení!Y13","v":"P"},{"$f":"Nastavení!Z13","v":"TT"},{"$f":"Nastavení!AA13","v":"D"},{"$f":"Nastavení!B24","v":"KPČ"},{"$f":"Nastavení!AE13","v":"Trať"},"TM",null,null,"[m]",{"$f":"L6","v":"V"},{"$f":"M6","v":"S"},{"$f":"O6","v":"Om"},{"$f":"P6","v":"LL"},{"$f":"Q6","v":"U"},{"$f":"R6","v":"M"},{"$f":"S6","v":"P"},null,null,null,null,null,null,null,"Důvod"]

{"sheet":"MS-B","index":19,"n_rows":6,"n_cols":42,"rows_kept":6,"cut":false,"hidden":false,"merged":[[0,1,0,41],[3,1,3,41],[4,11,4,23],[4,27,4,33],[4,40,4,41]]}
[null,{"$f":"CONCATENATE('Seznam účastníků'!B1,\", \",'Seznam účastníků'!B2:C2,\" - \",'Seznam účastníků'!B3)","v":"Mistrovství Královéhradeckého kraje, 18.4.2026 - Hradec Králové"}]
[]
[]
[null,"Mimo soutěž-bílá trať (MS-B)"]
[null,null,null,null,null,null,null,null,null,null,null,"Trestné minuty",null,null,null,null,null,null,null,null,null,null,null,null,"Start","Cíl","V","Zdržení v sekundách",null,null,null,null,null,null,"Zdržení","Čas na trati","Výsledný čas","Body","VT","Postup","Diskvalifikace"]
[null,"Start. číslo","Pořadí","Přijmení","Jméno","Ročník","Oddíl","Přijmení","Jméno","Ročník","Oddíl",{"$f":"Nastavení!R13","v":"V"},{"$f":"Nastavení!S13","v":"S"},{"$f":"Nastavení!T13","v":"Oa"},{"$f":"Nastavení!U13","v":"Om"},{"$f":"Nastavení!V13","v":"LL"},{"$f":"Nastavení!W13","v":"U"},{"$f":"Nastavení!X13","v":"M"},{"$f":"Nastavení!Y13","v":"P"},{"$f":"Nastavení!Z13","v":"TT"},{"$f":"Nastavení!AA13","v":"D"},{"$f":"Nastavení!B24","v":"KPČ"},{"$f":"Nastavení!AE13","v":"Trať"},"TM",null,null,"[m]",{"$f":"L6","v":"V"},{"$f":"M6","v":"S"},{"$f":"O6","v":"Om"},{"$f":"P6","v":"LL"},{"$f":"Q6","v":"U"},{"$f":"R6","v":"M"},{"$f":"S6","v":"P"},null,null,null,null,null,null,null,"Důvod"]

{"sheet":"Krycí list","index":20,"n_rows":20,"n_cols":11,"rows_kept":20,"cut":false,"hidden":false,"merged":[[4,1,4,26]]}
[]
[]
[]
[]
[null,{"$f":"CONCATENATE('Seznam účastníků'!B1:F1)","v":"Mistrovství Královéhradeckého kraje"}]
[]
[]
[null,"Pořadatel:TOM Nezmaři Předměřice",null,null,null,null,null,null,null,null,"KONTAKTY NA VEDOUCÍ ODDÍLŮ:"]
[null,null,null,null,null,null,null,null,null,null,"TZ Kometa Brno, z.s. - Lenka Slabáková,  E: ls.snilek@seznam.cz, T: 608107321"]
[null,{"$f":"CONCATENATE(\"Datum konání: \",'Seznam účastníků'!B2:F2)","v":"Datum konání: 18.4.2026"},null,null,null,null,null,null,null,null,"TOM Nezmaři Předměřice - Ing. Luboš Podlipný, podlipny.l@volny.cz, T: 602 583 250"]
[null,null,null,null,null,null,null,null,null,null,"TOM Plamínek - Miroslav Opat, tom.plaminek@seznam.cz, T: 739 176 101"]
[null,{"$f":"CONCATENATE(\"Místo konání: \",'Seznam účastníků'!B3:F3)","v":"Místo konání: Hradec Králové"},null,null,null,null,null,null,null,null,"TOM Stopaři - Tomáš Fúsek, foto@fusek-design.com, T: 739 452 734"]
[]
[null,"Ředitel závodu:Ing. Luboš Podlipný"]
[]
[null,"Hlavní rozhodčí: Jiří Gabriel"]
[]
[null,"Stavitel trati:Ing. Petr Matějka"]
[]
[null,"Počtářská komise: Ing. Jana Podlipná"]

{"sheet":"Výsledková listina","index":21,"n_rows":93,"n_cols":28,"rows_kept":93,"cut":false,"hidden":false,"merged":[[86,6,86,18],[4,1,4,27],[6,6,6,18],[11,6,11,18],[18,6,18,18],[26,6,26,18],[33,6,33,18],[40,6,40,18],[45,6,45,18],[53,6,53,18],[64,6,64,18],[59,6,59,18],[70,6,70,18],[75,6,75,18],[80,6,80,18]]}
[]
[null,null,null,null,null,null,null,null,null,null,null,null,null,null,null,null,null,null,null,null,null,null,"Poslední načtení výsledkové listiny provedeno:","19.4.2026 15:26:20"]
[]
[]
[null,{"$f":"CONCATENATE(\"Výsledková listina pro \",'Seznam účastníků'!B1:F1,\" konaného dne \",'Seznam účastníků'!B2:F2,\" - \",'Seznam účastníků'!B3:F3)","v":"Výsledková listina pro Mistrovství Královéhradeckého kraje konaného dne 18.4.2026 - Hradec Králové"}]
[null,null,null,null,null,null,null,null,null,null,null,"Nejmladší žáci (NŽH)"]
[null,"Pořadí","Start.","Závodníci","Ročník","Oddíl","Trestné minuty",null,null,null,null,null,null,null,null,null,null,null,null,"","Start","Cíl","Zdržení","Čas","Výsledný","Body","VT","Postup"]
[null,null,"číslo",null,null,null,"V","S","Oa","Om","LL","U","M","P","TT","D","KPČ","MKPČ","TM","",null,null,null,"na trati","čas"]
[null,1,21,"Martinek Ludvík",2016,"Nezmaři","-","-","-",0,"ok",0,1,2,6,5,4,null,18,null,"01:32:00","01:55:31","00:00:00","00:23:31","00:41:31",100]
[]
[null,null,null,null,null,null,null,null,null,null,null,"Nejmladší žákyně (NŽD)"]
[null,"Pořadí","Start.","Závodníci","Ročník","Oddíl","Trestné minuty",null,null,null,null,null,null,null,null,null,null,null,null,"","Start","Cíl","Zdržení","Čas","Výsledný","Body","VT","Postup"]
[null,null,"číslo",null,null,null,"V","S","Oa","Om","LL","U","M","P","TT","D","KPČ","MKPČ","TM","",null,null,null,"na trati","čas"]
[null,1,23,"Vejražková Dora",2016,"Stopaři","-","-","-",0,"ok",0,0,0,0,1,0,null,1,null,"01:36:00","01:55:32","00:00:00","00:19:32","00:20:32",100,"II."]
[null,2,6,"Fúsková Marie",2017,"Nezmaři","-","-","-",0,"ok",0,2,0,0,1,1,null,4,null,"01:02:00","01:28:17","00:00:40","00:26:17","00:29:37",55.8]
[null,3,12,"Hronová Klára",2016,"Stopaři","-","-","-",0,"ok",2,1,1,6,1,0,null,11,null,"01:14:00","01:34:46","00:00:00","00:20:46","00:31:46",45.3]
[]
[null,null,null,null,null,null,null,null,null,null,null,"Mladší žáci (MŽH)"]
[null,"Pořadí","Start.","Závodníci","Ročník","Oddíl","Trestné minuty",null,null,null,null,null,null,null,null,null,null,null,null,"V [m]","Start","Cíl","Zdržení","Čas","Výsledný","Body","VT","Postup"]
[null,null,"číslo",null,null,null,"V","S","Oa","Om","LL","U","M","P","TT","D","KPČ","MKPČ","TM","(25,5)",null,null,null,"na trati","čas"]
[null,1,30,"Vejražka David",2014,"Stopaři",0,"-","ok",0,"ok",0,1,0,1,0,1,null,3,25,"01:50:00","02:10:40","00:00:20","00:20:40","00:23:20",100,"II."]
[null,2,19,"Pexa Kryštof",2015,"Stopaři",1,"-","ok",0,"ok",0,1,0,3,1,0,null,6,20,"01:28:00","01:47:57","00:00:00","00:19:57","00:25:57",88.8,"III."]
[null,3,17,"Růžička Richard",2014,"Nezmaři",1,"-","ok",0,"ok",0,1,2,6,1,1,null,12,20,"01:24:00","01:47:35","00:02:00","00:23:35","00:33:35",56.1]
[null,4,24,"Vokoun Patrik",2014,"Stopaři",0,"-","ok",0,"ok",0,0,2,6,2,5,null,15,30,"01:38:00","02:16:57","00:00:00","00:38:57","00:53:57",0]
[]
[null,null,null,null,null,null,null,null,null,null,null,"Mladší žákyně (MŽD)"]
[null,"Pořadí","Start.","Závodníci","Ročník","Oddíl","Trestné minuty",null,null,null,null,null,null,null,null,null,null,null,null,"V [m]","Start","Cíl","Zdržení","Čas","Výsledný","Body","VT","Postup"]
[null,null,"číslo",null,null,null,"V","S","Oa","Om","LL","U","M","P","TT","D","KPČ","MKPČ","TM","(25,5)",null,null,null,"na trati","čas"]
[null,1,16,"Kalousková Adéla",2015,"Stopaři",1,"-","ok",0,"ok",0,2,0,0,1,0,null,4,20,"01:22:00","01:41:23","00:00:00","00:19:23","00:23:23",100,"III."]
[null,2,2,"Kalousková Nela",2015,"Stopaři",0,"-","ok",0,"ok",0,1,0,1,1,0,null,3,27,"00:54:00","01:15:40","00:00:00","00:21:40","00:24:40",94.5,"III."]
[null,3,28,"Muchová Eliška",2015,"Stopaři",0,"-","ok",0,"ok",2,3,0,4,3,0,null,12,23,"01:46:00","02:08:46","00:00:00","00:22:46","00:34:46",51.3]
[]
[null,null,null,null,null,null,null,null,null,null,null,"Starší žáci (SŽH)"]
[null,"Pořadí","Start.","Závodníci","Ročník","Oddíl","Trestné minuty",null,null,null,null,null,null,null,null,null,null,null,null,"V [m]","Start","Cíl","Zdržení","Čas","Výsledný","Body","VT","Postup"]
[null,null,"číslo",null,null,null,"V","S","Oa","Om","LL","U","M","P","TT","D","KPČ","MKPČ","TM","(25,5)",null,null,null,"na trati","čas"]
[null,1,18,"Knap Matěj",2012,"Stopaři",0,"-","ok",0,"ok",0,0,0,2,1,0,null,3,30,"01:26:00","01:44:26","00:02:10","00:18:26","00:19:16",100,"II."]
[null,2,29,"Kalousek Patrik",2013,"Stopaři",0,"-","ok",0,"ok",0,0,0,0,2,0,null,2,25,"01:48:00","02:06:04","00:00:00","00:18:04","00:20:04",95.8,"II."]
[null,3,5,"Paulus Vilém",2013,"Nezmaři",2,"-","ok",0,"ok",0,3,2,1,1,0,null,9,45,"01:00:00","01:26:35","00:00:00","00:26:35","00:35:35",15.3]
[]
[null,null,null,null,null,null,null,null,null,null,null,"Starší žákyně (SŽD)"]
[null,"Pořadí","Start.","Závodníci","Ročník","Oddíl","Trestné minuty",null,null,null,null,null,null,null,null,null,null,null,null,"V [m]","Start","Cíl","Zdržení","Čas","Výsledný","Body","VT","Postup"]
[null,null,"číslo",null,null,null,"V","S","Oa","Om","LL","U","M","P","TT","D","KPČ","MKPČ","TM","(25,5)",null,null,null,"na trati","čas"]
[null,1,9,"Vejražková Zuzana",2012,"Stopaři",0,"-","ok",0,"ok",0,1,0,1,1,0,null,3,23,"01:08:00","01:27:37","00:01:00","00:19:37","00:21:37",100]
[]
[null,null,null,null,null,null,null,null,null,null,null,"Mladší dorostenci (MDH)"]
[null,"Pořadí","Start.","Závodníci","Ročník","Oddíl","Trestné minuty",null,null,null,null,null,null,null,null,null,null,null,null,"V [m]","Start","Cíl","Zdržení","Čas","Výsledný","Body","VT","Postup"]
[null,null,"číslo",null,null,null,"V","S","Oa","Om","LL","U","M","P","TT","D","KPČ","MKPČ","TM","(17)",null,null,null,"na trati","čas"]
[null,1,32,"Vokoun Filip",2011,"Stopaři",0,"-","ok",0,"ok",0,2,1,7,4,0,null,14,15,"01:54:00","02:22:28","00:00:00","00:28:28","00:42:28",100,"II."]
[null,2,22,"Šeps Erik",2010,"Plamínek",1,"-","ok",0,"ok",0,3,2,0,4,1,null,11,13,"01:34:00","02:08:19","00:00:00","00:34:19","00:45:19",93.3,"II."]
[null,3,25,"Andrašovský  Vojtěch",2011,"Nezmaři",0,"-","ok",0,"ok",0,2,0,3,2,2,null,9,20,"01:40:00","02:25:44","00:00:00","00:45:44","00:54:44",71.099999999999994]
[null,4,1,"Žaloudek Radek",2011,"Plamínek",2,"-","ok",0,"ok",0,3,2,1,4,0,null,12,10,"00:52:00","01:43:13","00:00:00","00:51:13","01:03:13",51.1]
[]
[null,null,null,null,null,null,null,null,null,null,null,"Mladší dorostenky (MDD)"]
[null,"Pořadí","Start.","Závodníci","Ročník","Oddíl","Trestné minuty",null,null,null,null,null,null,null,null,null,null,null,null,"V [m]","Start","Cíl","Zdržení","Čas","Výsledný","Body","VT","Postup"]
[null,null,"číslo",null,null,null,"V","S","Oa","Om","LL","U","M","P","TT","D","KPČ","MKPČ","TM","(17)",null,null,null,"na trati","čas"]
[null,1,7,"Chamková Tereza",2010,"Nezmaři",0,"-","ok",0,"ok",0,3,2,1,2,0,null,8,15,"01:04:00","01:45:24","00:00:00","00:41:24","00:49:24",100]
[null,2,13,"Růžičková Viktorie",2011,"Nezmaři",2,"-","ok",0,"ok",0,3,2,2,4,0,null,13,10,"01:16:00","02:05:01","00:00:30","00:49:01","01:01:31",75.5]
[]
[null,null,null,null,null,null,null,null,null,null,null,"Starší dorostenci (SDH)"]
[null,"Pořadí","Start.","Závodníci","Ročník","Oddíl","Trestné minuty",null,null,null,null,null,null,null,null,null,null,null,null,"V [m]","Start","Cíl","Zdržení","Čas","Výsledný","Body","VT","Postup"]
[null,null,"číslo",null,null,null,"V","S","Oa","Om","LL","U","M","P","TT","D","KPČ","MKPČ","TM","(17)",null,null,null,"na trati","čas"]
[null,1,20,"Žaloudek Petr",2009,"Plamínek",0,"-","ok",0,"ok",0,1,2,1,2,3,null,9,16,"00:58:00","01:32:12","00:00:00","00:22:00","00:31:00",100]
[]
[null,null,null,null,null,null,null,null,null,null,null,"Starší dorostenky (SDD)"]
[null,"Pořadí","Start.","Závodníci","Ročník","Oddíl","Trestné minuty",null,null,null,null,null,null,null,null,null,null,null,null,"V [m]","Start","Cíl","Zdržení","Čas","Výsledný","Body","VT","Postup"]
[null,null,"číslo",null,null,null,"V","S","Oa","Om","LL","U","M","P","TT","D","KPČ","MKPČ","TM","(17)",null,null,null,"na trati","čas"]
[null,1,4,"Šepsová Irena",2008,"Plamínek",2,"-","ok",0,"ok",0,3,0,0,2,0,null,7,"11,5","00:58:00","01:32:12","00:00:00","00:34:12","00:41:12",100]
[null,2,14,"Andrašovská Kateřina",2008,"Nezmaři",0,"-","ok",0,"ok",0,3,2,2,3,0,null,10,16,"01:18:00","02:03:50","00:01:40","00:45:50","00:54:10",68.5]
[]
[null,null,null,null,null,null,null,null,null,null,null,"Muži B (MB)"]
[null,"Pořadí","Start.","Závodníci","Ročník","Oddíl","Trestné minuty",null,null,null,null,null,null,null,null,null,null,null,null,"V [m]","Start","Cíl","Zdržení","Čas","Výsledný","Body","VT","Postup"]
[null,null,"číslo",null,null,null,"V","S","Oa","Om","LL","U","M","P","TT","D","KPČ","MKPČ","TM","(17)",null,null,null,"na trati","čas"]
[null,1,33,"Vejražka Petr",1979,"Stopaři",0,"-","ok",0,"ok",0,0,0,0,0,0,null,0,20,"01:56:00","02:17:39","00:00:00","00:21:39","00:21:39",100]
[]
[null,null,null,null,null,null,null,null,null,null,null,"Ženy B (ŽB)"]
[null,"Pořadí","Start.","Závodníci","Ročník","Oddíl","Trestné minuty",null,null,null,null,null,null,null,null,null,null,null,null,"V [m]","Start","Cíl","Zdržení","Čas","Výsledný","Body","VT","Postup"]
[null,null,"číslo",null,null,null,"V","S","Oa","Om","LL","U","M","P","TT","D","KPČ","MKPČ","TM","(17)",null,null,null,"na trati","čas"]
[null,1,10,"Podlipná Alena",1985,"Nezmaři",0,"-","ok",0,"ok",0,1,0,0,0,0,null,1,18,"01:10:00","01:37:53","00:00:00","00:27:53","00:28:53",100]
[]
[null,null,null,null,null,null,null,null,null,null,null,"Muži C (MC)"]
[null,"Pořadí","Start.","Závodníci","Ročník","Oddíl","Trestné minuty",null,null,null,null,null,null,null,null,null,null,null,null,"V [m]","Start","Cíl","Zdržení","Čas","Výsledný","Body","VT","Postup"]
[null,null,"číslo",null,null,null,"V","S","Oa","Om","LL","U","M","P","TT","D","KPČ","MKPČ","TM","(17)",null,null,null,"na trati","čas"]
[null,1,31,"Fúsek Tomáš",1966,"Stopaři",1,"-","ok",0,"ok",0,0,0,0,0,0,null,1,12,"01:52:00","02:14:25","00:00:00","00:22:25","00:23:25",100]
[null,2,27,"Hrouda Petr",1969,"TZ Kometa Brno, z.s.",0,"-","ok",0,"ok",0,2,1,0,0,0,null,3,20,"01:44:00","02:07:43","00:00:00","00:23:43","00:26:43",85.9]
[]
[null,null,null,null,null,null,null,null,null,null,null,"Dítě s doprovodem (D+D)"]
[null,"Pořadí","Start.","Závodníci","Ročník","Oddíl","Trestné minuty",null,null,null,null,null,null,null,null,null,null,null,null,"","Start","Cíl","Zdržení","Čas","Výsledný","Body","VT","Postup"]
[null,null,"číslo",null,null,null,"V","S","Oa","Om","LL","U","M","P","TT","D","KPČ","MKPČ","TM","",null,null,null,"na trati","čas"]
[null,1,8,"Fúsková Lucie",2018,"Nezmaři","-","-","-",0,"ok",0,1,1,1,1,0,null,4,null,"01:06:00","01:28:11","00:00:10","00:22:11","00:26:01"]
[null,2,3,"Podlipná Tereza",2021,"Nezmaři","-","-","-",0,"ok",0,3,0,0,0,0,null,3,null,"00:56:00","01:25:35","00:00:00","00:29:35","00:32:35"]
[null,3,11,"Matějková Emily",2019,"Nezmaři","-","-","-",0,"ok",0,3,0,2,1,0,null,6,null,"01:12:00","01:39:17","00:00:30","00:27:17","00:32:47"]
[null,4,15,"Ursíková Veronika",2020,"Nezmaři","-","-","-",0,"ok",0,3,0,0,1,0,null,4,null,"01:20:00","01:49:07","00:00:00","00:29:07","00:33:07"]
[null,5,26,"Vejražka Pavel",2021,"Stopaři","-","-","-",0,"ok",0,3,0,2,1,0,null,6,null,"01:42:00","02:12:12","00:00:00","00:30:12","00:36:12"]

{"sheet":"Pohár","index":22,"n_rows":20,"n_cols":3,"rows_kept":20,"cut":false,"hidden":false,"merged":[]}
[]
[]
[null,"Poslední načtení poháru provedeno 19.4.2026 16:45:47"]
[]
[null,"Pohár žactvo"]
[null,"Oddíl","Body"]
[null,"Stopaři",500]
[null,"Nezmaři",227.2]
[]
[null,"Pohár dorost"]
[null,"Oddíl","Body"]
[null,"Nezmaři",315.10000000000002]
[null,"Plamínek",244.4]
[null,"Stopaři",100]
[]
[null,"Pohár dospělí"]
[null,"Oddíl","Body"]
[null,"Stopaři",200]
[null,"Nezmaři",100]
[null,"TZ Kometa Brno, z.s.",85.9]

{"sheet":"Zdroj","index":23,"n_rows":6,"n_cols":42,"rows_kept":6,"cut":false,"hidden":false,"merged":[[0,1,0,41],[3,1,3,41],[4,11,4,23],[4,27,4,33],[4,40,4,41]]}
[null,{"$f":"CONCATENATE('Seznam účastníků'!B1,\", \",'Seznam účastníků'!B2:C2,\" - \",'Seznam účastníků'!B3)","v":"Mistrovství Královéhradeckého kraje, 18.4.2026 - Hradec Králové"}]
[]
[]
[null,"Nejmladší žáci (NŽH)"]
[null,null,null,null,null,null,null,null,null,null,null,"Trestné minuty",null,null,null,null,null,null,null,null,null,null,null,null,"Start","Cíl","V","Zdržení v sekundách",null,null,null,null,null,null,"Zdržení","Čas na trati","Výsledný čas","Body","VT","Postup","Diskvalifikace"]
[null,"Start. číslo","Pořadí","Přijmení","Jméno","Ročník","Oddíl","Přijmení","Jméno","Ročník","Oddíl",{"$f":"Nastavení!R13","v":"V"},{"$f":"Nastavení!S13","v":"S"},{"$f":"Nastavení!T13","v":"Oa"},{"$f":"Nastavení!U13","v":"Om"},{"$f":"Nastavení!V13","v":"LL"},{"$f":"Nastavení!W13","v":"U"},{"$f":"Nastavení!X13","v":"M"},{"$f":"Nastavení!Y13","v":"P"},{"$f":"Nastavení!Z13","v":"TT"},{"$f":"Nastavení!AA13","v":"D"},{"$f":"Nastavení!B24","v":"KPČ"},{"$f":"Nastavení!AE13","v":"Trať"},"TM",null,null,"[m]",{"$f":"L6","v":"V"},{"$f":"M6","v":"S"},{"$f":"O6","v":"Om"},{"$f":"P6","v":"LL"},{"$f":"Q6","v":"U"},{"$f":"R6","v":"M"},{"$f":"S6","v":"P"},null,null,null,null,null,null,null,"Důvod"]

{"sheet":"List1","index":24,"n_rows":0,"n_cols":0,"rows_kept":0,"cut":false,"hidden":false,"merged":[]}