{"text_format":"1","workbook":"xlsx","n_sheets":20,"sheets":["Nastavení","Seznam účastníků","NŽH","NŽD","MŽH","SŽH","SŽD","MDH","MDD","SDD","MA","ŽA","MB","ŽB","MC","D+D","Krycí list","Výsledková listina","Pohár","Zdroj"],"not_rendered":{"charts":0,"images":72,"macros":1,"external_links":0,"defined_names":23,"comments":1,"pivot_tables":0},"unopened":[],"bounds":{"document_bytes":16777216,"sheet_cells":100000,"rows_first":2000,"rows_last":500,"rows_between":2000,"halvings":0,"cell_chars":16384,"cell_head_chars":4096},"cells_cut":0,"cells_raw":0,"read":"whole","date_system":"1900"}

{"sheet":"Nastavení","index":0,"n_rows":32,"n_cols":32,"rows_kept":32,"cut":false,"hidden":false,"merged":[]}
[]
[]
[]
[]
[]
[]
[]
[]
[]
[]
[]
[null,"Nepřesouvat a neměnit!!!!"]
[null,null,null,null,null,null,null,null,null,null,null,null,null,null,null,null,null,{"$f":"B14","v":"V"},{"$f":"B15","v":"S"},{"$f":"B16","v":"Oa"},{"$f":"B17","v":"Om"},{"$f":"B18","v":"LL"},{"$f":"B19","v":"U"},{"$f":"B20","v":"M"},{"$f":"B21","v":"P"},{"$f":"B22","v":"TT"},{"$f":"B23","v":"D"},{"$f":"B24","v":"KPČ"},{"$f":"B25","v":"MKPČ"},"Body","Trať"]
[null,"V","odhad vzdálenosti",null,null,"PM","postup z mistrovství",null,null,"NŽH","Nejmladší žáci",null,"<10 let",{"$f":"CONCATENATE(J14,\"-\",K14,\"(\",M14,\")\")","v":"NŽH-Nejmladší žáci(<10 let)"},null,null,null,"Ne","Ne","Ne","Ano","Ano","Ano","Ano","Ano","Ano","Ano","Ano","Ne","Ano","M"]
[null,"S","stavba stanu",null,null,"PP","postup z kraje",null,null,"NŽD","Nejmladší žákyně",null,"<10 let","NŽD-Nejmladší žákyně(<10 let)",null,null,null,"Ne","Ne","Ne","Ano","Ano","Ano","Ano","Ano","Ano","Ano","Ano","Ne","Ano","M"]
[null,"Oa","azimuty",null,null,"TM","součet trestných minut",null,null,"MŽH","Mladší žáci",null,"11-12 let","MŽH-Mladší žáci(11-12 let)",null,null,null,25.5,"Ne","Ano","Ano","Ano","Ano","Ano","Ano","Ano","Ano","Ano","Ne","Ano","B"]
[null,"Om","orientace mapy",null,null,null,null,null,null,"MŽD","Mladší žákyně",null,"11-12 let","MŽD-Mladší žákyně(11-12 let)",null,null,null,25.5,"Ne","Ano","Ano","Ano","Ano","Ano","Ano","Ano","Ano","Ano","Ne","Ano","B"]
[null,"LL","lanová lávka",null,null,"mistrovské závody ČR",null,null,null,"SŽH","Starší žáci",null,"13-14 let","SŽH-Starší žáci(13-14 let)",null,null,null,25.5,"Ne","Ano","Ano","Ano","Ano","Ano","Ano","Ano","Ano","Ano","Ne","Ano","B"]
[null,"U","uzly",null,null,"závod I. Stupně \"Český pohár\"",null,null,null,"SŽD","Starší žákyně",null,"13-14 let","SŽD-Starší žákyně(13-14 let)",null,null,null,25.5,"Ne","Ano","Ano","Ano","Ano","Ano","Ano","Ano","Ano","Ano","Ne","Ano","B"]
[null,"M","míček",null,null,"závod II. stupně \"Mistrovství kraje\"",null,null,null,"MDH","Mladší dorostenci",null,"15-16 let","MDH-Mladší dorostenci(15-16 let)",null,null,null,16,"Ne","Ano","Ano","Ano","Ano","Ano","Ano","Ano","Ano","Ano","Ne","Ano","C"]
[null,"P","plížení",null,null,"závod III. stupně \"Krajský pohár\"",null,null,null,"MDD","Mladší dorostenky",null,"15-16 let","MDD-Mladší dorostenky(15-16 let)",null,null,null,16,"Ne","Ano","Ano","Ano","Ano","Ano","Ano","Ano","Ano","Ano","Ne","Ano","C"]
[null,"TT","turistické a topologické značky",null,null,"oddílový přebor",null,null,null,"SDH","Starší dorostenci",null,"17-18 let","SDH-Starší dorostenci(17-18 let)",null,null,null,16,"Ne","Ano","Ano","Ano","Ano","Ano","Ano","Ano","Ano","Ano","Ne","Ano","C"]
[null,"D","dřeviny",null,null,null,null,null,null,"SDD","Starší dorostenky",null,"17-18 let","SDD-Starší dorostenky(17-18 let)",null,null,null,16,"Ne","Ano","Ano","Ano","Ano","Ano","Ano","Ano","Ano","Ano","Ne","Ano","C"]
[null,"KPČ","kulturně poznávací činnost",null,null,null,null,null,null,"MA","Muži A",null,"19-35 let","MA-Muži A(19-35 let)",null,null,null,16,"Ne","Ano","Ano","Ano","Ano","Ano","Ano","Ano","Ano","Ano","Ne","Ano","C"]
[null,"MKPČ","mezinárodní kulturně poznávací činnost",null,null,null,null,null,null,"ŽA","Ženy A",null,"19-35 let","ŽA-Ženy A(19-35 let)",null,null,null,16,"Ne","Ano","Ano","Ano","Ano","Ano","Ano","Ano","Ano","Ano","Ne","Ano","C"]
[null,null,null,null,null,null,null,null,null,"MB","Muži B",null,">36 let","MB-Muži B(>36 let)",null,null,null,16,"Ne","Ano","Ano","Ano","Ano","Ano","Ano","Ano","Ano","Ano","Ne","Ano","C"]
[null,null,null,null,null,null,null,null,null,"ŽB","Ženy B",null,">36 let","ŽB-Ženy B(>36 let)",null,null,null,16,"Ne","Ano","Ano","Ano","Ano","Ano","Ano","Ano","Ano","Ano","Ne","Ano","C"]
[null,null,null,null,null,null,null,null,null,"MC","Muži C",null,"nad 50 let","MC-Muži C(nad 50 let)",null,null,null,16,"Ne","Ano","Ano","Ano","Ano","Ano","Ano","Ano","Ano","Ano","Ne","Ano","C"]
[null,"verze V20 ke dni 4.2.2024",null,null,null,null,null,null,null,"D+D","Dítě s doprovodem",null,null,{"$f":"CONCATENATE(J29,\"-\",K29)","v":"D+D-Dítě s doprovodem"},null,null,null,"Ne","Ne","Ne","Ano","Ano","Ano","Ano","Ano","Ano","Ano","Ano","Ne","Ne",null,"nepočítají se body"]
[null,null,null,null,null,null,null,null,null,"DVOJ","Dvojice",null,null,{"$f":"CONCATENATE(J30,\"-\",K30)","v":"DVOJ-Dvojice"},null,null,null,"Ne","Ne","Ne","Ano","Ano","Ano","Ano","Ano","Ano","Ano","Ano","Ne","Ne",null,"nepočítají se body"]
[null,null,null,null,null,null,null,null,null,"MS-M","Mimo soutěž-modrá trať",null,null,{"$f":"CONCATENATE(J31,\"-\",K31)","v":"MS-M-Mimo soutěž-modrá trať"},null,null,null,"Ne","Ne","Ne","Ano","Ano","Ano","Ano","Ano","Ano","Ano","Ano","Ne","Ne",null,"nepočítají se body"]
[null,null,null,null,null,null,null,null,null,"MS-B","Mimo soutěž-bílá trať",null,null,{"$f":"CONCATENATE(J32,\"-\",K32)","v":"MS-B-Mimo soutěž-bílá trať"},null,null,null,"Ne","Ne","Ano","Ano","Ano","Ano","Ano","Ano","Ano","Ano","Ano","Ne","Ne",null,"nepočítají se body"]

{"sheet":"Seznam účastníků","index":1,"n_rows":46,"n_cols":17,"rows_kept":46,"cut":false,"hidden":false,"merged":[[0,1,0,5],[1,1,1,5],[2,1,2,5],[3,1,3,3]]}
["Závod:","Mistrovství Královéhradeckého kraje",null,null,null,null,null,null,null,null,null,null,null,null,null,null,{"$f":"Nastavení!F18","v":"mistrovské závody ČR"}]
["Datum:","26.4.2026",null,null,null,null,null,null,null,null,null,null,null,null,null,null,{"$f":"Nastavení!F19","v":"závod I. Stupně \"Český pohár\""}]
["Místo:","Hradec Králové",null,null,null,null,null,null,null,null,null,null,null,null,null,null,{"$f":"Nastavení!F20","v":"závod II. stupně \"Mistrovství kraje\""}]
["Typ závodu:","závod II. stupně \"Mistrovství kraje\"",null,null,null,null,null,null,null,null,null,null,null,null,null,null,{"$f":"Nastavení!F21","v":"závod III. stupně \"Krajský pohár\""}]
["Body:","MK",null,null,null,null,null,null,null,null,null,null,null,null,null,null,{"$f":"Nastavení!F22","v":"oddílový přebor"}]
[]
["Startovní\nčíslo","Kat.","Přijmení","Jméno","Ročník","Oddíl","Přijmení","Jméno","Ročník","Oddíl","Startovní čas"]
[1,"SŽH","Žaloudek","Radek",2011,"Plamínek",null,null,null,null,"10:00:00"]
[2,"NŽD","Kalousková","Nela",2015,"Stopaři",null,null,null,null,"10:02:00"]
[3,"D+D","Podlipná","Tereza",2021,"Nezmaři",null,null,null,null,"10:04:00"]
[4,"SDD","Šepsová","Irena",2008,"Plamínek",null,null,null,null,"10:06:00"]
[5,"MŽH","Paulus","Vilém",2013,"Nezmaři",null,null,null,null,"10:08:00"]
[6,"NŽD","Fúsková","Marie",2017,"Nezmaři",null,null,null,null,"10:10:00"]
[7,"MDD","Chamková","Tereza",2010,"Nezmaři",null,null,null,null,"10:12:00"]
[8,"D+D","Fúsková","Lucie",2018,"Nezmaři",null,null,null,null,"10:14:00"]
[9,"SŽD","Vejražková","Zuzana",2012,"Stopaři",null,null,null,null,"10:16:00"]
[10,"ŽB","Podlipná","Alena",1985,"Nezmaři",null,null,null,null,"10:18:00"]
[11,"D+D","Válkovi","Lada+Václav",2019,"UK HK",null,null,null,null,"10:20:00"]
[12,"NŽD","Hronová","Klára",2016,"Stopaři",null,null,null,null,"10:22:00"]
[13,"SŽD","Růžičková","Viktorie",2011,"Nezmaři",null,null,null,null,"10:24:00"]
[14,"NŽD","Česáková","Zora",2016,"Nezmaři",null,null,null,null,"10:26:00"]
[15,"MDH","Drdacký","Ondřej",2009,"Nezmaři",null,null,null,null,"10:28:00"]
[16,"MŽH","Branda","Lukáš",2013,"Nezmaři",null,null,null,null,"10:30:00"]
[17,"D+D","Česáková","Lenka",2018,"Nezmaři",null,null,null,null,"10:32:00"]
[18,"NŽD","Kalousková","Adéla",2015,"Stopaři",null,null,null,null,"10:34:00"]
[19,"MŽH","Růžička","Richard",2014,"Nezmaři",null,null,null,null,"10:36:00"]
[20,"ŽB","Česáková","Zuzana",1987,"Nezmaři",null,null,null,null,"10:38:00"]
[21,"SŽD","Vejražková","Alice",2012,"Stopaři",null,null,null,null,"10:40:00"]
[22,"NŽD","Pinkavová ","Štěpánka",2015,"Nezmaři",null,null,null,null,"10:42:00"]
[23,"SŽH","Knap","Matěj",2012,"Stopaři",null,null,null,null,"10:44:00"]
[24,"MA","Hubáček","Petr",1991,"Nezmaři",null,null,null,null,"10:46:00"]
[25,"NŽH","Pexa","Kryštof",2015,"Stopaři",null,null,null,null,"10:48:00"]
[26,"ŽB","Fúsková","Květa",1978,"Stopaři",null,null,null,null,"10:50:00"]
[27,"MŽH","Lipenský ","Vítek",2014,"Stopaři",null,null,null,null,"10:52:00"]
[28,"MDH","Žaloudek","Petr",2009,"Plamínek",null,null,null,null,"10:54:00"]
[29,"SŽD","Fojtová","Apolena",2012,"Stopaři",null,null,null,null,"10:56:00"]
[30,"MC","Fúsek","Tomáš",1966,"Stopaři",null,null,null,null,"10:58:00"]
[31,"D+D","Vejražka","Pavel",2022,"Stopaři",null,null,null,null,"10:16:00"]
[32,"SŽD","Němcová","Anežka",2011,"Stopaři",null,null,null,null,"11:00:00"]
[33,"ŽA","Fúsková","Andrea",2003,"Stopaři",null,null,null,null,"11:02:00"]
[34,"NŽD","Muchová","Eliška",2015,"Stopaři",null,null,null,null,"11:04:00"]
[35,"MŽH","Vejražka","David",2014,"Stopaři",null,null,null,null,"11:06:00"]
[36,"MB","Válek","Tomáš",1987,"UK HK",null,null,null,null,"11:08:00"]
[37,"NŽD","Šach","Veronika",2016,"Stopaři",null,null,null,null,"11:10:00"]
[38,"SŽH","Kalousek","Patrik",2012,"Stopaři",null,null,null,null,"11:12:00"]
[39,"MB","Vejražka","Petr",1979,"Stopaři",null,null,null,null,"11:14:00"]

{"sheet":"NŽH","index":2,"n_rows":7,"n_cols":42,"rows_kept":7,"cut":false,"hidden":false,"merged":[[0,1,0,41],[3,1,3,41],[4,11,4,23],[4,27,4,33],[4,40,4,41]]}
[null,{"$f":"CONCATENATE('Seznam účastníků'!B1,\", \",'Seznam účastníků'!B2:C2,\" - \",'Seznam účastníků'!B3)","v":"Mistrovství Královéhradeckého kraje, 26.4.2026 - Hradec Králové"}]
[]
[]
[null,"Nejmladší žáci (NŽH)"]
[null,null,null,null,null,null,null,null,null,null,null,"Trestné minuty",null,null,null,null,null,null,null,null,null,null,null,null,"Start","Cíl","V","Zdržení v sekundách",null,null,null,null,null,null,"Zdržení","Čas na trati","Výsledný čas","Body","VT","Postup","Diskvalifikace"]
[null,"Start. číslo","Pořadí","Přijmení","Jméno","Ročník","Oddíl","Přijmení","Jméno","Ročník","Oddíl",{"$f":"Nastavení!R13","v":"V"},{"$f":"Nastavení!S13","v":"S"},{"$f":"Nastavení!T13","v":"Oa"},{"$f":"Nastavení!U13","v":"Om"},{"$f":"Nastavení!V13","v":"LL"},{"$f":"Nastavení!W13","v":"U"},{"$f":"Nastavení!X13","v":"M"},{"$f":"Nastavení!Y13","v":"P"},{"$f":"Nastavení!Z13","v":"TT"},{"$f":"Nastavení!AA13","v":"D"},{"$f":"Nastavení!B24","v":"KPČ"},{"$f":"Nastavení!AE13","v":"Trať"},"TM",null,null,"[m]",{"$f":"L6","v":"V"},{"$f":"M6","v":"S"},{"$f":"O6","v":"Om"},{"$f":"P6","v":"LL"},{"$f":"Q6","v":"U"},{"$f":"R6","v":"M"},{"$f":"S6","v":"P"},null,null,null,null,null,null,null,"Důvod"]
[null,25,1,"Pexa","Kryštof",2015,"Stopaři",null,null,null,null,"-","-","-","0","ok","0","0","0","1","1","1","","3","0:48:00","1:08:00","","-","-","0","0","0","0","0","0:00:00","0:20:00","0:23:00",100,null,null,"Ne",""]

{"sheet":"NŽD","index":3,"n_rows":14,"n_cols":42,"rows_kept":14,"cut":false,"hidden":false,"merged":[[0,1,0,41],[3,1,3,41],[4,11,4,23],[4,27,4,33],[4,40,4,41]]}
[null,{"$f":"CONCATENATE('Seznam účastníků'!B1,\", \",'Seznam účastníků'!B2:C2,\" - \",'Seznam účastníků'!B3)","v":"Mistrovství Královéhradeckého kraje, 26.4.2026 - Hradec Králové"}]
[]
[]
[null,"Nejmladší žákyně (NŽD)"]
[null,null,null,null,null,null,null,null,null,null,null,"Trestné minuty",null,null,null,null,null,null,null,null,null,null,null,null,"Start","Cíl","V","Zdržení v sekundách",null,null,null,null,null,null,"Zdržení","Čas na trati","Výsledný čas","Body","VT","Postup","Diskvalifikace"]
[null,"Start. číslo","Pořadí","Přijmení","Jméno","Ročník","Oddíl","Přijmení","Jméno","Ročník","Oddíl",{"$f":"Nastavení!R13","v":"V"},{"$f":"Nastavení!S13","v":"S"},{"$f":"Nastavení!T13","v":"Oa"},{"$f":"Nastavení!U13","v":"Om"},{"$f":"Nastavení!V13","v":"LL"},{"$f":"Nastavení!W13","v":"U"},{"$f":"Nastavení!X13","v":"M"},{"$f":"Nastavení!Y13","v":"P"},{"$f":"Nastavení!Z13","v":"TT"},{"$f":"Nastavení!AA13","v":"D"},{"$f":"Nastavení!B24","v":"KPČ"},{"$f":"Nastavení!AE13","v":"Trať"},"TM",null,null,"[m]",{"$f":"L6","v":"V"},{"$f":"M6","v":"S"},{"$f":"O6","v":"Om"},{"$f":"P6","v":"LL"},{"$f":"Q6","v":"U"},{"$f":"R6","v":"M"},{"$f":"S6","v":"P"},null,null,null,null,null,null,null,"Důvod"]
[null,2,1,"Kalousková","Nela",2015,"Stopaři",null,null,null,null,"-","-","-","0","ok","0","1","0","0","1","0","","2","0:02:00","0:23:55","","-","-","0","0","0","0","0","0:00:00","0:21:55","0:23:55",100,"II.",null,"Ne",""]
[null,18,2,"Kalousková","Adéla",2015,"Stopaři",null,null,null,null,"-","-","-","0","ok","0","1","0","1","4","0","","6","0:34:00","0:53:20","","-","-","10","0","0","0","30","0:00:40","0:19:20","0:24:40",96.9,"II.",null,"Ne",""]
[null,34,3,"Muchová","Eliška",2015,"Stopaři",null,null,null,null,"-","-","-","0","ok","2","0","1","4","3","0","","10","0:04:00","0:27:30","","-","-","0","0","0","0","0","0:00:00","0:23:30","0:33:30",59.9,null,null,"Ne",""]
[null,37,4,"Šach","Veronika",2016,"Stopaři",null,null,null,null,"-","-","-","0","ok","2","1","2","3","3","2","","13","0:10:00","0:32:28","","-","-","0","0","0","0","0","0:00:00","0:22:28","0:35:28",51.7,null,null,"Ne",""]
[null,6,5,"Fúsková","Marie",2017,"Nezmaři",null,null,null,null,"-","-","-","0","ok","0","3","2","0","2","4","","11","0:10:00","0:37:44","","-","-","0","0","0","0","35","0:00:35","0:27:44","0:38:09",40.5,null,null,"Ne",""]
[null,22,6,"Pinkavová ","Štěpánka",2015,"Nezmaři",null,null,null,null,"-","-","-","0","ok","2","2","2","4","4","1","","15","0:43:00","1:10:41","","-","-","0","0","0","0","0","0:00:00","0:27:41","0:42:41",21.5,null,null,"Ne",""]
[null,12,7,"Hronová","Klára",2016,"Stopaři",null,null,null,null,"-","-","-","0","ok","2","3","2","9","6","0","","22","0:22:00","0:46:12","","-","-","0","30","0","0","0","0:00:30","0:24:12","0:45:42",8.9,null,null,"Ne",""]
[null,14,8,"Česáková","Zora",2016,"Nezmaři",null,null,null,null,"-","-","-","0","ok","0","1","0","3","2","0","","6","0:26:00","1:07:22","","-","-","10","0","0","0","0","0:00:10","0:41:22","0:47:12",2.6,null,null,"Ne",""]

{"sheet":"MŽH","index":4,"n_rows":11,"n_cols":42,"rows_kept":11,"cut":false,"hidden":false,"merged":[[0,1,0,41],[3,1,3,41],[4,11,4,23],[4,27,4,33],[4,40,4,41]]}
[null,{"$f":"CONCATENATE('Seznam účastníků'!B1,\", \",'Seznam účastníků'!B2:C2,\" - \",'Seznam účastníků'!B3)","v":"Mistrovství Královéhradeckého kraje, 26.4.2026 - Hradec Králové"}]
[]
[]
[null,"Mladší žáci (MŽH)"]
[null,null,null,null,null,null,null,null,null,null,null,"Trestné minuty",null,null,null,null,null,null,null,null,null,null,null,null,"Start","Cíl","V","Zdržení v sekundách",null,null,null,null,null,null,"Zdržení","Čas na trati","Výsledný čas","Body","VT","Postup","Diskvalifikace"]
[null,"Start. číslo","Pořadí","Přijmení","Jméno","Ročník","Oddíl","Přijmení","Jméno","Ročník","Oddíl",{"$f":"Nastavení!R13","v":"V"},{"$f":"Nastavení!S13","v":"S"},{"$f":"Nastavení!T13","v":"Oa"},{"$f":"Nastavení!U13","v":"Om"},{"$f":"Nastavení!V13","v":"LL"},{"$f":"Nastavení!W13","v":"U"},{"$f":"Nastavení!X13","v":"M"},{"$f":"Nastavení!Y13","v":"P"},{"$f":"Nastavení!Z13","v":"TT"},{"$f":"Nastavení!AA13","v":"D"},{"$f":"Nastavení!B24","v":"KPČ"},{"$f":"Nastavení!AE13","v":"Trať"},"TM",null,null,"[m]",{"$f":"L6","v":"V"},{"$f":"M6","v":"S"},{"$f":"O6","v":"Om"},{"$f":"P6","v":"LL"},{"$f":"Q6","v":"U"},{"$f":"R6","v":"M"},{"$f":"S6","v":"P"},null,null,null,null,null,null,null,"Důvod"]
[null,35,1,"Vejražka","David",2014,"Stopaři",null,null,null,null,"2","-","ok","0","ok","0","2","0","0","0","0","","4","1:06:00","1:27:37","12","0","-","0","0","0","0","60","0:01:00","0:21:37","0:24:37",100,"II.",null,"Ne",""]
[null,19,2,"Růžička","Richard",2014,"Nezmaři",null,null,null,null,"2","-","ok","0","ok","0","1","1","4","1","1","","10","0:36:00","1:03:30","12","0","-","0","0","0","0","60","0:01:00","0:27:30","0:36:30",51.7,null,null,"Ne",""]
[null,16,3,"Branda","Lukáš",2013,"Nezmaři",null,null,null,null,"2","-","ok","0","ok","0","1","1","1","4","4","","13","0:30:00","0:54:15","38","0","-","0","30","0","0","0","0:00:30","0:24:15","0:36:45",50.7,null,null,"Ne",""]
[null,5,4,"Paulus","Vilém",2013,"Nezmaři",null,null,null,null,"2","-","ok","0","ok","0","3","2","2","0","0","","9","0:08:00","0:37:59","15","0","-","0","0","0","0","0","0:00:00","0:29:59","0:38:59",41.6,null,null,"Ne",""]
[null,27,5,"Lipenský ","Vítek",2014,"Stopaři",null,null,null,null,"2","-","ok","0","ok","0","1","0","1","5","0","","9","0:52:00","1:23:17","10","0","-","0","0","0","0","0","0:00:00","0:31:17","0:40:17",36.4,null,null,"Ne",""]

{"sheet":"SŽH","index":5,"n_rows":9,"n_cols":42,"rows_kept":9,"cut":false,"hidden":false,"merged":[[0,1,0,41],[3,1,3,41],[4,11,4,23],[4,27,4,33],[4,40,4,41]]}
[null,{"$f":"CONCATENATE('Seznam účastníků'!B1,\", \",'Seznam účastníků'!B2:C2,\" - \",'Seznam účastníků'!B3)","v":"Mistrovství Královéhradeckého kraje, 26.4.2026 - Hradec Králové"}]
[]
[]
[null,"Starší žáci (SŽH)"]
[null,null,null,null,null,null,null,null,null,null,null,"Trestné minuty",null,null,null,null,null,null,null,null,null,null,null,null,"Start","Cíl","V","Zdržení v sekundách",null,null,null,null,null,null,"Zdržení","Čas na trati","Výsledný čas","Body","VT","Postup","Diskvalifikace"]
[null,"Start. číslo","Pořadí","Přijmení","Jméno","Ročník","Oddíl","Přijmení","Jméno","Ročník","Oddíl",{"$f":"Nastavení!R13","v":"V"},{"$f":"Nastavení!S13","v":"S"},{"$f":"Nastavení!T13","v":"Oa"},{"$f":"Nastavení!U13","v":"Om"},{"$f":"Nastavení!V13","v":"LL"},{"$f":"Nastavení!W13","v":"U"},{"$f":"Nastavení!X13","v":"M"},{"$f":"Nastavení!Y13","v":"P"},{"$f":"Nastavení!Z13","v":"TT"},{"$f":"Nastavení!AA13","v":"D"},{"$f":"Nastavení!B24","v":"KPČ"},{"$f":"Nastavení!AE13","v":"Trať"},"TM",null,null,"[m]",{"$f":"L6","v":"V"},{"$f":"M6","v":"S"},{"$f":"O6","v":"Om"},{"$f":"P6","v":"LL"},{"$f":"Q6","v":"U"},{"$f":"R6","v":"M"},{"$f":"S6","v":"P"},null,null,null,null,null,null,null,"Důvod"]
[null,23,1,"Knap","Matěj",2012,"Stopaři",null,null,null,null,"0","-","ok","0","ok","0","0","0","0","0","0","","0","0:44:00","1:03:06","25","0","-","0","30","0","0","0","0:00:30","0:19:06","0:18:36",100,"II.",null,"Ne",""]
[null,38,2,"Kalousek","Patrik",2012,"Stopaři",null,null,null,null,"0","-","ok","0","ok","0","2","0","3","1","0","","6","0:12:00","0:32:16","25","0","-","10","0","0","0","0","0:00:10","0:20:16","0:26:06",59.7,null,null,"Ne",""]
[null,1,3,"Žaloudek","Radek",2011,"Plamínek",null,null,null,null,"2","-","ok","0","ok","0","3","2","4","2","2","","15","0:00:00","0:21:35","8","0","-","0","0","0","0","0","0:00:00","0:21:35","0:36:35",3.3,null,null,"Ne",""]

{"sheet":"SŽD","index":6,"n_rows":11,"n_cols":42,"rows_kept":11,"cut":false,"hidden":false,"merged":[[0,1,0,41],[3,1,3,41],[4,11,4,23],[4,27,4,33],[4,40,4,41]]}
[null,{"$f":"CONCATENATE('Seznam účastníků'!B1,\", \",'Seznam účastníků'!B2:C2,\" - \",'Seznam účastníků'!B3)","v":"Mistrovství Královéhradeckého kraje, 26.4.2026 - Hradec Králové"}]
[]
[]
[null,"Starší žákyně (SŽD)"]
[null,null,null,null,null,null,null,null,null,null,null,"Trestné minuty",null,null,null,null,null,null,null,null,null,null,null,null,"Start","Cíl","V","Zdržení v sekundách",null,null,null,null,null,null,"Zdržení","Čas na trati","Výsledný čas","Body","VT","Postup","Diskvalifikace"]
[null,"Start. číslo","Pořadí","Přijmení","Jméno","Ročník","Oddíl","Přijmení","Jméno","Ročník","Oddíl",{"$f":"Nastavení!R13","v":"V"},{"$f":"Nastavení!S13","v":"S"},{"$f":"Nastavení!T13","v":"Oa"},{"$f":"Nastavení!U13","v":"Om"},{"$f":"Nastavení!V13","v":"LL"},{"$f":"Nastavení!W13","v":"U"},{"$f":"Nastavení!X13","v":"M"},{"$f":"Nastavení!Y13","v":"P"},{"$f":"Nastavení!Z13","v":"TT"},{"$f":"Nastavení!AA13","v":"D"},{"$f":"Nastavení!B24","v":"KPČ"},{"$f":"Nastavení!AE13","v":"Trať"},"TM",null,null,"[m]",{"$f":"L6","v":"V"},{"$f":"M6","v":"S"},{"$f":"O6","v":"Om"},{"$f":"P6","v":"LL"},{"$f":"Q6","v":"U"},{"$f":"R6","v":"M"},{"$f":"S6","v":"P"},null,null,null,null,null,null,null,"Důvod"]
[null,29,1,"Fojtová","Apolena",2012,"Stopaři",null,null,null,null,"1","-","ok","0","ok","0","0","0","0","0","0","","1","0:56:00","1:17:07","20","0","-","0","0","0","0","0","0:00:00","0:21:07","0:22:07",100,"II.",null,"Ne",""]
[null,9,2,"Vejražková","Zuzana",2012,"Stopaři",null,null,null,null,"2","-","ok","0","ok","0","2","0","1","0","0","","5","0:16:00","0:37:22","9","0","-","0","0","0","0","1:30","0:01:30","0:21:22","0:24:52",87.6,"III.",null,"Ne",""]
[null,21,3,"Vejražková","Alice",2012,"Stopaři",null,null,null,null,"0","-","ok","0","ok","0","2","0","0","0","0","","2","0:40:00","1:05:03","22","0","-","0","0","0","0","0","0:00:00","0:25:03","0:27:03",77.7,null,null,"Ne",""]
[null,32,4,"Němcová","Anežka",2011,"Stopaři",null,null,null,null,"2","-","ok","0","ok","0","0","1","2","2","0","","7","0:00:00","0:21:15","35","0","-","0","0","0","0","0","0:00:00","0:21:15","0:28:15",72.3,null,null,"Ne",""]
[null,13,5,"Růžičková","Viktorie",2011,"Nezmaři",null,null,null,null,"0","-","ok","0","ok","0","2","2","2","1","0","","7","0:24:00","0:52:47","22","0","-","20","0","0","0","2:00","0:02:20","0:28:47","0:33:27",48.8,null,null,"Ne",""]

{"sheet":"MDH","index":7,"n_rows":8,"n_cols":42,"rows_kept":8,"cut":false,"hidden":false,"merged":[[0,1,0,41],[3,1,3,41],[4,11,4,23],[4,27,4,33],[4,40,4,41]]}
[null,{"$f":"CONCATENATE('Seznam účastníků'!B1,\", \",'Seznam účastníků'!B2:C2,\" - \",'Seznam účastníků'!B3)","v":"Mistrovství Královéhradeckého kraje, 26.4.2026 - Hradec Králové"}]
[]
[]
[null,"Mladší dorostenci (MDH)"]
[null,null,null,null,null,null,null,null,null,null,null,"Trestné minuty",null,null,null,null,null,null,null,null,null,null,null,null,"Start","Cíl","V","Zdržení v sekundách",null,null,null,null,null,null,"Zdržení","Čas na trati","Výsledný čas","Body","VT","Postup","Diskvalifikace"]
[null,"Start. číslo","Pořadí","Přijmení","Jméno","Ročník","Oddíl","Přijmení","Jméno","Ročník","Oddíl",{"$f":"Nastavení!R13","v":"V"},{"$f":"Nastavení!S13","v":"S"},{"$f":"Nastavení!T13","v":"Oa"},{"$f":"Nastavení!U13","v":"Om"},{"$f":"Nastavení!V13","v":"LL"},{"$f":"Nastavení!W13","v":"U"},{"$f":"Nastavení!X13","v":"M"},{"$f":"Nastavení!Y13","v":"P"},{"$f":"Nastavení!Z13","v":"TT"},{"$f":"Nastavení!AA13","v":"D"},{"$f":"Nastavení!B24","v":"KPČ"},{"$f":"Nastavení!AE13","v":"Trať"},"TM",null,null,"[m]",{"$f":"L6","v":"V"},{"$f":"M6","v":"S"},{"$f":"O6","v":"Om"},{"$f":"P6","v":"LL"},{"$f":"Q6","v":"U"},{"$f":"R6","v":"M"},{"$f":"S6","v":"P"},null,null,null,null,null,null,null,"Důvod"]
[null,28,1,"Žaloudek","Petr",2009,"Plamínek",null,null,null,null,"0","-","ok","0","ok","0","1","1","6","1","1","","10","0:54:00","1:15:50","16","0","-","0","0","0","0","0","0:00:00","0:21:50","0:31:50",100,null,null,"Ne",""]
[null,15,2,"Drdacký","Ondřej",2009,"Nezmaři",null,null,null,null,"2","-","ok","0","ok","0","2","0","2","2","3","","11","0:28:00","0:58:28","11","0","-","0","0","0","0","30","0:00:30","0:30:28","0:40:58",71.3,null,null,"Ne",""]

{"sheet":"MDD","index":8,"n_rows":7,"n_cols":42,"rows_kept":7,"cut":false,"hidden":false,"merged":[[0,1,0,41],[3,1,3,41],[4,11,4,23],[4,27,4,33],[4,40,4,41]]}
[null,{"$f":"CONCATENATE('Seznam účastníků'!B1,\", \",'Seznam účastníků'!B2:C2,\" - \",'Seznam účastníků'!B3)","v":"Mistrovství Královéhradeckého kraje, 26.4.2026 - Hradec Králové"}]
[]
[]
[null,"Mladší dorostenky (MDD)"]
[null,null,null,null,null,null,null,null,null,null,null,"Trestné minuty",null,null,null,null,null,null,null,null,null,null,null,null,"Start","Cíl","V","Zdržení v sekundách",null,null,null,null,null,null,"Zdržení","Čas na trati","Výsledný čas","Body","VT","Postup","Diskvalifikace"]
[null,"Start. číslo","Pořadí","Přijmení","Jméno","Ročník","Oddíl","Přijmení","Jméno","Ročník","Oddíl",{"$f":"Nastavení!R13","v":"V"},{"$f":"Nastavení!S13","v":"S"},{"$f":"Nastavení!T13","v":"Oa"},{"$f":"Nastavení!U13","v":"Om"},{"$f":"Nastavení!V13","v":"LL"},{"$f":"Nastavení!W13","v":"U"},{"$f":"Nastavení!X13","v":"M"},{"$f":"Nastavení!Y13","v":"P"},{"$f":"Nastavení!Z13","v":"TT"},{"$f":"Nastavení!AA13","v":"D"},{"$f":"Nastavení!B24","v":"KPČ"},{"$f":"Nastavení!AE13","v":"Trať"},"TM",null,null,"[m]",{"$f":"L6","v":"V"},{"$f":"M6","v":"S"},{"$f":"O6","v":"Om"},{"$f":"P6","v":"LL"},{"$f":"Q6","v":"U"},{"$f":"R6","v":"M"},{"$f":"S6","v":"P"},null,null,null,null,null,null,null,"Důvod"]
[null,7,1,"Chamková","Tereza",2010,"Nezmaři",null,null,null,null,"0","-","ok","0","ok","0","2","2","0","3","0","","7","0:12:00","0:52:47","15","0","-","0","30","0","0","0","0:00:30","0:40:47","0:47:17",100,null,null,"Ne",""]

{"sheet":"SDD","index":9,"n_rows":7,"n_cols":42,"rows_kept":7,"cut":false,"hidden":false,"merged":[[0,1,0,41],[3,1,3,41],[4,11,4,23],[4,27,4,33],[4,40,4,41]]}
[null,{"$f":"CONCATENATE('Seznam účastníků'!B1,\", \",'Seznam účastníků'!B2:C2,\" - \",'Seznam účastníků'!B3)","v":"Mistrovství Královéhradeckého kraje, 26.4.2026 - Hradec Králové"}]
[]
[]
[null,"Starší dorostenky (SDD)"]
[null,null,null,null,null,null,null,null,null,null,null,"Trestné minuty",null,null,null,null,null,null,null,null,null,null,null,null,"Start","Cíl","V","Zdržení v sekundách",null,null,null,null,null,null,"Zdržení","Čas na trati","Výsledný čas","Body","VT","Postup","Diskvalifikace"]
[null,"Start. číslo","Pořadí","Přijmení","Jméno","Ročník","Oddíl","Přijmení","Jméno","Ročník","Oddíl",{"$f":"Nastavení!R13","v":"V"},{"$f":"Nastavení!S13","v":"S"},{"$f":"Nastavení!T13","v":"Oa"},{"$f":"Nastavení!U13","v":"Om"},{"$f":"Nastavení!V13","v":"LL"},{"$f":"Nastavení!W13","v":"U"},{"$f":"Nastavení!X13","v":"M"},{"$f":"Nastavení!Y13","v":"P"},{"$f":"Nastavení!Z13","v":"TT"},{"$f":"Nastavení!AA13","v":"D"},{"$f":"Nastavení!B24","v":"KPČ"},{"$f":"Nastavení!AE13","v":"Trať"},"TM",null,null,"[m]",{"$f":"L6","v":"V"},{"$f":"M6","v":"S"},{"$f":"O6","v":"Om"},{"$f":"P6","v":"LL"},{"$f":"Q6","v":"U"},{"$f":"R6","v":"M"},{"$f":"S6","v":"P"},null,null,null,null,null,null,null,"Důvod"]
[null,4,1,"Šepsová","Irena",2008,"Plamínek",null,null,null,null,"0","-","ok","0","ok","0","3","0","0","0","0","","3","0:06:00","0:39:42","15,5","0","-","0","0","0","0","0","0:00:00","0:33:42","0:36:42",100,null,null,"Ne",""]

{"sheet":"MA","index":10,"n_rows":7,"n_cols":42,"rows_kept":7,"cut":false,"hidden":false,"merged":[[0,1,0,41],[3,1,3,41],[4,11,4,23],[4,27,4,33],[4,40,4,41]]}
[null,{"$f":"CONCATENATE('Seznam účastníků'!B1,\", \",'Seznam účastníků'!B2:C2,\" - \",'Seznam účastníků'!B3)","v":"Mistrovství Královéhradeckého kraje, 26.4.2026 - Hradec Králové"}]
[]
[]
[null,"Muži A (MA)"]
[null,null,null,null,null,null,null,null,null,null,null,"Trestné minuty",null,null,null,null,null,null,null,null,null,null,null,null,"Start","Cíl","V","Zdržení v sekundách",null,null,null,null,null,null,"Zdržení","Čas na trati","Výsledný čas","Body","VT","Postup","Diskvalifikace"]
[null,"Start. číslo","Pořadí","Přijmení","Jméno","Ročník","Oddíl","Přijmení","Jméno","Ročník","Oddíl",{"$f":"Nastavení!R13","v":"V"},{"$f":"Nastavení!S13","v":"S"},{"$f":"Nastavení!T13","v":"Oa"},{"$f":"Nastavení!U13","v":"Om"},{"$f":"Nastavení!V13","v":"LL"},{"$f":"Nastavení!W13","v":"U"},{"$f":"Nastavení!X13","v":"M"},{"$f":"Nastavení!Y13","v":"P"},{"$f":"Nastavení!Z13","v":"TT"},{"$f":"Nastavení!AA13","v":"D"},{"$f":"Nastavení!B24","v":"KPČ"},{"$f":"Nastavení!AE13","v":"Trať"},"TM",null,null,"[m]",{"$f":"L6","v":"V"},{"$f":"M6","v":"S"},{"$f":"O6","v":"Om"},{"$f":"P6","v":"LL"},{"$f":"Q6","v":"U"},{"$f":"R6","v":"M"},{"$f":"S6","v":"P"},null,null,null,null,null,null,null,"Důvod"]
[null,24,1,"Hubáček","Petr",1991,"Nezmaři",null,null,null,null,"1","-","ok","0","ok","0","0","2","1","0","1","","5","0:46:00","1:11:56","12,5","0","-","0","0","0","0","0","0:00:00","0:25:56","0:30:56",100,null,null,"Ne",""]

{"sheet":"ŽA","index":11,"n_rows":7,"n_cols":42,"rows_kept":7,"cut":false,"hidden":false,"merged":[[0,1,0,41],[3,1,3,41],[4,11,4,23],[4,27,4,33],[4,40,4,41]]}
[null,{"$f":"CONCATENATE('Seznam účastníků'!B1,\", \",'Seznam účastníků'!B2:C2,\" - \",'Seznam účastníků'!B3)","v":"Mistrovství Královéhradeckého kraje, 26.4.2026 - Hradec Králové"}]
[]
[]
[null,"Ženy A (ŽA)"]
[null,null,null,null,null,null,null,null,null,null,null,"Trestné minuty",null,null,null,null,null,null,null,null,null,null,null,null,"Start","Cíl","V","Zdržení v sekundách",null,null,null,null,null,null,"Zdržení","Čas na trati","Výsledný čas","Body","VT","Postup","Diskvalifikace"]
[null,"Start. číslo","Pořadí","Přijmení","Jméno","Ročník","Oddíl","Přijmení","Jméno","Ročník","Oddíl",{"$f":"Nastavení!R13","v":"V"},{"$f":"Nastavení!S13","v":"S"},{"$f":"Nastavení!T13","v":"Oa"},{"$f":"Nastavení!U13","v":"Om"},{"$f":"Nastavení!V13","v":"LL"},{"$f":"Nastavení!W13","v":"U"},{"$f":"Nastavení!X13","v":"M"},{"$f":"Nastavení!Y13","v":"P"},{"$f":"Nastavení!Z13","v":"TT"},{"$f":"Nastavení!AA13","v":"D"},{"$f":"Nastavení!B24","v":"KPČ"},{"$f":"Nastavení!AE13","v":"Trať"},"TM",null,null,"[m]",{"$f":"L6","v":"V"},{"$f":"M6","v":"S"},{"$f":"O6","v":"Om"},{"$f":"P6","v":"LL"},{"$f":"Q6","v":"U"},{"$f":"R6","v":"M"},{"$f":"S6","v":"P"},null,null,null,null,null,null,null,"Důvod"]
[null,33,1,"Fúsková","Andrea",2003,"Stopaři",null,null,null,null,"0","-","ok","0","ok","0","2","0","0","0","0","","2","0:02:00","0:31:24","14","0","-","0","0","0","0","60","0:01:00","0:29:24","0:30:24",100,null,null,"Ne",""]

{"sheet":"MB","index":12,"n_rows":8,"n_cols":42,"rows_kept":8,"cut":false,"hidden":false,"merged":[[0,1,0,41],[3,1,3,41],[4,11,4,23],[4,27,4,33],[4,40,4,41]]}
[null,{"$f":"CONCATENATE('Seznam účastníků'!B1,\", \",'Seznam účastníků'!B2:C2,\" - \",'Seznam účastníků'!B3)","v":"Mistrovství Královéhradeckého kraje, 26.4.2026 - Hradec Králové"}]
[]
[]
[null,"Muži B (MB)"]
[null,null,null,null,null,null,null,null,null,null,null,"Trestné minuty",null,null,null,null,null,null,null,null,null,null,null,null,"Start","Cíl","V","Zdržení v sekundách",null,null,null,null,null,null,"Zdržení","Čas na trati","Výsledný čas","Body","VT","Postup","Diskvalifikace"]
[null,"Start. číslo","Pořadí","Přijmení","Jméno","Ročník","Oddíl","Přijmení","Jméno","Ročník","Oddíl",{"$f":"Nastavení!R13","v":"V"},{"$f":"Nastavení!S13","v":"S"},{"$f":"Nastavení!T13","v":"Oa"},{"$f":"Nastavení!U13","v":"Om"},{"$f":"Nastavení!V13","v":"LL"},{"$f":"Nastavení!W13","v":"U"},{"$f":"Nastavení!X13","v":"M"},{"$f":"Nastavení!Y13","v":"P"},{"$f":"Nastavení!Z13","v":"TT"},{"$f":"Nastavení!AA13","v":"D"},{"$f":"Nastavení!B24","v":"KPČ"},{"$f":"Nastavení!AE13","v":"Trať"},"TM",null,null,"[m]",{"$f":"L6","v":"V"},{"$f":"M6","v":"S"},{"$f":"O6","v":"Om"},{"$f":"P6","v":"LL"},{"$f":"Q6","v":"U"},{"$f":"R6","v":"M"},{"$f":"S6","v":"P"},null,null,null,null,null,null,null,"Důvod"]
[null,39,1,"Vejražka","Petr",1979,"Stopaři",null,null,null,null,"0","-","ok","0","ok","0","2","0","0","0","0","","2","1:14:00","1:38:58","15","0","-","0","0","0","0","0","0:00:00","0:24:58","0:26:58",100,null,null,"Ne",""]
[null,36,2,"Válek","Tomáš",1987,"UK HK",null,null,null,null,"0","-","ok","0","ok","0","0","0","6","3","1","","10","1:08:00","1:34:58","15","0","-","0","30","0","0","0","0:00:30","0:26:58","0:36:28",64.8,null,null,"Ne",""]

{"sheet":"ŽB","index":13,"n_rows":9,"n_cols":42,"rows_kept":9,"cut":false,"hidden":false,"merged":[[0,1,0,41],[3,1,3,41],[4,11,4,23],[4,27,4,33],[4,40,4,41]]}
[null,{"$f":"CONCATENATE('Seznam účastníků'!B1,\", \",'Seznam účastníků'!B2:C2,\" - \",'Seznam účastníků'!B3)","v":"Mistrovství Královéhradeckého kraje, 26.4.2026 - Hradec Králové"}]
[]
[]
[null,"Ženy B (ŽB)"]
[null,null,null,null,null,null,null,null,null,null,null,"Trestné minuty",null,null,null,null,null,null,null,null,null,null,null,null,"Start","Cíl","V","Zdržení v sekundách",null,null,null,null,null,null,"Zdržení","Čas na trati","Výsledný čas","Body","VT","Postup","Diskvalifikace"]
[null,"Start. číslo","Pořadí","Přijmení","Jméno","Ročník","Oddíl","Přijmení","Jméno","Ročník","Oddíl",{"$f":"Nastavení!R13","v":"V"},{"$f":"Nastavení!S13","v":"S"},{"$f":"Nastavení!T13","v":"Oa"},{"$f":"Nastavení!U13","v":"Om"},{"$f":"Nastavení!V13","v":"LL"},{"$f":"Nastavení!W13","v":"U"},{"$f":"Nastavení!X13","v":"M"},{"$f":"Nastavení!Y13","v":"P"},{"$f":"Nastavení!Z13","v":"TT"},{"$f":"Nastavení!AA13","v":"D"},{"$f":"Nastavení!B24","v":"KPČ"},{"$f":"Nastavení!AE13","v":"Trať"},"TM",null,null,"[m]",{"$f":"L6","v":"V"},{"$f":"M6","v":"S"},{"$f":"O6","v":"Om"},{"$f":"P6","v":"LL"},{"$f":"Q6","v":"U"},{"$f":"R6","v":"M"},{"$f":"S6","v":"P"},null,null,null,null,null,null,null,"Důvod"]
[null,10,1,"Podlipná","Alena",1985,"Nezmaři",null,null,null,null,"1","-","ok","0","ok","0","0","0","0","0","0","","1","0:18:00","0:45:06","20","0","-","0","0","0","0","0","0:00:00","0:27:06","0:28:06",100,"II.",null,"Ne",""]
[null,26,2,"Fúsková","Květa",1978,"Stopaři",null,null,null,null,"0","-","ok","0","ok","0","2","0","0","1","0","","3","0:50:00","1:18:26","13","0","-","0","0","0","0","0","0:00:00","0:28:26","0:31:26",88.1,"III.",null,"Ne",""]
[null,20,3,"Česáková","Zuzana",1987,"Nezmaři",null,null,null,null,"2","-","ok","0","ok","0","1","2","1","1","0","","7","0:38:00","1:11:36","9","0","-","0","0","0","0","0","0:00:00","0:33:36","0:40:36",55.5,null,null,"Ne",""]

{"sheet":"MC","index":14,"n_rows":7,"n_cols":42,"rows_kept":7,"cut":false,"hidden":false,"merged":[[0,1,0,41],[3,1,3,41],[4,11,4,23],[4,27,4,33],[4,40,4,41]]}
[null,{"$f":"CONCATENATE('Seznam účastníků'!B1,\", \",'Seznam účastníků'!B2:C2,\" - \",'Seznam účastníků'!B3)","v":"Mistrovství Královéhradeckého kraje, 26.4.2026 - Hradec Králové"}]
[]
[]
[null,"Muži C (MC)"]
[null,null,null,null,null,null,null,null,null,null,null,"Trestné minuty",null,null,null,null,null,null,null,null,null,null,null,null,"Start","Cíl","V","Zdržení v sekundách",null,null,null,null,null,null,"Zdržení","Čas na trati","Výsledný čas","Body","VT","Postup","Diskvalifikace"]
[null,"Start. číslo","Pořadí","Přijmení","Jméno","Ročník","Oddíl","Přijmení","Jméno","Ročník","Oddíl",{"$f":"Nastavení!R13","v":"V"},{"$f":"Nastavení!S13","v":"S"},{"$f":"Nastavení!T13","v":"Oa"},{"$f":"Nastavení!U13","v":"Om"},{"$f":"Nastavení!V13","v":"LL"},{"$f":"Nastavení!W13","v":"U"},{"$f":"Nastavení!X13","v":"M"},{"$f":"Nastavení!Y13","v":"P"},{"$f":"Nastavení!Z13","v":"TT"},{"$f":"Nastavení!AA13","v":"D"},{"$f":"Nastavení!B24","v":"KPČ"},{"$f":"Nastavení!AE13","v":"Trať"},"TM",null,null,"[m]",{"$f":"L6","v":"V"},{"$f":"M6","v":"S"},{"$f":"O6","v":"Om"},{"$f":"P6","v":"LL"},{"$f":"Q6","v":"U"},{"$f":"R6","v":"M"},{"$f":"S6","v":"P"},null,null,null,null,null,null,null,"Důvod"]
[null,30,1,"Fúsek","Tomáš",1966,"Stopaři",null,null,null,null,"2","-","ok","0","ok","0","0","0","0","0","0","","2","0:58:00","1:20:02","9,5","0","-","0","0","0","0","0","0:00:00","0:22:02","0:24:02",100,null,null,"Ne",""]

{"sheet":"D+D","index":15,"n_rows":11,"n_cols":42,"rows_kept":11,"cut":false,"hidden":false,"merged":[[0,1,0,41],[3,1,3,41],[4,11,4,23],[4,27,4,33],[4,40,4,41]]}
[null,{"$f":"CONCATENATE('Seznam účastníků'!B1,\", \",'Seznam účastníků'!B2:C2,\" - \",'Seznam účastníků'!B3)","v":"Mistrovství Královéhradeckého kraje, 26.4.2026 - Hradec Králové"}]
[]
[]
[null,"Dítě s doprovodem (D+D)"]
[null,null,null,null,null,null,null,null,null,null,null,"Trestné minuty",null,null,null,null,null,null,null,null,null,null,null,null,"Start","Cíl","V","Zdržení v sekundách",null,null,null,null,null,null,"Zdržení","Čas na trati","Výsledný čas","Body","VT","Postup","Diskvalifikace"]
[null,"Start. číslo","Pořadí","Přijmení","Jméno","Ročník","Oddíl","Přijmení","Jméno","Ročník","Oddíl",{"$f":"Nastavení!R13","v":"V"},{"$f":"Nastavení!S13","v":"S"},{"$f":"Nastavení!T13","v":"Oa"},{"$f":"Nastavení!U13","v":"Om"},{"$f":"Nastavení!V13","v":"LL"},{"$f":"Nastavení!W13","v":"U"},{"$f":"Nastavení!X13","v":"M"},{"$f":"Nastavení!Y13","v":"P"},{"$f":"Nastavení!Z13","v":"TT"},{"$f":"Nastavení!AA13","v":"D"},{"$f":"Nastavení!B24","v":"KPČ"},{"$f":"Nastavení!AE13","v":"Trať"},"TM",null,null,"[m]",{"$f":"L6","v":"V"},{"$f":"M6","v":"S"},{"$f":"O6","v":"Om"},{"$f":"P6","v":"LL"},{"$f":"Q6","v":"U"},{"$f":"R6","v":"M"},{"$f":"S6","v":"P"},null,null,null,null,null,null,null,"Důvod"]
[null,8,1,"Fúsková","Lucie",2018,"Nezmaři",null,null,null,null,"-","-","-","0","ok","0","3","1","1","0","0","","5","0:14:00","0:37:57","","-","-","0","0","0","0","45","0:00:45","0:23:57","0:28:12",null,null,null,"Ne",""]
[null,3,2,"Podlipná","Tereza",2021,"Nezmaři",null,null,null,null,"-","-","-","0","ok","0","3","1","0","0","0","","4","0:04:00","0:37:34","","-","-","0","0","0","0","0","0:00:00","0:33:34","0:37:34",null,null,null,"Ne",""]
[null,17,3,"Česáková","Lenka",2018,"Nezmaři",null,null,null,null,"-","-","-","0","ok","0","3","0","4","0","0","","7","0:32:00","1:06:35","","-","-","0","0","0","0","30","0:00:30","0:34:35","0:41:05",null,null,null,"Ne",""]
[null,31,4,"Vejražka","Pavel",2022,"Stopaři",null,null,null,null,"-","-","-","0","ok","0","1","0","7","1","2","","11","0:16:00","0:55:45","","-","-","0","0","0","0","30","0:00:30","0:39:45","0:50:15",null,null,null,"Ne",""]
[null,11,5,"Válkovi","Lada+Václav",2019,"UK HK",null,null,null,null,"-","-","-","0","ok","0","3","2","5","2","0","","12","0:20:00","0:59:07","","-","-","0","0","0","0","0","0:00:00","0:39:07","0:51:07",null,null,null,"Ne",""]

{"sheet":"Krycí list","index":16,"n_rows":18,"n_cols":14,"rows_kept":18,"cut":false,"hidden":false,"merged":[[4,1,4,26]]}
[]
[]
[]
[]
[null,{"$f":"CONCATENATE('Seznam účastníků'!B1:F1)","v":"Mistrovství Královéhradeckého kraje"}]
[]
[]
[null,"Pořadatel:  TOM Nezmaři Předměřice",null,null,null,null,null,null,null,null,null,null,null,"KONTAKTY NA VEDOUCÍ ODDÍLŮ:"]
[null,null,null,null,null,null,null,null,null,null,null,null,null,"TOM Nezmaři Předměřice - Ing. Luboš Podlipný, podlipny.l@volny.cz, T: 602 583 250"]
[null,{"$f":"CONCATENATE(\"Místo konání: \",'Seznam účastníků'!B3:F3)","v":"Místo konání: Hradec Králové"},null,null,null,null,null,null,null,null,null,null,null,"TOM Plamínek - Miroslav Opat,tom.plaminek@seznam.cz, T: 739 176 101"]
[null,null,null,null,null,null,null,null,null,null,null,null,null,"UK HK - Tomáš Válek, valekhumlak@gmail.com"]
[null,"Ředitel závodu: Ing. Luboš Podlipný",null,null,null,null,null,null,null,null,null,null,null,"TOM Stopaři - Tomáš Fúsek, foto@fusek-design.com, T: 739 452 734"]
[]
[null,"Hlavní rozhodčí: René Šeps"]
[]
[null,"Stavitel trati: Ing. Petr Matějka"]
[]
[null,"Počtářská komise: Ing. Jana Podlipná"]

{"sheet":"Výsledková listina","index":17,"n_rows":99,"n_cols":27,"rows_kept":99,"cut":false,"hidden":false,"merged":[[74,6,74,18],[80,6,80,18],[87,6,87,18],[92,6,92,18],[69,6,69,18],[4,1,4,26],[6,6,6,18],[11,6,11,18],[23,6,23,18],[32,6,32,18],[39,6,39,18],[48,6,48,18],[54,6,54,18],[59,6,59,18],[64,6,64,18]]}
[]
[null,null,null,null,null,null,null,null,null,null,null,null,null,null,null,null,null,null,"Poslední načtení výsledkové listiny provedeno:","27.4.2025 16:00:17"]
[]
[]
[null,{"$f":"CONCATENATE(\"Výsledková listina pro \",'Seznam účastníků'!B1:F1,\" konaného dne \",'Seznam účastníků'!B2:F2,\" - \",'Seznam účastníků'!B3:F3)","v":"Výsledková listina pro Mistrovství Královéhradeckého kraje konaného dne 26.4.2026 - Hradec Králové"}]
[null,null,null,null,null,null,null,null,null,null,null,"Nejmladší žáci (NŽH)"]
[null,"Pořadí","Start.","Závodníci","Ročník","Oddíl","Trestné minuty",null,null,null,null,null,null,null,null,null,null,null,null,"Start","Cíl","Zdržení","Čas","Výsledný","Body","VT","Postup"]
[null,null,"číslo",null,null,null,"V","S","Oa","Om","LL","U","M","P","TT","D","KPČ","MKPČ","TM",null,null,null,"na trati","čas"]
[null,1,25,"Pexa Kryštof",2015,"Stopaři","-","-","-",0,"ok",0,0,0,1,1,1,null,3,"00:48:00","01:08:00","00:00:00","00:20:00","00:23:00",100]
[]
[null,null,null,null,null,null,null,null,null,null,null,"Nejmladší žákyně (NŽD)"]
[null,"Pořadí","Start.","Závodníci","Ročník","Oddíl","Trestné minuty",null,null,null,null,null,null,null,null,null,null,null,null,"Start","Cíl","Zdržení","Čas","Výsledný","Body","VT","Postup"]
[null,null,"číslo",null,null,null,"V","S","Oa","Om","LL","U","M","P","TT","D","KPČ","MKPČ","TM",null,null,null,"na trati","čas"]
[null,1,2,"Kalousková Nela",2015,"Stopaři","-","-","-",0,"ok",0,1,0,0,1,0,null,2,"00:02:00","00:23:55","00:00:00","00:21:55","00:23:55",100,"II."]
[null,2,18,"Kalousková Adéla",2015,"Stopaři","-","-","-",0,"ok",0,1,0,1,4,0,null,6,"00:34:00","00:53:20","00:00:40","00:19:20","00:24:40",96.9,"II."]
[null,3,34,"Muchová Eliška",2015,"Stopaři","-","-","-",0,"ok",2,0,1,4,3,0,null,10,"00:04:00","00:27:30","00:00:00","00:23:30","00:33:30",59.9]
[null,4,37,"Šach Veronika",2016,"Stopaři","-","-","-",0,"ok",2,1,2,3,3,2,null,13,"00:10:00","00:32:28","00:00:00","00:22:28","00:35:28",51.7]
[null,5,6,"Fúsková Marie",2017,"Nezmaři","-","-","-",0,"ok",0,3,2,0,2,4,null,11,"00:10:00","00:37:44","00:00:35","00:27:44","00:38:09",40.5]
[null,6,22,"Pinkavová  Štěpánka",2015,"Nezmaři","-","-","-",0,"ok",2,2,2,4,4,1,null,15,"00:43:00","01:10:41","00:00:00","00:27:41","00:42:41",21.5]
[null,7,12,"Hronová Klára",2016,"Stopaři","-","-","-",0,"ok",2,3,2,9,6,0,null,22,"00:22:00","00:46:12","00:00:30","00:24:12","00:45:42",8.9]
[null,8,14,"Česáková Zora",2016,"Nezmaři","-","-","-",0,"ok",0,1,0,3,2,0,null,6,"00:26:00","01:07:22","00:00:10","00:41:22","00:47:12",2.6]
[]
[null,null,null,null,null,null,null,null,null,null,null,"Mladší žáci (MŽH)"]
[null,"Pořadí","Start.","Závodníci","Ročník","Oddíl","Trestné minuty",null,null,null,null,null,null,null,null,null,null,null,null,"Start","Cíl","Zdržení","Čas","Výsledný","Body","VT","Postup"]
[null,null,"číslo",null,null,null,"V","S","Oa","Om","LL","U","M","P","TT","D","KPČ","MKPČ","TM",null,null,null,"na trati","čas"]
[null,1,35,"Vejražka David",2014,"Stopaři",2,"-","ok",0,"ok",0,2,0,0,0,0,null,4,"01:06:00","01:27:37","00:01:00","00:21:37","00:24:37",100,"II."]
[null,2,19,"Růžička Richard",2014,"Nezmaři",2,"-","ok",0,"ok",0,1,1,4,1,1,null,10,"00:36:00","01:03:30","00:01:00","00:27:30","00:36:30",51.7]
[null,3,16,"Branda Lukáš",2013,"Nezmaři",2,"-","ok",0,"ok",0,1,1,1,4,4,null,13,"00:30:00","00:54:15","00:00:30","00:24:15","00:36:45",50.7]
[null,4,5,"Paulus Vilém",2013,"Nezmaři",2,"-","ok",0,"ok",0,3,2,2,0,0,null,9,"00:08:00","00:37:59","00:00:00","00:29:59","00:38:59",41.6]
[null,5,27,"Lipenský  Vítek",2014,"Stopaři",2,"-","ok",0,"ok",0,1,0,1,5,0,null,9,"00:52:00","01:23:17","00:00:00","00:31:17","00:40:17",36.4]
[]
[null,null,null,null,null,null,null,null,null,null,null,"Starší žáci (SŽH)"]
[null,"Pořadí","Start.","Závodníci","Ročník","Oddíl","Trestné minuty",null,null,null,null,null,null,null,null,null,null,null,null,"Start","Cíl","Zdržení","Čas","Výsledný","Body","VT","Postup"]
[null,null,"číslo",null,null,null,"V","S","Oa","Om","LL","U","M","P","TT","D","KPČ","MKPČ","TM",null,null,null,"na trati","čas"]
[null,1,23,"Knap Matěj",2012,"Stopaři",0,"-","ok",0,"ok",0,0,0,0,0,0,null,0,"00:44:00","01:03:06","00:00:30","00:19:06","00:18:36",100,"II."]
[null,2,38,"Kalousek Patrik",2012,"Stopaři",0,"-","ok",0,"ok",0,2,0,3,1,0,null,6,"00:12:00","00:32:16","00:00:10","00:20:16","00:26:06",59.7]
[null,3,1,"Žaloudek Radek",2011,"Plamínek",2,"-","ok",0,"ok",0,3,2,4,2,2,null,15,"00:00:00","00:21:35","00:00:00","00:21:35","00:36:35",3.3]
[]
[null,null,null,null,null,null,null,null,null,null,null,"Starší žákyně (SŽD)"]
[null,"Pořadí","Start.","Závodníci","Ročník","Oddíl","Trestné minuty",null,null,null,null,null,null,null,null,null,null,null,null,"Start","Cíl","Zdržení","Čas","Výsledný","Body","VT","Postup"]
[null,null,"číslo",null,null,null,"V","S","Oa","Om","LL","U","M","P","TT","D","KPČ","MKPČ","TM",null,null,null,"na trati","čas"]
[null,1,29,"Fojtová Apolena",2012,"Stopaři",1,"-","ok",0,"ok",0,0,0,0,0,0,null,1,"00:56:00","01:17:07","00:00:00","00:21:07","00:22:07",100,"II."]
[null,2,9,"Vejražková Zuzana",2012,"Stopaři",2,"-","ok",0,"ok",0,2,0,1,0,0,null,5,"00:16:00","00:37:22","00:01:30","00:21:22","00:24:52",87.6,"III."]
[null,3,21,"Vejražková Alice",2012,"Stopaři",0,"-","ok",0,"ok",0,2,0,0,0,0,null,2,"00:40:00","01:05:03","00:00:00","00:25:03","00:27:03",77.7]
[null,4,32,"Němcová Anežka",2011,"Stopaři",2,"-","ok",0,"ok",0,0,1,2,2,0,null,7,"00:00:00","00:21:15","00:00:00","00:21:15","00:28:15",72.3]
[null,5,13,"Růžičková Viktorie",2011,"Nezmaři",0,"-","ok",0,"ok",0,2,2,2,1,0,null,7,"00:24:00","00:52:47","00:02:20","00:28:47","00:33:27",48.8]
[]
[null,null,null,null,null,null,null,null,null,null,null,"Mladší dorostenci (MDH)"]
[null,"Pořadí","Start.","Závodníci","Ročník","Oddíl","Trestné minuty",null,null,null,null,null,null,null,null,null,null,null,null,"Start","Cíl","Zdržení","Čas","Výsledný","Body","VT","Postup"]
[null,null,"číslo",null,null,null,"V","S","Oa","Om","LL","U","M","P","TT","D","KPČ","MKPČ","TM",null,null,null,"na trati","čas"]
[null,1,28,"Žaloudek Petr",2009,"Plamínek",0,"-","ok",0,"ok",0,1,1,6,1,1,null,10,"00:54:00","01:15:50","00:00:00","00:21:50","00:31:50",100]
[null,2,15,"Drdacký Ondřej",2009,"Nezmaři",2,"-","ok",0,"ok",0,2,0,2,2,3,null,11,"00:28:00","00:58:28","00:00:30","00:30:28","00:40:58",71.3]
[]
[null,null,null,null,null,null,null,null,null,null,null,"Mladší dorostenky (MDD)"]
[null,"Pořadí","Start.","Závodníci","Ročník","Oddíl","Trestné minuty",null,null,null,null,null,null,null,null,null,null,null,null,"Start","Cíl","Zdržení","Čas","Výsledný","Body","VT","Postup"]
[null,null,"číslo",null,null,null,"V","S","Oa","Om","LL","U","M","P","TT","D","KPČ","MKPČ","TM",null,null,null,"na trati","čas"]
[null,1,7,"Chamková Tereza",2010,"Nezmaři",0,"-","ok",0,"ok",0,2,2,0,3,0,null,7,"00:12:00","00:52:47","00:00:30","00:40:47","00:47:17",100]
[]
[null,null,null,null,null,null,null,null,null,null,null,"Starší dorostenky (SDD)"]
[null,"Pořadí","Start.","Závodníci","Ročník","Oddíl","Trestné minuty",null,null,null,null,null,null,null,null,null,null,null,null,"Start","Cíl","Zdržení","Čas","Výsledný","Body","VT","Postup"]
[null,null,"číslo",null,null,null,"V","S","Oa","Om","LL","U","M","P","TT","D","KPČ","MKPČ","TM",null,null,null,"na trati","čas"]
[null,1,4,"Šepsová Irena",2008,"Plamínek",0,"-","ok",0,"ok",0,3,0,0,0,0,null,3,"00:06:00","00:39:42","00:00:00","00:33:42","00:36:42",100]
[]
[null,null,null,null,null,null,null,null,null,null,null,"Muži A (MA)"]
[null,"Pořadí","Start.","Závodníci","Ročník","Oddíl","Trestné minuty",null,null,null,null,null,null,null,null,null,null,null,null,"Start","Cíl","Zdržení","Čas","Výsledný","Body","VT","Postup"]
[null,null,"číslo",null,null,null,"V","S","Oa","Om","LL","U","M","P","TT","D","KPČ","MKPČ","TM",null,null,null,"na trati","čas"]
[null,1,24,"Hubáček Petr",1991,"Nezmaři",1,"-","ok",0,"ok",0,0,2,1,0,1,null,5,"00:46:00","01:11:56","00:00:00","00:25:56","00:30:56",100]
[]
[null,null,null,null,null,null,null,null,null,null,null,"Ženy A (ŽA)"]
[null,"Pořadí","Start.","Závodníci","Ročník","Oddíl","Trestné minuty",null,null,null,null,null,null,null,null,null,null,null,null,"Start","Cíl","Zdržení","Čas","Výsledný","Body","VT","Postup"]
[null,null,"číslo",null,null,null,"V","S","Oa","Om","LL","U","M","P","TT","D","KPČ","MKPČ","TM",null,null,null,"na trati","čas"]
[null,1,33,"Fúsková Andrea",2003,"Stopaři",0,"-","ok",0,"ok",0,2,0,0,0,0,null,2,"00:02:00","00:31:24","00:01:00","00:29:24","00:30:24",100]
[]
[null,null,null,null,null,null,null,null,null,null,null,"Muži B (MB)"]
[null,"Pořadí","Start.","Závodníci","Ročník","Oddíl","Trestné minuty",null,null,null,null,null,null,null,null,null,null,null,null,"Start","Cíl","Zdržení","Čas","Výsledný","Body","VT","Postup"]
[null,null,"číslo",null,null,null,"V","S","Oa","Om","LL","U","M","P","TT","D","KPČ","MKPČ","TM",null,null,null,"na trati","čas"]
[null,1,39,"Vejražka Petr",1979,"Stopaři",0,"-","ok",0,"ok",0,2,0,0,0,0,null,2,"01:14:00","01:38:58","00:00:00","00:24:58","00:26:58",100]
[null,2,36,"Válek Tomáš",1987,"UK HK",0,"-","ok",0,"ok",0,0,0,6,3,1,null,10,"01:08:00","01:34:58","00:00:30","00:26:58","00:36:28",64.8]
[]
[null,null,null,null,null,null,null,null,null,null,null,"Ženy B (ŽB)"]
[null,"Pořadí","Start.","Závodníci","Ročník","Oddíl","Trestné minuty",null,null,null,null,null,null,null,null,null,null,null,null,"Start","Cíl","Zdržení","Čas","Výsledný","Body","VT","Postup"]
[null,null,"číslo",null,null,null,"V","S","Oa","Om","LL","U","M","P","TT","D","KPČ","MKPČ","TM",null,null,null,"na trati","čas"]
[null,1,10,"Podlipná Alena",1985,"Nezmaři",1,"-","ok",0,"ok",0,0,0,0,0,0,null,1,"00:18:00","00:45:06","00:00:00","00:27:06","00:28:06",100,"II."]
[null,2,26,"Fúsková Květa",1978,"Stopaři",0,"-","ok",0,"ok",0,2,0,0,1,0,null,3,"00:50:00","01:18:26","00:00:00","00:28:26","00:31:26",88.1,"III."]
[null,3,20,"Česáková Zuzana",1987,"Nezmaři",2,"-","ok",0,"ok",0,1,2,1,1,0,null,7,"00:38:00","01:11:36","00:00:00","00:33:36","00:40:36",55.5]
[]
[null,null,null,null,null,null,null,null,null,null,null,"Muži C (MC)"]
[null,"Pořadí","Start.","Závodníci","Ročník","Oddíl","Trestné minuty",null,null,null,null,null,null,null,null,null,null,null,null,"Start","Cíl","Zdržení","Čas","Výsledný","Body","VT","Postup"]
[null,null,"číslo",null,null,null,"V","S","Oa","Om","LL","U","M","P","TT","D","KPČ","MKPČ","TM",null,null,null,"na trati","čas"]
[null,1,30,"Fúsek Tomáš",1966,"Stopaři",2,"-","ok",0,"ok",0,0,0,0,0,0,null,2,"00:58:00","01:20:02","00:00:00","00:22:02","00:24:02",100]
[]
[null,null,null,null,null,null,null,null,null,null,null,"Dítě s doprovodem (D+D)"]
[null,"Pořadí","Start.","Závodníci","Ročník","Oddíl","Trestné minuty",null,null,null,null,null,null,null,null,null,null,null,null,"Start","Cíl","Zdržení","Čas","Výsledný","Body","VT","Postup"]
[null,null,"číslo",null,null,null,"V","S","Oa","Om","LL","U","M","P","TT","D","KPČ","MKPČ","TM",null,null,null,"na trati","čas"]
[null,1,8,"Fúsková Lucie",2018,"Nezmaři","-","-","-",0,"ok",0,3,1,1,0,0,null,5,"00:14:00","00:37:57","00:00:45","00:23:57","00:28:12"]
[null,2,3,"Podlipná Tereza",2021,"Nezmaři","-","-","-",0,"ok",0,3,1,0,0,0,null,4,"00:04:00","00:37:34","00:00:00","00:33:34","00:37:34"]
[null,3,17,"Česáková Lenka",2018,"Nezmaři","-","-","-",0,"ok",0,3,0,4,0,0,null,7,"00:32:00","01:06:35","00:00:30","00:34:35","00:41:05"]
[null,4,31,"Vejražka Pavel",2022,"Stopaři","-","-","-",0,"ok",0,1,0,7,1,2,null,11,"00:16:00","00:55:45","00:00:30","00:39:45","00:50:15"]
[null,5,11,"Válkovi Lada+Václav",2019,"UK HK","-","-","-",0,"ok",0,3,2,5,2,0,null,12,"00:20:00","00:59:07","00:00:00","00:39:07","00:51:07"]

{"sheet":"Pohár","index":18,"n_rows":16,"n_cols":3,"rows_kept":16,"cut":false,"hidden":false,"merged":[]}
[]
[]
[null,"Poslední načtení poháru provedeno 27.4.2025 16:01:00"]
[]
[null,"Bílý pohár"]
[null,"Oddíl","Body"]
[null,"Stopaři",500]
[null,"Nezmaři",233.29999999999998]
[null,"Plamínek",3.3]
[]
[null,"Červený pohár"]
[null,"Oddíl","Body"]
[null,"Nezmaři",426.8]
[null,"Stopaři",388.1]
[null,"Plamínek",200]
[null,"UK HK",64.8]

{"sheet":"Zdroj","index":19,"n_rows":6,"n_cols":42,"rows_kept":6,"cut":false,"hidden":true,"merged":[[0,1,0,41],[3,1,3,41],[4,11,4,23],[4,27,4,33],[4,40,4,41]]}
[null,{"$f":"CONCATENATE('Seznam účastníků'!B1,\", \",'Seznam účastníků'!B2:C2,\" - \",'Seznam účastníků'!B3)","v":"Mistrovství Královéhradeckého kraje, 26.4.2026 - Hradec Králové"}]
[]
[]
[null,"Nejmladší žáci (NŽH)"]
[null,null,null,null,null,null,null,null,null,null,null,"Trestné minuty",null,null,null,null,null,null,null,null,null,null,null,null,"Start","Cíl","V","Zdržení v sekundách",null,null,null,null,null,null,"Zdržení","Čas na trati","Výsledný čas","Body","VT","Postup","Diskvalifikace"]
[null,"Start. číslo","Pořadí","Přijmení","Jméno","Ročník","Oddíl","Přijmení","Jméno","Ročník","Oddíl",{"$f":"Nastavení!R13","v":"V"},{"$f":"Nastavení!S13","v":"S"},{"$f":"Nastavení!T13","v":"Oa"},{"$f":"Nastavení!U13","v":"Om"},{"$f":"Nastavení!V13","v":"LL"},{"$f":"Nastavení!W13","v":"U"},{"$f":"Nastavení!X13","v":"M"},{"$f":"Nastavení!Y13","v":"P"},{"$f":"Nastavení!Z13","v":"TT"},{"$f":"Nastavení!AA13","v":"D"},{"$f":"Nastavení!B24","v":"KPČ"},{"$f":"Nastavení!AE13","v":"Trať"},"TM",null,null,"[m]",{"$f":"L6","v":"V"},{"$f":"M6","v":"S"},{"$f":"O6","v":"Om"},{"$f":"P6","v":"LL"},{"$f":"Q6","v":"U"},{"$f":"R6","v":"M"},{"$f":"S6","v":"P"},null,null,null,null,null,null,null,"Důvod"]